{"text_format":"1","workbook":"xlsx","n_sheets":3,"sheets":["FPag","CalTab","Recept"],"not_rendered":{"charts":0,"images":2,"macros":1,"external_links":0,"defined_names":0,"comments":1,"pivot_tables":0},"unopened":[],"bounds":{"document_bytes":16777216,"sheet_cells":100000,"rows_first":2000,"rows_last":500,"rows_between":2000,"halvings":0,"cell_chars":16384,"cell_head_chars":4096},"cells_cut":0,"cells_raw":0,"read":"whole","date_system":"1900"}

{"sheet":"FPag","index":0,"n_rows":0,"n_cols":0,"rows_kept":0,"cut":false,"hidden":false,"merged":[]}

{"sheet":"CalTab","index":1,"n_rows":992,"n_cols":8,"rows_kept":992,"cut":false,"hidden":false,"merged":[[1,1,1,2]]}
["Calorieëntabel"]
["Ingredieënt","Eenheid",null,"Kcal","Eiwit","Koolh.","Vet","kJ"]
["aalbessen",100,"g",{"$f":"0.24*B3","v":24},{"$f":"0.01*B3","v":1},{"$f":"0.05*B3","v":5},0,{"$f":"D3*4.1868","v":100.4832}]
["aardappelen",100,"g",{"$f":"0.848*B4","v":84.8},{"$f":"0.026*B4","v":2.6},{"$f":"0.186*B4","v":18.600000000000001},0,355.04064]
["aardappelkroketten",100,"g",{"$f":"3.56*B5","v":356},{"$f":"0.34*B5","v":34},{"$f":"0.282*B5","v":28.199999999999996},{"$f":"0.12*B5","v":12},1490.5008]
["aardappelpuree",100,"g",{"$f":"1*B6","v":100},{"$f":"0.028*B6","v":2.8000000000000003},{"$f":"0.11*B6","v":11},{"$f":"0.05*B6","v":5},418.68]
["aardappelschijfjes",100,"g",{"$f":"1.36*B7","v":136},{"$f":"0.02*B7","v":2},{"$f":"0.205*B7","v":20.5},{"$f":"0.05*B7","v":5},569.40480000000002]
["aardappelschijfjes (Aviko)",100,"g",{"$f":"1.25*B8","v":125},{"$f":"0.03*B8","v":3},{"$f":"0.185*B8","v":18.5},{"$f":"0.04*B8","v":4},523.35]
["aardappelschijfjes (CêlaVita)",100,"g",{"$f":"0.8*B9","v":80},{"$f":"0.22*B9","v":22},{"$f":"0.179*B9","v":17.899999999999999},{"$f":"0*B9","v":0},334.94399999999996]
["aardappelschijfjes (Colruyt)",100,"g",{"$f":"1.44*B10","v":144},{"$f":"0.024*B10","v":2.4},{"$f":"0.224*B10","v":22.400000000000002},{"$f":"0.05*B10","v":5},602.89919999999995]
["aardappelschijfjes (McCain)",100,"g",{"$f":"1.37*B11","v":137},{"$f":"0.022*B11","v":2.1999999999999997},{"$f":"0.207*B11","v":20.7},{"$f":"0.05*B11","v":5},573.59159999999997]
["aardappelschijfjes (Oerlemans)",100,"g",{"$f":"1.46*B12","v":146},{"$f":"0.03*B12","v":3},{"$f":"0.22*B12","v":22},{"$f":"0*B12","v":0},611.27279999999996]
["aardappelschijfjes (o'Lacy's)",100,"g",{"$f":"1.27*B13","v":127},{"$f":"0.02*B13","v":2},{"$f":"0.2*B13","v":20},{"$f":"0.04*B13","v":4},531.72360000000003]
["aardappelsoesje",100,"g",{"$f":"1.88*B14","v":188},{"$f":"0.053*B14","v":5.3},{"$f":"0.164*B14","v":16.400000000000002},{"$f":"0.112*B14","v":11.200000000000001},787.11839999999995]
["aardappelzetmeel",100,"g",{"$f":"3.37*B15","v":337},{"$f":"0.005*B15","v":0.5},{"$f":"0.838*B15","v":83.8},{"$f":"0.001*B15","v":0.1},1410.9515999999999]
["aardbeien",100,"g",{"$f":"0.24*B16","v":24},{"$f":"0.01*B16","v":1},{"$f":"0.05*B16","v":5},0,100.4832]
["abrikoos",1,"st",{"$f":"20*B17","v":20},0,{"$f":"5*B17","v":5},0,83.73599999999999]
["abrikozen-gebakje (vitalinea)",1,"st",{"$f":"102*B18","v":102},{"$f":"1.4*B18","v":1.4},{"$f":"18*B18","v":18},{"$f":"2.6*B18","v":2.6},427.05359999999996]
["all bran",100,"g",{"$f":"2.67*B19","v":267},{"$f":"0.14*B19","v":14.000000000000002},{"$f":"0.46*B19","v":46},{"$f":"0.03*B19","v":3},1117.8755999999998]
["amandelbroodje",100,"g",{"$f":"4.63*B20","v":463},{"$f":"0.076*B20","v":7.6},{"$f":"0.43*B20","v":43},{"$f":"0.289*B20","v":28.9},1938.4884]
["amandelen",100,"g",{"$f":"5.78*B21","v":578},{"$f":"0.183*B21","v":18.3},{"$f":"0.043*B21","v":4.3},{"$f":"0.542*B21","v":54.2},2419.9703999999997]
["americain",100,"g",{"$f":"1.25*B22","v":125},{"$f":"0.2*B22","v":20},0,{"$f":"0.05*B22","v":5},523.35]
["americain prepare",100,"g",{"$f":"2.44*B23","v":244},{"$f":"0.16*B23","v":16},{"$f":"0*B23","v":0},{"$f":"0.2*B23","v":20},1021.5792]
["amsoi (gekookt)",100,"g",{"$f":"0.28*B24","v":28.000000000000004},{"$f":"0.02*B24","v":2},{"$f":"0.05*B24","v":5},0,117.23040000000002]
["ananas",100,"g",{"$f":"0.88*B25","v":88},{"$f":"0*B25","v":0},{"$f":"0.22*B25","v":22},0,368.4384]
["andijvie",100,"g",{"$f":"0.17*B26","v":17},{"$f":"0.018*B26","v":1.7999999999999998},{"$f":"0.021*B26","v":2.1},{"$f":"0.002*B26","v":0.2},71.175600000000003]
["anijshagel",100,"g",{"$f":"3.93*B27","v":393},{"$f":"0.001*B27","v":0.1},{"$f":"0.982*B27","v":98.2},0,1645.4123999999999]
["ansjovis in olie",100,"g",{"$f":"1.89*B28","v":189},{"$f":"0.18*B28","v":18},{"$f":"0*B28","v":0},{"$f":"0.13*B28","v":13},791.30520000000001]
["appel",1,"st",{"$f":"60*B29","v":60},{"$f":"1*B29","v":1},{"$f":"14*B29","v":14},0,251.208]
["appelbeignet",100,"g",{"$f":"1.9*B30","v":190},{"$f":"0.026*B30","v":2.6},{"$f":"0.186*B30","v":18.600000000000001},{"$f":"0.117*B30","v":11.700000000000001},795.49199999999996]
["appelcarre",100,"g",{"$f":"3.18*B31","v":318},{"$f":"0.037*B31","v":3.6999999999999997},{"$f":"0.386*B31","v":38.6},{"$f":"0.166*B31","v":16.600000000000001},1331.4023999999999]
["appelflap",1,"st",{"$f":"146*B32","v":146},{"$f":"2*B32","v":2},{"$f":"12*B32","v":12},{"$f":"10*B32","v":10},611.27279999999996]
["appelmoes  ",100,"g",{"$f":"0.76*B33","v":76},0,{"$f":"0.19*B33","v":19},0,318.1968]
["appelsap","100","ml",{"$f":"0.48*B34","v":48},{"$f":"0.001*B34","v":0.1},{"$f":"0.119*B34","v":11.899999999999999},{"$f":"0*B34","v":0},200.96639999999999]
["appelstroop  ",1,"el",{"$f":"44*B35","v":44},0,{"$f":"11*B35","v":11},0,184.2192]
["appeltaart",100,"g",{"$f":"2.34*B36","v":234},{"$f":"0.036*B36","v":3.5999999999999996},{"$f":"0.386*B36","v":38.6},{"$f":"0.072*B36","v":7.1999999999999993},979.71119999999996]
["aquarius",1,"kblk",{"$f":"95*B37","v":95},0,{"$f":"23.7*B37","v":23.7},0,397.74599999999998]
["artisjok",100,"g",{"$f":"0.59*B38","v":59},{"$f":"0.024*B38","v":2.4},{"$f":"0.122*B38","v":12.2},{"$f":"0.001*B38","v":0.1},247.02119999999999]
["asperges",100,"g",{"$f":"0.16*B39","v":16},{"$f":"0.01*B39","v":1},{"$f":"0.03*B39","v":3},0,66.988799999999998]
["atjar tjampoer",100,"g",{"$f":"0.24*B40","v":24},{"$f":"0.01*B40","v":1},{"$f":"0.05*B40","v":5},0,100.4832]
["aubergine",100,"g",{"$f":"0.24*B41","v":24},{"$f":"0.01*B41","v":1},{"$f":"0.05*B41","v":5},0,100.4832]
["augurken",100,"g",{"$f":"0.18*B42","v":18},{"$f":"0.009*B42","v":0.89999999999999991},{"$f":"0.036*B42","v":3.5999999999999996},0,75.362399999999994]
["avocado",1,"st",{"$f":"226*B43","v":226},{"$f":"4*B43","v":4},{"$f":"12*B43","v":12},{"$f":"18*B43","v":18},946.21679999999992]
["azijn - cider","100","g",{"$f":"0.14*B44","v":14.000000000000002},{"$f":"0*B44","v":0},{"$f":"0.059*B44","v":5.8999999999999995},{"$f":"0*B44","v":0},58.615200000000009]
["azijn - natuur","100","g",{"$f":"0*B45","v":0},{"$f":"0*B45","v":0},{"$f":"0*B45","v":0},{"$f":"0*B45","v":0},0]
["babi pangang",100,"g",{"$f":"2.17*B46","v":217},{"$f":"0.136*B46","v":13.600000000000001},{"$f":"0.039*B46","v":3.9},{"$f":"0.164*B46","v":16.400000000000002},{"$f":"D46*4.1868","v":908.53559999999993}]
["babybel bonbel",100,"g",{"$f":"3.14*B47","v":314},{"$f":"0.226*B47","v":22.6},{"$f":"0.001*B47","v":0.1},{"$f":"0.248*B47","v":24.8},1314.6551999999999]
["bacon",100,"g",{"$f":"4.3*B48","v":430},{"$f":"0.13*B48","v":13},{"$f":"0*B48","v":0},{"$f":"0.42*B48","v":42},1800.3239999999998]
["bak- en braadvet",100,"g",{"$f":"8.76*B49","v":876},{"$f":"0.003*B49","v":0.3},0,{"$f":"0.973*B49","v":97.3},3667.6367999999998]
["bakbokking",100,"g",{"$f":"3.34*B50","v":334},{"$f":"0.216*B50","v":21.6},{"$f":"0.03*B50","v":3},{"$f":"0.262*B50","v":26.200000000000003},1398.3912]
["baklava",100,"g",{"$f":"4.35*B51","v":434.99999999999994},{"$f":"0.042*B51","v":4.2},{"$f":"0.537*B51","v":53.7},{"$f":"0.227*B51","v":22.7},1821.2579999999998]
["balisto",1,"st",{"$f":"223*B52","v":223},{"$f":"4*B52","v":4},{"$f":"27*B52","v":27},{"$f":"11*B52","v":11},933.65639999999996]
["bambix",100,"g",{"$f":"3.44*B53","v":344},{"$f":"0.095*B53","v":9.5},{"$f":"0.72*B53","v":72},{"$f":"0.02*B53","v":2},1440.2592]
["bamboespruiten",100,"g",{"$f":"0.32*B54","v":32},{"$f":"0.02*B54","v":2},{"$f":"0.06*B54","v":6},0,133.9776]
["bami goreng",100,"g",{"$f":"1.45*B55","v":145},{"$f":"0.06*B55","v":6},{"$f":"0.19*B55","v":19},{"$f":"0.05*B55","v":5},607.08600000000001]
["bamibal",100,"g",{"$f":"2.74*B56","v":274},{"$f":"0.07*B56","v":7.0000000000000009},{"$f":"0.3*B56","v":30},{"$f":"0.14*B56","v":14.000000000000002},1147.1831999999999]
["banaan",1,"st",{"$f":"124*B57","v":124},{"$f":"1*B57","v":1},{"$f":"30*B57","v":30},0,519.16319999999996]
["banketbakkersroom",100,"g",{"$f":"1.45*B58","v":145},{"$f":"0.039*B58","v":3.9},{"$f":"0.232*B58","v":23.200000000000003},{"$f":"0.041*B58","v":4.1000000000000005},607.08600000000001]
["banketstaaf",100,"g",{"$f":"4.62*B59","v":462},{"$f":"0.076*B59","v":7.6},{"$f":"0.43*B59","v":43},{"$f":"0.289*B59","v":28.9},1934.3016]
["barbecuesaus",100,"g",{"$f":"0.92*B60","v":92},{"$f":"0.01*B60","v":1},{"$f":"0.22*B60","v":22},0,385.18559999999997]
["basterdsuiker",100,"g",{"$f":"3.8*B61","v":380},0,{"$f":"0.95*B61","v":95},0,1590.9839999999999]
["bayonne-ham",100,"g",{"$f":"2.59*B62","v":259},{"$f":"0.24*B62","v":24},{"$f":"0.002*B62","v":0.2},{"$f":"0.18*B62","v":18},1084.3812]
["berehap. bereklauw",100,"g",{"$f":"2.52*B63","v":252},{"$f":"0.097*B63","v":9.7000000000000011},{"$f":"0.094*B63","v":9.4},{"$f":"0.195*B63","v":19.5},1055.0735999999999]
["berlinerbol",100,"g",{"$f":"3.86*B64","v":386},{"$f":"0.055*B64","v":5.5},{"$f":"0.391*B64","v":39.1},{"$f":"0.231*B64","v":23.1},1616.1047999999998]
["beschuit",100,"g",{"$f":"3.79*B65","v":379},{"$f":"0.099*B65","v":9.9},{"$f":"0.755*B65","v":75.5},{"$f":"0.042*B65","v":4.2},1586.7972]
["bichoc delacre",100,"g",{"$f":"4.65*B66","v":465.00000000000006},{"$f":"0.053*B66","v":5.3},{"$f":"0.725*B66","v":72.5},{"$f":"0.171*B66","v":17.100000000000001},1946.8620000000001]
["bieflap",100,"g",{"$f":"1.68*B67","v":168},{"$f":"0.278*B67","v":27.800000000000004},{"$f":"0.008*B67","v":0.8},{"$f":"0.06*B67","v":6},703.38239999999996]
["biefstuk",100,"g",{"$f":"1.15*B68","v":114.99999999999999},{"$f":"0.22*B68","v":22},{"$f":"0*B68","v":0},{"$f":"0.03*B68","v":3},481.48199999999991]
["bier Belle-vue Gueuse",1,"fl",{"$f":"125*B69","v":125},{"$f":"0*B69","v":0},{"$f":"0*B69","v":0},{"$f":"0*B69","v":0},523.35]
["bierworstje. bifiworstje",100,"g",{"$f":"4.02*B70","v":401.99999999999994},{"$f":"0.191*B70","v":19.100000000000001},{"$f":"0.009*B70","v":0.89999999999999991},{"$f":"0.358*B70","v":35.799999999999997},1683.0935999999997]
["bieslook",100,"g",{"$f":"0.57*B71","v":56.999999999999993},{"$f":"0.04*B71","v":4},{"$f":"0.08*B71","v":8},{"$f":"0.01*B71","v":1},238.64759999999995]
["bieten",100,"g",{"$f":"0.2*B72","v":20},{"$f":"0.02*B72","v":2},{"$f":"0.03*B72","v":3},0,83.73599999999999]
["big mac (mcdonalds)",1,"st",{"$f":"505*B73","v":505},{"$f":"25.7*B73","v":25.7},{"$f":"43.4*B73","v":43.4},{"$f":"25.4*B73","v":25.4},2114.3339999999998]
["biogarde (halfvol)",100,"g",{"$f":"0.5*B74","v":50},{"$f":"0.043*B74","v":4.3},{"$f":"0.047*B74","v":4.7},{"$f":"0.015*B74","v":1.5},209.34]
["biogarde mager",100,"g",{"$f":"0.33*B75","v":33},{"$f":"0.04*B75","v":4},{"$f":"0.04*B75","v":4},{"$f":"0.001*B75","v":0.1},138.1644]
["biogarde natuur",100,"g",{"$f":"0.57*B76","v":56.999999999999993},{"$f":"0.046*B76","v":4.5999999999999996},{"$f":"0.063*B76","v":6.3},{"$f":"0.015*B76","v":1.5},238.64759999999995]
["biogarde vol",100,"g",{"$f":"0.56*B77","v":56.000000000000007},{"$f":"0.034*B77","v":3.4000000000000004},{"$f":"0.035*B77","v":3.5000000000000004},{"$f":"0.032*B77","v":3.2},234.46080000000003]
["bisc & bounty",100,"g",{"$f":"5.39*B78","v":539},{"$f":"0.049*B78","v":4.9000000000000004},{"$f":"0.559*B78","v":55.900000000000006},{"$f":"0.329*B78","v":32.9},2256.6851999999999]
["bisc & mars",100,"g",{"$f":"5.23*B79","v":523},{"$f":"0.053*B79","v":5.3},{"$f":"0.614*B79","v":61.4},{"$f":"0.285*B79","v":28.499999999999996},2189.6963999999998]
["bisc & snickers",100,"g",{"$f":"5.36*B80","v":536},{"$f":"0.078*B80","v":7.8},{"$f":"0.53*B80","v":53},{"$f":"0.325*B80","v":32.5},2244.1248000000001]
["bisc & twix",100,"g",{"$f":"5.18*B81","v":518},{"$f":"0.054*B81","v":5.4},{"$f":"0.616*B81","v":61.6},{"$f":"0.278*B81","v":27.800000000000004},2168.7624000000001]
["biscuitje (groot)",100,"g",{"$f":"4.32*B82","v":432},{"$f":"0.088*B82","v":8.7999999999999989},{"$f":"0.767*B82","v":76.7},{"$f":"0.101*B82","v":10.100000000000001},1808.6976]
["bitterbal",100,"g",{"$f":"2.32*B83","v":231.99999999999997},{"$f":"0.107*B83","v":10.7},{"$f":"0.169*B83","v":16.900000000000002},{"$f":"0.136*B83","v":13.600000000000001},971.33759999999984]
["bizonsteak",100,"g",{"$f":"1.01*B84","v":101},{"$f":"0.23*B84","v":23},{"$f":"0*B84","v":0},{"$f":"0.01*B84","v":1},422.86680000000001]
["bladerdeeg",100,"g",{"$f":"3.9*B85","v":390},{"$f":"0.07*B85","v":7.0000000000000009},{"$f":"0.41*B85","v":41},{"$f":"0.22*B85","v":22},1632.8519999999999]
["bleekselderij",100,"g",{"$f":"0.24*B86","v":24},{"$f":"0.02*B86","v":2},{"$f":"0.04*B86","v":4},0,100.4832]
["blinde vink",100,"g",{"$f":"1.89*B87","v":189},{"$f":"0.256*B87","v":25.6},{"$f":"0.012*B87","v":1.2},{"$f":"0.091*B87","v":9.1},791.30520000000001]
["bloem",100,"g",{"$f":"3.33*B88","v":333},{"$f":"0.11*B88","v":11},{"$f":"0.7*B88","v":70},{"$f":"0.01*B88","v":1},1394.2043999999999]
["bloemkool",100,"g",{"$f":"0.2*B89","v":20},{"$f":"0.02*B89","v":2},{"$f":"0.03*B89","v":3},0,83.73599999999999]
["blue",100,"g",{"$f":"3.53*B90","v":353},{"$f":"0.211*B90","v":21.099999999999998},{"$f":"0*B90","v":0},{"$f":"0.298*B90","v":29.799999999999997},1477.9404]
["bluefort",100,"g",{"$f":"3.54*B91","v":354},{"$f":"0.2*B91","v":20},{"$f":"0.01*B91","v":1},{"$f":"0.3*B91","v":30},1482.1271999999999]
["boerenkool",100,"g",{"$f":"0.41*B92","v":41},{"$f":"0.04*B92","v":4},{"$f":"0.04*B92","v":4},{"$f":"0.01*B92","v":1},171.65879999999999]
["boerenkoolstamppot",100,"g",{"$f":"0.89*B93","v":89},{"$f":"0.027*B93","v":2.7},{"$f":"0.107*B93","v":10.7},{"$f":"0.039*B93","v":3.9},372.62520000000001]
["boerenpate",100,"g",{"$f":"3.08*B94","v":308},{"$f":"0.15*B94","v":15},{"$f":"0.025*B94","v":2.5},{"$f":"0.264*B94","v":26.400000000000002},1289.5344]
["bokkepoot",100,"g",{"$f":"4.46*B95","v":446},{"$f":"0.16*B95","v":16},{"$f":"0.55*B95","v":55.000000000000007},{"$f":"0.18*B95","v":18},1867.3127999999999]
["bokking. gerookt",100,"g",{"$f":"2.36*B96","v":236},{"$f":"0.23*B96","v":23},0,{"$f":"0.16*B96","v":16},988.08479999999997]
["bokking. gestoomd",100,"g",{"$f":"2.33*B97","v":233},{"$f":"0.212*B97","v":21.2},{"$f":"0.005*B97","v":0.5},{"$f":"0.162*B97","v":16.2},975.52440000000001]
["bonbon",100,"g",{"$f":"4.09*B98","v":409},{"$f":"0.045*B98","v":4.5},{"$f":"0.628*B98","v":62.8},{"$f":"0.156*B98","v":15.6},1712.4012]
["bonbon (met likeur)",100,"g",{"$f":"3.51*B99","v":351},{"$f":"0.03*B99","v":3},{"$f":"0.422*B99","v":42.199999999999996},{"$f":"0.189*B99","v":18.899999999999999},1469.5668000000001]
["bonen",100,"g",{"$f":"2.66*B100","v":266},{"$f":"0.2*B100","v":20},{"$f":"0.43*B100","v":43},{"$f":"0.015*B100","v":1.5},1113.6887999999999]
["borrelnootjes",100,"g",{"$f":"5.18*B101","v":518},{"$f":"0.15*B101","v":15},{"$f":"0.45*B101","v":45},{"$f":"0.31*B101","v":31},2168.7624000000001]
["borstplaat. room-",100,"g",{"$f":"3.28*B102","v":328},{"$f":"0.008*B102","v":0.8},{"$f":"0.722*B102","v":72.2},{"$f":"0.041*B102","v":4.1000000000000005},1373.2703999999999]
["borstplaat. water-",100,"g",{"$f":"3.8*B103","v":380},0,{"$f":"0.95*B103","v":95},0,1590.9839999999999]
["bosbessen",100,"g",{"$f":"0.35*B104","v":35},{"$f":"0.003*B104","v":0.3},{"$f":"0.074*B104","v":7.3999999999999995},{"$f":"0.005*B104","v":0.5},146.53799999999998]
["bosbessen op siroop",100,"g",{"$f":"1.28*B105","v":128},{"$f":"0.01*B105","v":1},{"$f":"0.31*B105","v":31},0,535.91039999999998]
["bossche bol",100,"g",{"$f":"3.49*B106","v":349},{"$f":"0.045*B106","v":4.5},{"$f":"0.21*B106","v":21},{"$f":"0.274*B106","v":27.400000000000002},1461.1931999999999]
["boter",10,"g",{"$f":"7.5*B107","v":75},{"$f":"0.01*B107","v":0.1},{"$f":"0.01*B107","v":0.1},{"$f":"0.82*B107","v":8.1999999999999993},314.01]
["boter (gezouten)",100,"g",{"$f":"7.61*B108","v":761},{"$f":"0.009*B108","v":0.89999999999999991},0,{"$f":"0.842*B108","v":84.2},3186.1547999999998]
["boter. halfvol",100,"g",{"$f":"3.9*B109","v":390},{"$f":"0.063*B109","v":6.3},{"$f":"0.003*B109","v":0.3},{"$f":"0.405*B109","v":40.5},1632.8519999999999]
["boter. ongezouten",100,"g",{"$f":"7.63*B110","v":763},{"$f":"0.042*B110","v":4.2},{"$f":"0.011*B110","v":1.0999999999999999},{"$f":"0.825*B110","v":82.5},{"$f":"D110*4.1868","v":3194.5283999999997}]
["boterham, volkoren",1,"st",{"$f":"76*B111","v":76},{"$f":"3*B111","v":3},{"$f":"13.5*B111","v":13.5},{"$f":"1*B111","v":1},318.1968]
["boterhamworst",100,"g",{"$f":"3.35*B112","v":335},{"$f":"0.12*B112","v":12},{"$f":"0.04*B112","v":4},{"$f":"0.3*B112","v":30},1402.578]
["boterkoek",100,"g",{"$f":"5.15*B113","v":515},{"$f":"0.04*B113","v":4},{"$f":"0.55*B113","v":55.000000000000007},{"$f":"0.31*B113","v":31},2156.2019999999998]
["boterletter",100,"g",{"$f":"4.61*B114","v":461.00000000000006},{"$f":"0.076*B114","v":7.6},{"$f":"0.43*B114","v":43},{"$f":"0.289*B114","v":28.9},1930.1148000000001]
["boudoir",100,"g",{"$f":"3.95*B115","v":395},{"$f":"0.074*B115","v":7.3999999999999995},{"$f":"0.84*B115","v":84},{"$f":"0.033*B115","v":3.3000000000000003},1653.7859999999998]
["bounty",1,"st",{"$f":"243*B116","v":243},{"$f":"3*B116","v":3},{"$f":"24*B116","v":24},{"$f":"15*B116","v":15},1017.3924]
["boursin",100,"g",{"$f":"4.18*B117","v":418},{"$f":"0.1*B117","v":10},{"$f":"0.01*B117","v":1},{"$f":"0.415*B117","v":41.5},1750.0824]
["braadharing",100,"g",{"$f":"2.19*B118","v":219},{"$f":"0.17*B118","v":17},{"$f":"0.04*B118","v":4},{"$f":"0.15*B118","v":15},916.90919999999994]
["braadworst. varkens-",100,"g",{"$f":"3.08*B119","v":308},{"$f":"0.222*B119","v":22.2},{"$f":"0.009*B119","v":0.89999999999999991},{"$f":"0.24*B119","v":24},1289.5344]
["braambessen",100,"g",{"$f":"0.38*B120","v":38},{"$f":"0.012*B120","v":1.2},{"$f":"0.072*B120","v":7.1999999999999993},{"$f":"0.005*B120","v":0.5},159.0984]
["brado",100,"g",{"$f":"2.36*B121","v":236},{"$f":"0.23*B121","v":23},0,{"$f":"0.16*B121","v":16},988.08479999999997]
["bramen",100,"g",{"$f":"0.37*B122","v":37},{"$f":"0.01*B122","v":1},{"$f":"0.06*B122","v":6},{"$f":"0.01*B122","v":1},154.91159999999999]
["bran buds",100,"g",{"$f":"1*B123","v":100},{"$f":"0.036*B123","v":3.5999999999999996},{"$f":"0.189*B123","v":18.899999999999999},{"$f":"0.0107142857142857*B123","v":1.0714285714285701},418.68]
["bressot",100,"g",{"$f":"3.32*B124","v":332},{"$f":"0.085*B124","v":8.5},{"$f":"0.01*B124","v":1},{"$f":"0.327*B124","v":32.700000000000003},1390.0175999999999]
["brie ( 50+ )",100,"g",{"$f":"3.17*B125","v":317},{"$f":"0.22*B125","v":22},{"$f":"0.01*B125","v":1},{"$f":"0.25*B125","v":25},1327.2156]
["brie ( 60+ )",100,"g",{"$f":"3.65*B126","v":365},{"$f":"0.17*B126","v":17},0,{"$f":"0.33*B126","v":33},1528.182]
["brinta",100,"g",{"$f":"3.66*B127","v":366},{"$f":"0.12*B127","v":12},{"$f":"0.74*B127","v":74},{"$f":"0.025*B127","v":2.5},1532.3688]
["broccoli",100,"g",{"$f":"0.2*B128","v":20},{"$f":"0.02*B128","v":2},{"$f":"0.03*B128","v":3},0,83.73599999999999]
["brood (volkoren) ",100,"g",{"$f":"2.08*B129","v":208},{"$f":"0.057*B129","v":5.7},{"$f":"0.4*B129","v":40},{"$f":"0.028*B129","v":2.8000000000000003},870.85439999999994]
["brood (wit)  ",100,"g",{"$f":"2.26*B130","v":225.99999999999997},{"$f":"0.065*B130","v":6.5},{"$f":"0.5*B130","v":50},0,946.21679999999981]
["brood. gemiddeld",100,"g",{"$f":"2.4*B131","v":240},{"$f":"0.087*B131","v":8.6999999999999993},{"$f":"0.458*B131","v":45.800000000000004},{"$f":"0.025*B131","v":2.5},1004.832]
["broodje",1,"st",{"$f":"104*B132","v":104},{"$f":"3*B132","v":3},{"$f":"23*B132","v":23},0,435.42719999999997]
["broodje. bruin",100,"g",{"$f":"2.5*B133","v":250},{"$f":"0.095*B133","v":9.5},{"$f":"0.451*B133","v":45.1},{"$f":"0.035*B133","v":3.5000000000000004},1046.7]
["broodje. gemiddeld",100,"g",{"$f":"2.4*B134","v":240},{"$f":"0.087*B134","v":8.6999999999999993},{"$f":"0.458*B134","v":45.800000000000004},{"$f":"0.025*B134","v":2.5},1004.832]
["broodje. luxe wit",100,"g",{"$f":"2.94*B135","v":294},{"$f":"0.093*B135","v":9.3000000000000007},{"$f":"0.531*B135","v":53.1},{"$f":"0.05*B135","v":5},1230.9192]
["broodje. meergranen",100,"g",{"$f":"2.12*B136","v":212},{"$f":"0.084*B136","v":8.4},{"$f":"0.405*B136","v":40.5},{"$f":"0.018*B136","v":1.7999999999999998},887.60159999999996]
["broodje. muesli-",100,"g",{"$f":"2.73*B137","v":273},{"$f":"0.081*B137","v":8.1},{"$f":"0.523*B137","v":52.300000000000004},{"$f":"0.035*B137","v":3.5000000000000004},1142.9964]
["broodje. tarwe",100,"g",{"$f":"2.5*B138","v":250},{"$f":"0.095*B138","v":9.5},{"$f":"0.451*B138","v":45.1},{"$f":"0.035*B138","v":3.5000000000000004},1046.7]
["broodje. volkoren",100,"g",{"$f":"2.11*B139","v":211},{"$f":"0.084*B139","v":8.4},{"$f":"0.405*B139","v":40.5},{"$f":"0.018*B139","v":1.7999999999999998},883.41480000000001]
["broodje. wit",100,"g",{"$f":"2.59*B140","v":259},{"$f":"0.081*B140","v":8.1},{"$f":"0.52*B140","v":52},{"$f":"0.021*B140","v":2.1},1084.3812]
["bruinbrood",100,"g",{"$f":"2.5*B141","v":250},{"$f":"0.095*B141","v":9.5},{"$f":"0.451*B141","v":45.1},{"$f":"0.035*B141","v":3.5000000000000004},1046.7]
["bruine bonensoep",100,"g",{"$f":"0.46*B142","v":46},{"$f":"0.035*B142","v":3.5000000000000004},{"$f":"0.075*B142","v":7.5},{"$f":"0.003*B142","v":0.3},192.59279999999998]
["bulgaarse yoghurt (fruit)",100,"g",{"$f":"1.24*B143","v":124},{"$f":"0.05*B143","v":5},{"$f":"0.17*B143","v":17},{"$f":"0.04*B143","v":4},519.16319999999996]
["bulgaarse yoghurt (mager)",100,"g",{"$f":"0.48*B144","v":48},{"$f":"0.05*B144","v":5},{"$f":"0.06*B144","v":6},{"$f":"0.005*B144","v":0.5},200.96639999999999]
["bulgaarse yoghurt (vol)",100,"g",{"$f":"0.89*B145","v":89},{"$f":"0.048*B145","v":4.8},{"$f":"0.07*B145","v":7.0000000000000009},{"$f":"0.047*B145","v":4.7},372.62520000000001]
["cake",100,"g",{"$f":"4.46*B146","v":446},{"$f":"0.069*B146","v":6.9},{"$f":"0.448*B146","v":44.800000000000004},{"$f":"0.266*B146","v":26.6},1867.3127999999999]
["camembert 45%",100,"g",{"$f":"2.84*B147","v":284},{"$f":"0.25*B147","v":25},{"$f":"0.01*B147","v":1},{"$f":"0.2*B147","v":20},1189.0511999999999]
["camembert 50%",100,"g",{"$f":"3.14*B148","v":314},{"$f":"0.18*B148","v":18},{"$f":"0.02*B148","v":2},{"$f":"0.26*B148","v":26},1314.6551999999999]
["candybar. groot",100,"g",{"$f":"4.78*B149","v":478},{"$f":"0.059*B149","v":5.8999999999999995},{"$f":"0.632*B149","v":63.2},{"$f":"0.224*B149","v":22.400000000000002},2001.2903999999999]
["cantadou",100,"g",{"$f":"3.28*B150","v":328},{"$f":"0.06*B150","v":6},{"$f":"0.035*B150","v":3.5000000000000004},{"$f":"0.323*B150","v":32.300000000000004},1373.2703999999999]
["carre confiture",100,"g",{"$f":"4.01*B151","v":401},{"$f":"0.034*B151","v":3.4000000000000004},{"$f":"0.5*B151","v":50},{"$f":"0.208*B151","v":20.8},1678.9068]
["cashew-noten",100,"g",{"$f":"5.78*B152","v":578},{"$f":"0.18*B152","v":18},{"$f":"0.32*B152","v":32},{"$f":"0.42*B152","v":42},2419.9703999999997]
["casselerrib",100,"g",{"$f":"1.83*B153","v":183},{"$f":"0.18*B153","v":18},{"$f":"0.03*B153","v":3},{"$f":"0.11*B153","v":11},766.18439999999998]
["cervela",100,"g",{"$f":"3.87*B154","v":387},{"$f":"0.18*B154","v":18},0,{"$f":"0.35*B154","v":35},1620.2916]
["champignons",100,"g",{"$f":"0.16*B155","v":16},{"$f":"0.03*B155","v":3},{"$f":"0.01*B155","v":1},0,66.988799999999998]
["chavroux",100,"g",{"$f":"1.73*B156","v":173},{"$f":"0.1*B156","v":10},{"$f":"0.04*B156","v":4},{"$f":"0.13*B156","v":13},724.31639999999993]
["cheddar",100,"g",{"$f":"4.01*B157","v":401},{"$f":"0.26*B157","v":26},{"$f":"0*B157","v":0},{"$f":"0.33*B157","v":33},1678.9068]
["cheeseburger",100,"g",{"$f":"2.63*B158","v":263},{"$f":"0.15*B158","v":15},{"$f":"0.185*B158","v":18.5},{"$f":"0.143*B158","v":14.299999999999999},1101.1284000000001]
["cheeseburger (mcdonalds)",1,"st",{"$f":"298*B159","v":298},{"$f":"15.5*B159","v":15.5},{"$f":"32*B159","v":32},{"$f":"12*B159","v":12},1247.6664000000001]
["chili con carne",100,"g",{"$f":"1.45*B160","v":145},{"$f":"0.087*B160","v":8.6999999999999993},{"$f":"0.08*B160","v":8},{"$f":"0.087*B160","v":8.6999999999999993},607.08600000000001]
["chinese kool",100,"g",{"$f":"0.12*B161","v":12},{"$f":"0.012*B161","v":1.2},{"$f":"0.012*B161","v":1.2},{"$f":"0.003*B161","v":0.3},50.241599999999998]
["chipolatapudding",100,"g",{"$f":"2.25*B162","v":225},{"$f":"0.043*B162","v":4.3},{"$f":"0.241*B162","v":24.099999999999998},{"$f":"0.124*B162","v":12.4},942.03]
["chips  (light)",100,"g",{"$f":"5.02*B163","v":501.99999999999994},{"$f":"0.06*B163","v":6},{"$f":"0.61*B163","v":61},{"$f":"0.26*B163","v":26},2101.7735999999995]
["chips (naturel)",100,"g",{"$f":"5.44*B164","v":544},{"$f":"0.06*B164","v":6},{"$f":"0.49*B164","v":49},{"$f":"0.36*B164","v":36},2277.6192000000001]
["choco - puur (kwatta)",100,"g",{"$f":"5.67*B165","v":567},{"$f":"0.039*B165","v":3.9},{"$f":"0.511*B165","v":51.1},{"$f":"0.386*B165","v":38.6},2373.9155999999998]
["chocolade (melk)",100,"g",{"$f":"5.18*B166","v":518},{"$f":"0.066*B166","v":6.6000000000000005},{"$f":"0.547*B166","v":54.7},{"$f":"0.303*B166","v":30.3},2168.7624000000001]
["chocolade (melk)  ",100,"g",{"$f":"5.28*B167","v":528},{"$f":"0.08*B167","v":8},{"$f":"0.52*B167","v":52},{"$f":"0.32*B167","v":32},2210.6304]
["chocolade (met noten)",100,"g",{"$f":"6.08*B168","v":608},{"$f":"0.103*B168","v":10.299999999999999},{"$f":"0.3*B168","v":30},{"$f":"0.496*B168","v":49.6},2545.5744]
["chocolade (puur)",100,"g",{"$f":"5.07*B169","v":507},{"$f":"0.05*B169","v":5},{"$f":"0.51*B169","v":51},{"$f":"0.315*B169","v":31.5},2122.7075999999997]
["chocolade (puur)   ",100,"g",{"$f":"5.12*B170","v":512},{"$f":"0.04*B170","v":4},{"$f":"0.52*B170","v":52},{"$f":"0.32*B170","v":32},2143.6415999999999]
["chocoladebiscuit",100,"g",{"$f":"4.7*B171","v":470},{"$f":"0.069*B171","v":6.9},{"$f":"0.638*B171","v":63.800000000000004},{"$f":"0.208*B171","v":20.8},1967.7959999999998]
["chocoladehagelslag",100,"g",{"$f":"4.31*B172","v":430.99999999999994},{"$f":"0.061*B172","v":6.1},{"$f":"0.636*B172","v":63.6},{"$f":"0.169*B172","v":16.900000000000002},1804.5107999999998]
["chocoladekorrels",100,"g",{"$f":"4.37*B173","v":437},{"$f":"0.065*B173","v":6.5},{"$f":"0.635*B173","v":63.5},{"$f":"0.175*B173","v":17.5},1829.6315999999999]
["chocolademelk (halfvol)",100,"g",{"$f":"0.84*B174","v":84},{"$f":"0.037*B174","v":3.6999999999999997},{"$f":"0.133*B174","v":13.3},{"$f":"0.018*B174","v":1.7999999999999998},{"$f":"D174*4.1868","v":351.69119999999998}]
["chocolademelk (mager)",100,"g",{"$f":"0.58*B175","v":57.999999999999993},{"$f":"0.036*B175","v":3.5999999999999996},{"$f":"0.104*B175","v":10.4},{"$f":"0.003*B175","v":0.3},242.83439999999996]
["chocolademelk (vol)",100,"g",{"$f":"0.79*B176","v":79},{"$f":"0.034*B176","v":3.4000000000000004},{"$f":"0.111*B176","v":11.1},{"$f":"0.024*B176","v":2.4},330.75720000000001]
["chocolademousse",100,"g",{"$f":"2.52*B177","v":252},{"$f":"0.025*B177","v":2.5},{"$f":"0.263*B177","v":26.3},{"$f":"0.152*B177","v":15.2},1055.0735999999999]
["chocoladepasta",100,"g",{"$f":"5.78*B178","v":578},{"$f":"0.03*B178","v":3},{"$f":"0.56*B178","v":56.000000000000007},{"$f":"0.38*B178","v":38},2419.9703999999997]
["chocoladepudding",100,"g",{"$f":"1.25*B179","v":125},{"$f":"0.04*B179","v":4},{"$f":"0.2*B179","v":20},{"$f":"0.032*B179","v":3.2},523.35]
["chocoladesaus",100,"g",{"$f":"2.54*B180","v":254},{"$f":"0.02*B180","v":2},{"$f":"0.57*B180","v":56.999999999999993},{"$f":"0.02*B180","v":2},1063.4472000000001]
["chocoladevla (mager)",100,"g",{"$f":"0.77*B181","v":77},{"$f":"0.033*B181","v":3.3000000000000003},{"$f":"0.155*B181","v":15.5},{"$f":"0.002*B181","v":0.2},322.3836]
["chocoladevla (vol)",100,"g",{"$f":"0.86*B182","v":86},{"$f":"0.033*B182","v":3.3000000000000003},{"$f":"0.125*B182","v":12.5},{"$f":"0.026*B182","v":2.6},360.06479999999999]
["chocoladevlokken (melk)",100,"g",{"$f":"4.46*B183","v":446},{"$f":"0.08*B183","v":8},{"$f":"0.63*B183","v":63},{"$f":"0.18*B183","v":18},1867.3127999999999]
["chocoladevlokken (puur)",100,"g",{"$f":"4.29*B184","v":429},{"$f":"0.05*B184","v":5},{"$f":"0.64*B184","v":64},{"$f":"0.17*B184","v":17},1796.1371999999999]
["chocomousse danone",100,"g",{"$f":"0.91*B185","v":91},{"$f":"0.021*B185","v":2.1},{"$f":"0.122*B185","v":12.2},{"$f":"0.037*B185","v":3.6999999999999997},380.99879999999996]
["chocoprince",100,"g",{"$f":"4.82*B186","v":482},{"$f":"0.056*B186","v":5.6000000000000005},{"$f":"0.675*B186","v":67.5},{"$f":"0.211*B186","v":21.099999999999998},2018.0375999999999]
["citroen",1,"st",{"$f":"10*B187","v":10},{"$f":"0*B187","v":0},{"$f":"2.5*B187","v":2.5},0,41.867999999999995]
["citroengras",100,"g",{"$f":"0.99*B188","v":99},{"$f":"0.018*B188","v":1.7999999999999998},{"$f":"0.253*B188","v":25.3},{"$f":"0.005*B188","v":0.5},414.4932]
["citroenrasp",100,"g",{"$f":"0.47*B189","v":47},{"$f":"0.015*B189","v":1.5},{"$f":"0.16*B189","v":16},{"$f":"0.003*B189","v":0.3},196.77959999999999]
["citroensap",100,"ml",{"$f":"0.33*B190","v":33},{"$f":"0.004*B190","v":0.4},{"$f":"0.077*B190","v":7.7},{"$f":"0.004*B190","v":0.4},138.1644]
["cocktailsaus",100,"g",{"$f":"2.64*B191","v":264},{"$f":"0.01*B191","v":1},{"$f":"0.11*B191","v":11},{"$f":"0.24*B191","v":24},1105.3152]
["cognac",35,"ml",80,0,0,0,334.94399999999996]
["confiture",100,"g",{"$f":"2.62*B193","v":262},{"$f":"0.005*B193","v":0.5},{"$f":"0.65*B193","v":65},0,1096.9415999999999]
["corned beef",100,"g",{"$f":"2.89*B194","v":289},{"$f":"0.16*B194","v":16},0,{"$f":"0.25*B194","v":25},1209.9851999999998]
["cornetto",1,"st",{"$f":"262*B195","v":262},{"$f":"3.5*B195","v":3.5},{"$f":"26*B195","v":26},{"$f":"16*B195","v":16},1096.9415999999999]
["cornflakes",100,"g",{"$f":"3.81*B196","v":381},{"$f":"0.085*B196","v":8.5},{"$f":"0.84*B196","v":84},{"$f":"0.012*B196","v":1.2},1595.1707999999999]
["cottage cheese",100,"g",{"$f":"0.93*B197","v":93},{"$f":"0.112*B197","v":11.200000000000001},{"$f":"0.032*B197","v":3.2},{"$f":"0.039*B197","v":3.9},389.37239999999997]
["courgette",100,"g",{"$f":"0.06*B198","v":6},{"$f":"0.005*B198","v":0.5},{"$f":"0.01*B198","v":1},0,25.120799999999999]
["couscous",100,"g",{"$f":"1.33*B199","v":133},{"$f":"0.044*B199","v":4.3999999999999995},{"$f":"0.28*B199","v":28.000000000000004},{"$f":"0.004*B199","v":0.4},556.84439999999995]
["cracotte",100,"g",{"$f":"4.77*B200","v":476.99999999999994},{"$f":"0.11*B200","v":11},{"$f":"0.97*B200","v":97},{"$f":"0.05*B200","v":5},1997.1035999999997]
["cranberriecompote",100,"g",{"$f":"0.81*B201","v":81},0,{"$f":"0.203*B201","v":20.3},0,339.13079999999997]
["cream cracker",100,"g",{"$f":"4.65*B202","v":465.00000000000006},{"$f":"0.08*B202","v":8},{"$f":"0.7*B202","v":70},{"$f":"0.17*B202","v":17},1946.8620000000001]
["crème fraîche",100,"g",{"$f":"3.44*B203","v":344},{"$f":"0.022*B203","v":2.1999999999999997},{"$f":"0.03*B203","v":3},{"$f":"0.359*B203","v":35.9},1440.2592]
["cremetaart",100,"g",{"$f":"4.77*B204","v":476.99999999999994},{"$f":"0.05*B204","v":5},{"$f":"0.4*B204","v":40},{"$f":"0.33*B204","v":33},1997.1035999999997]
["croissant",1,"st",{"$f":"130*B205","v":130},{"$f":"4*B205","v":4},{"$f":"24*B205","v":24},{"$f":"2*B205","v":2},544.28399999999999]
["cruesli",100,"g",{"$f":"3.89*B206","v":389},{"$f":"0.106*B206","v":10.6},{"$f":"0.683*B206","v":68.300000000000011},{"$f":"0.082*B206","v":8.2000000000000011},1628.6651999999999]
["curryketchup",100,"g",{"$f":"1.04*B207","v":104},{"$f":"0.009*B207","v":0.89999999999999991},{"$f":"0.253*B207","v":25.3},0,435.42719999999997]
["custardpoeder",100,"g",{"$f":"3.4*B208","v":340},0,{"$f":"0.85*B208","v":85},0,1423.5119999999999]
["dadels ( vers )",100,"g",{"$f":"1.65*B209","v":165},{"$f":"0.02*B209","v":2},{"$f":"0.37*B209","v":37},{"$f":"0.01*B209","v":1},690.822]
["dadels (geconfijt)",100,"g",{"$f":"3*B210","v":300},{"$f":"0.02*B210","v":2},{"$f":"0.73*B210","v":73},0,1256.04]
["danette chocolade",100,"g",{"$f":"1.48*B211","v":148},{"$f":"0.049*B211","v":4.9000000000000004},{"$f":"0.212*B211","v":21.2},{"$f":"0.048*B211","v":4.8},619.64639999999997]
["danette vanille",100,"g",{"$f":"1.24*B212","v":124},{"$f":"0.047*B212","v":4.7},{"$f":"0.169*B212","v":16.900000000000002},{"$f":"0.042*B212","v":4.2},519.16319999999996]
["danish blue",100,"g",{"$f":"3.53*B213","v":353},{"$f":"0.2*B213","v":20},{"$f":"0.01*B213","v":1},{"$f":"0.3*B213","v":30},1477.9404]
["dextro-energie (tablet)",100,"g",{"$f":"3.64*B214","v":364},0,{"$f":"0.91*B214","v":91},0,1523.9951999999998]
["djoez",100,"g",{"$f":"0.51*B215","v":51},{"$f":"0.009*B215","v":0.89999999999999991},{"$f":"0.118*B215","v":11.799999999999999},{"$f":"0.001*B215","v":0.1},213.52679999999998]
["donut",100,"g",{"$f":"4.13*B216","v":413},{"$f":"0.062*B216","v":6.2},{"$f":"0.346*B216","v":34.599999999999994},{"$f":"0.278*B216","v":27.800000000000004},1729.1484]
["doperwten",100,"g",{"$f":"0.6*B217","v":60},{"$f":"0.05*B217","v":5},{"$f":"0.1*B217","v":10},0,251.208]
["doperwten en wortelen",100,"g",{"$f":"0.36*B218","v":36},{"$f":"0.033*B218","v":3.3000000000000003},{"$f":"0.058*B218","v":5.8000000000000007},0,150.72479999999999]
["dorade",100,"g",{"$f":"1.06*B219","v":106},{"$f":"0.175*B219","v":17.5},{"$f":"0*B219","v":0},{"$f":"0.04*B219","v":4},443.80079999999998]
["doritos nacho cheese",100,"g",{"$f":"5.26*B220","v":526},{"$f":"0.06*B220","v":6},{"$f":"0.58*B220","v":57.999999999999993},{"$f":"0.3*B220","v":30},2202.2568000000001]
["drinkyoghurt",100,"g",{"$f":"0.59*B221","v":59},{"$f":"0.03*B221","v":3},{"$f":"0.113*B221","v":11.3},{"$f":"0.002*B221","v":0.2},247.02119999999999]
["drop (engelse)",100,"g",{"$f":"3.62*B222","v":362},{"$f":"0.04*B222","v":4},{"$f":"0.82*B222","v":82},{"$f":"0.02*B222","v":2},1515.6215999999999]
["drop (gemiddeld)",100,"g",{"$f":"3.09*B223","v":309},{"$f":"0.043*B223","v":4.3},{"$f":"0.73*B223","v":73},0,1293.7212]
["drop (zoete)",100,"g",{"$f":"3.48*B224","v":348},{"$f":"0.1*B224","v":10},{"$f":"0.77*B224","v":77},0,1457.0064]
["drop (zoute)",100,"g",{"$f":"3.36*B225","v":336},{"$f":"0.09*B225","v":9},{"$f":"0.75*B225","v":75},0,1406.7647999999999]
["druiven",100,"g",{"$f":"0.66*B226","v":66},{"$f":"0.005*B226","v":0.5},{"$f":"0.16*B226","v":16},0,276.3288]
["dubbeldrank",100,"g",{"$f":"0.52*B227","v":52},{"$f":"0.003*B227","v":0.3},{"$f":"0.128*B227","v":12.8},0,217.71359999999999]
["edammer",100,"g",{"$f":"3.14*B228","v":314},{"$f":"0.28*B228","v":28.000000000000004},{"$f":"0.01*B228","v":1},{"$f":"0.22*B228","v":22},1314.6551999999999]
["eend",100,"g",{"$f":"2.17*B229","v":217},{"$f":"0.183*B229","v":18.3},{"$f":"0*B229","v":0},{"$f":"0.16*B229","v":16},908.53559999999993]
["eendenfilet",100,"g",{"$f":"3.41*B230","v":341},{"$f":"0.2*B230","v":20},0,{"$f":"0.29*B230","v":28.999999999999996},1427.6987999999999]
["ei",1,"st",{"$f":"82*B231","v":82},{"$f":"7*B231","v":7},{"$f":"0*B231","v":0},{"$f":"6*B231","v":6},343.31759999999997]
["ei-eiwit",1,"st",{"$f":"16*B232","v":16},{"$f":"4*B232","v":4},0,0,66.988799999999998]
["eierkoek   ",1,"st",{"$f":"85*B233","v":85},{"$f":"1*B233","v":1},{"$f":"18*B233","v":18},{"$f":"1*1","v":1},355.87799999999999]
["eiersalade",100,"g",{"$f":"2.46*B234","v":246},{"$f":"0.064*B234","v":6.4},{"$f":"0.083*B234","v":8.3000000000000007},{"$f":"0.209*B234","v":20.9},1029.9528]
["emmental",100,"g",{"$f":"3.9*B235","v":390},{"$f":"0.27*B235","v":27},{"$f":"0.03*B235","v":3},{"$f":"0.3*B235","v":30},1632.8519999999999]
["entrecote",100,"g",{"$f":"1.89*B236","v":189},{"$f":"0.256*B236","v":25.6},{"$f":"0.012*B236","v":1.2},{"$f":"0.091*B236","v":9.1},791.30520000000001]
["erwten",100,"g",{"$f":"0.81*B237","v":81},{"$f":"0.065*B237","v":6.5},{"$f":"0.126*B237","v":12.6},{"$f":"0.005*B237","v":0.5},339.13079999999997]
["erwten & wortelen",100,"g",{"$f":"0.45*B238","v":45},{"$f":"0.03*B238","v":3},{"$f":"0.073*B238","v":7.3},{"$f":"0.004*B238","v":0.4},{"$f":"D238*4.1868","v":188.40600000000001}]
["evergreen",1,"st",{"$f":"73*B239","v":73},{"$f":"2*B239","v":2},{"$f":"13*B239","v":13},{"$f":"1.5*B239","v":1.5},305.63639999999998]
["evergreen (krenten)",100,"g",{"$f":"3.73*B240","v":373},{"$f":"0.09*B240","v":9},{"$f":"0.73*B240","v":73},{"$f":"0.05*B240","v":5},1561.6764000000001]
["extran eiwitdrank",100,"g",{"$f":"0.98*B241","v":98},{"$f":"0.125*B241","v":12.5},{"$f":"0.115*B241","v":11.5},{"$f":"0.003*B241","v":0.3},410.3064]
["extran energiedrank",100,"g",{"$f":"1.6*B242","v":160},0,{"$f":"0.4*B242","v":40},0,669.88799999999992]
["extran energiereep m. muesli",100,"g",{"$f":"3.67*B243","v":367},{"$f":"0.056*B243","v":5.6000000000000005},{"$f":"0.76*B243","v":76},{"$f":"0.045*B243","v":4.5},1536.5555999999999]
["extran hypotone dorstlesser",100,"g",{"$f":"0.16*B244","v":16},0,{"$f":"0.041*B244","v":4.1000000000000005},0,66.988799999999998]
["feta",100,"g",{"$f":"2.48*B245","v":248},{"$f":"0.156*B245","v":15.6},{"$f":"0.015*B245","v":1.5},{"$f":"0.2*B245","v":20},1038.3263999999999]
["filet americain",100,"g",{"$f":"1.61*B246","v":161},{"$f":"0.185*B246","v":18.5},{"$f":"0.022*B246","v":2.1999999999999997},{"$f":"0.087*B246","v":8.6999999999999993},674.07479999999998]
["filet d'anvers",100,"g",{"$f":"1.58*B247","v":158},{"$f":"0.26*B247","v":26},{"$f":"0*B247","v":0},{"$f":"0.06*B247","v":6},661.51440000000002]
["filet de york",100,"g",{"$f":"1.46*B248","v":146},{"$f":"0.22*B248","v":22},{"$f":"0.01*B248","v":1},{"$f":"0.06*B248","v":6},611.27279999999996]
["finess room (gervais)",100,"g",{"$f":"2.1*B249","v":210},{"$f":"0.027*B249","v":2.7},{"$f":"0.048*B249","v":4.8},{"$f":"0.2*B249","v":20},879.22799999999995]
["fishsticks",100,"g",{"$f":"2.28*B250","v":227.99999999999997},{"$f":"0.18*B250","v":18},{"$f":"0.12*B250","v":12},{"$f":"0.12*B250","v":12},954.59039999999982]
["flantaart",100,"g",{"$f":"2.27*B251","v":227},{"$f":"0.06*B251","v":6},{"$f":"0.315*B251","v":31.5},{"$f":"0.085*B251","v":8.5},950.40359999999998]
["flensje",100,"g",{"$f":"1.57*B252","v":157},{"$f":"0.064*B252","v":6.4},{"$f":"0.184*B252","v":18.399999999999999},{"$f":"0.065*B252","v":6.5},657.32759999999996]
["foe yung hai",100,"g",{"$f":"1.27*B253","v":127},{"$f":"0.057*B253","v":5.7},{"$f":"0.077*B253","v":7.7},{"$f":"0.082*B253","v":8.2000000000000011},531.72360000000003]
["forel  ",100,"g",{"$f":"0.99*B254","v":99},{"$f":"0.18*B254","v":18},{"$f":"0*B254","v":0},{"$f":"0.03*B254","v":3},414.4932]
["frambozen",100,"g",{"$f":"0.3*B255","v":30},{"$f":"0.013*B255","v":1.3},{"$f":"0.056*B255","v":5.6000000000000005},{"$f":"0.003*B255","v":0.3},125.604]
["frambozen op siroop",100,"g",{"$f":"0.92*B256","v":92},0,{"$f":"0.23*B256","v":23},0,385.18559999999997]
["frangipane",100,"g",{"$f":"4.78*B257","v":478},{"$f":"0.05*B257","v":5},{"$f":"0.65*B257","v":65},{"$f":"0.22*B257","v":22},2001.2903999999999]
["fricandeau (varkens)",100,"g",{"$f":"1.51*B258","v":151},{"$f":"0.312*B258","v":31.2},0,{"$f":"0.029*B258","v":2.9000000000000004},632.20679999999993]
["friese nagelkaas 20+",100,"g",{"$f":"2.69*B259","v":269},{"$f":"0.38*B259","v":38},0,{"$f":"0.13*B259","v":13},1126.2492]
["friese nagelkaas 40+",100,"g",{"$f":"3.27*B260","v":327},{"$f":"0.255*B260","v":25.5},{"$f":"0.001*B260","v":0.1},{"$f":"0.25*B260","v":25},1369.0835999999999]
["frieten",100,"g",{"$f":"4.56*B261","v":455.99999999999994},{"$f":"0.4*B261","v":40},{"$f":"0.38*B261","v":38},{"$f":"0.16*B261","v":16},1909.1807999999996]
["frikadel",100,"g",{"$f":"2.57*B262","v":257},{"$f":"0.13*B262","v":13},{"$f":"0.081*B262","v":8.1},{"$f":"0.192*B262","v":19.2},1076.0075999999999]
["frikadelsaus",100,"g",{"$f":"2.31*B263","v":231},{"$f":"0.01*B263","v":1},{"$f":"0.23*B263","v":23},{"$f":"0.15*B263","v":15},967.1508]
["fritessaus (25% olie)",100,"g",{"$f":"2.82*B264","v":282},{"$f":"0.005*B264","v":0.5},{"$f":"0.116*B264","v":11.600000000000001},{"$f":"0.26*B264","v":26},1180.6776]
["fritessaus (35% olie)",100,"g",{"$f":"3.72*B265","v":372},0,{"$f":"0.12*B265","v":12},{"$f":"0.36*B265","v":36},1557.4895999999999]
["frituurvet",100,"g",{"$f":"8.98*B266","v":898},{"$f":"0.001*B266","v":0.1},{"$f":"0.003*B266","v":0.3},{"$f":"0.997*B266","v":99.7},3759.7464]
["frituurvet (vloeibaar)",100,"g",{"$f":"9*B267","v":900},0,0,{"$f":"1*B267","v":100},3768.12]
["fruitcoctail",100,"g",{"$f":"0.68*B268","v":68},{"$f":"0*B268","v":0},{"$f":"0.17*B268","v":17},0,284.70240000000001]
["fruitsap (sinas)",25,"cl",{"$f":"4.88*B269","v":122},{"$f":"0.08*B269","v":2},{"$f":"1.14*B269","v":28.499999999999996},0,510.78960000000001]
["gado gado",100,"g",{"$f":"1.73*B270","v":173},{"$f":"0.072*B270","v":7.1999999999999993},{"$f":"0.078*B270","v":7.8},{"$f":"0.126*B270","v":12.6},724.31639999999993]
["galette",100,"g",{"$f":"5.3*B271","v":530},{"$f":"0.067*B271","v":6.7},{"$f":"0.65*B271","v":65},{"$f":"0.27*B271","v":27},2219.0039999999999]
["gamba",100,"g",{"$f":"1.37*B272","v":137},{"$f":"0.185*B272","v":18.5},{"$f":"0*B272","v":0},{"$f":"0.07*B272","v":7.0000000000000009},573.59159999999997]
["gans",100,"g",{"$f":"3.5*B273","v":350},{"$f":"0.156*B273","v":15.6},{"$f":"0*B273","v":0},{"$f":"0.32*B273","v":32},1465.3799999999999]
["ganzelever",100,"g",{"$f":"4.62*B274","v":462},{"$f":"0.07*B274","v":7.0000000000000009},{"$f":"0.06*B274","v":6},{"$f":"0.456*B274","v":45.6},1934.3016]
["garderoom",100,"g",{"$f":"2.53*B275","v":252.99999999999997},{"$f":"0.03*B275","v":3},{"$f":"0.04*B275","v":4},{"$f":"0.25*B275","v":25},1059.2603999999999]
["garnalen",100,"g",{"$f":"0.9*B276","v":90},{"$f":"0.18*B276","v":18},{"$f":"0*B276","v":0},{"$f":"0.02*B276","v":2},376.81200000000001]
["gebonden soep",100,"g",{"$f":"0.37*B277","v":37},{"$f":"0.022*B277","v":2.1999999999999997},{"$f":"0.009*B277","v":0.89999999999999991},{"$f":"0.027*B277","v":2.7},154.91159999999999]
["gebraden gehakt",100,"g",{"$f":"3.42*B278","v":342},{"$f":"0.15*B278","v":15},{"$f":"0.03*B278","v":3},{"$f":"0.3*B278","v":30},1431.8855999999998]
["gehakt (gemengd)",100,"g",{"$f":"3.48*B279","v":348},{"$f":"0.15*B279","v":15},{"$f":"0*B279","v":0},{"$f":"0.32*B279","v":32},1457.0064]
["gehakt-tomatensaus",100,"g",{"$f":"1.38*B280","v":138},{"$f":"0.117*B280","v":11.700000000000001},{"$f":"0.011*B280","v":1.0999999999999999},{"$f":"0.097*B280","v":9.7000000000000011},577.77840000000003]
["geitekaas",100,"g",{"$f":"2.05*B281","v":204.99999999999997},{"$f":"0.13*B281","v":13},0,{"$f":"0.17*B281","v":17},858.29399999999987]
["geitemelk",100,"g",{"$f":"0.7*B282","v":70},{"$f":"0.034*B282","v":3.4000000000000004},{"$f":"0.044*B282","v":4.3999999999999995},{"$f":"0.043*B282","v":4.3},293.07599999999996]
["gekookte worst",100,"g",{"$f":"3.8*B283","v":380},{"$f":"0.12*B283","v":12},{"$f":"0.02*B283","v":2},{"$f":"0.36*B283","v":36},1590.9839999999999]
["gelatine",100,"g",{"$f":"2.35*B284","v":235},{"$f":"0.43*B284","v":43},{"$f":"0*B284","v":0},{"$f":"0.07*B284","v":7.0000000000000009},983.89799999999991]
["gember op siroop",100,"g",{"$f":"2.76*B285","v":276},0,{"$f":"0.69*B285","v":69},0,1155.5568000000001]
["geraspte kaas (volvet)",100,"g",{"$f":"3.85*B286","v":385},{"$f":"0.249*B286","v":24.9},{"$f":"0.004*B286","v":0.4},{"$f":"0.315*B286","v":31.5},1611.9179999999999]
["gestampte muisjes",100,"g",{"$f":"3.89*B287","v":389},0,{"$f":"0.95*B287","v":95},{"$f":"0.01*B287","v":1},1628.6651999999999]
["gevogeltegehakt",100,"g",{"$f":"1.71*B288","v":171},{"$f":"0.202*B288","v":20.200000000000003},{"$f":"0*B288","v":0},{"$f":"0.1*B288","v":10},715.94279999999992]
["gevulde koek",100,"g",{"$f":"4.35*B289","v":434.99999999999994},{"$f":"0.055*B289","v":5.5},{"$f":"0.611*B289","v":61.1},{"$f":"0.188*B289","v":18.8},1821.2579999999998]
["gevulde speculaas",100,"g",{"$f":"4.88*B290","v":488},{"$f":"0.086*B290","v":8.6},{"$f":"0.528*B290","v":52.800000000000004},{"$f":"0.27*B290","v":27},2043.1584]
["gierst",100,"g",{"$f":"1.09*B291","v":109.00000000000001},{"$f":"0.036*B291","v":3.5999999999999996},{"$f":"0.231*B291","v":23.1},{"$f":"0.003*B291","v":0.3},456.36120000000005]
["gomasio",100,"g",{"$f":"5.24*B292","v":524},{"$f":"0.218*B292","v":21.8},{"$f":"0.05*B292","v":5},{"$f":"0.463*B292","v":46.300000000000004},2193.8831999999998]
["gorgonzola",100,"g",{"$f":"3.4*B293","v":340},{"$f":"0.191*B293","v":19.100000000000001},{"$f":"0.002*B293","v":0.2},{"$f":"0.292*B293","v":29.2},1423.5119999999999]
["gouda",100,"g",{"$f":"3.66*B294","v":366},{"$f":"0.255*B294","v":25.5},{"$f":"0.002*B294","v":0.2},{"$f":"0.292*B294","v":29.2},1532.3688]
["goudbrasem",100,"g",{"$f":"1.03*B295","v":103},{"$f":"0.19*B295","v":19},{"$f":"0*B295","v":0},{"$f":"0.03*B295","v":3},431.24039999999997]
["goudse kaas",100,"g",{"$f":"3.85*B296","v":385},{"$f":"0.249*B296","v":24.9},{"$f":"0.004*B296","v":0.4},{"$f":"0.315*B296","v":31.5},1611.9179999999999]
["goudse kaas (beleg)",100,"g",{"$f":"3.85*B297","v":385},{"$f":"0.249*B297","v":24.9},{"$f":"0.004*B297","v":0.4},{"$f":"0.315*B297","v":31.5},1611.9179999999999]
["goulash",100,"g",{"$f":"1.55*B298","v":155},{"$f":"0.095*B298","v":9.5},{"$f":"0.025*B298","v":2.5},{"$f":"0.119*B298","v":11.899999999999999},648.95399999999995]
["granaatappel",100,"g",{"$f":"0.62*B299","v":62},{"$f":"0.01*B299","v":1},{"$f":"0.137*B299","v":13.700000000000001},{"$f":"0.003*B299","v":0.3},259.58159999999998]
["granny ( amandel - abrikoos ) ",1,"st",{"$f":"131*B300","v":131},{"$f":"2.1*B300","v":2.1},{"$f":"19.2*B300","v":19.2},{"$f":"5.1*B300","v":5.0999999999999996},548.47079999999994]
["granny (chocolade) ",1,"st",{"$f":"96*B301","v":96},{"$f":"1.9*B301","v":1.9},{"$f":"19.2*B301","v":19.2},{"$f":"1.3*B301","v":1.3},401.93279999999999]
["grapefruit",100,"g",{"$f":"0.3*B302","v":30},{"$f":"0.009*B302","v":0.89999999999999991},{"$f":"0.066*B302","v":6.6000000000000005},0,{"$f":"D302*4.1868","v":125.604}]
["grapefruit op siroop",100,"g",{"$f":"0.64*B303","v":64},{"$f":"0.01*B303","v":1},{"$f":"0.15*B303","v":15},0,267.95519999999999]
["grapefruitsap",100,"g",{"$f":"0.3*B304","v":30},{"$f":"0.004*B304","v":0.4},{"$f":"0.07*B304","v":7.0000000000000009},{"$f":"0.001*B304","v":0.1},125.604]
["grilled chicken caprese (mcdonalds)",1,"prt",{"$f":"477*B305","v":477},{"$f":"33*B305","v":33},{"$f":"38*B305","v":38},{"$f":"22*B305","v":22},1997.1035999999999]
["groene aalbes",100,"g",{"$f":"0.4*B306","v":40},{"$f":"0.008*B306","v":0.8},{"$f":"0.088*B306","v":8.7999999999999989},{"$f":"0.002*B306","v":0.2},167.47199999999998]
["groene erwten",100,"g",{"$f":"1.09*B307","v":109.00000000000001},{"$f":"0.084*B307","v":8.4},{"$f":"0.172*B307","v":17.2},{"$f":"0.008*B307","v":0.8},456.36120000000005]
["groene kool",100,"g",{"$f":"0.37*B308","v":37},{"$f":"0.03*B308","v":3},{"$f":"0.04*B308","v":4},{"$f":"0.01*B308","v":1},154.91159999999999]
["groentesaus (marg., bloem)",100,"g",{"$f":"0.9*B309","v":90},{"$f":"0.024*B309","v":2.4},{"$f":"0.07*B309","v":7.0000000000000009},{"$f":"0.058*B309","v":5.8000000000000007},376.81200000000001]
["groentesaus uit pakje",100,"g",{"$f":"0.62*B310","v":62},{"$f":"0.017*B310","v":1.7000000000000002},{"$f":"0.106*B310","v":10.6},{"$f":"0.014*B310","v":1.4000000000000001},259.58159999999998]
["groentespread",100,"g",{"$f":"0.2*B311","v":20},{"$f":"0.01*B311","v":1},{"$f":"0.04*B311","v":4},0,83.73599999999999]
["guave",100,"g",{"$f":"0.72*B312","v":72},{"$f":"0.01*B312","v":1},{"$f":"0.17*B312","v":17},0,301.44959999999998]
["haas",100,"g",{"$f":"1.13*B313","v":112.99999999999999},{"$f":"0.215*B313","v":21.5},{"$f":"0*B313","v":0},{"$f":"0.03*B313","v":3},473.1083999999999]
["hachee",100,"g",{"$f":"0.89*B314","v":89},{"$f":"0.068*B314","v":6.8000000000000007},{"$f":"0.028*B314","v":2.8000000000000003},{"$f":"0.056*B314","v":5.6000000000000005},372.62520000000001]
["hagelslag melk",100,"g",{"$f":"4.27*B315","v":426.99999999999994},{"$f":"0.065*B315","v":6.5},{"$f":"0.664*B315","v":66.400000000000006},{"$f":"0.151*B315","v":15.1},1787.7635999999998]
["hagelslag puur",100,"g",{"$f":"4.03*B316","v":403},{"$f":"0.034*B316","v":3.4000000000000004},{"$f":"0.599*B316","v":59.9},{"$f":"0.167*B316","v":16.7},1687.2803999999999]
["halfvolle koffiemelk",100,"ml",{"$f":"1*B317","v":100},{"$f":"0.063*B317","v":6.3},{"$f":"0.098*B317","v":9.8000000000000007},{"$f":"0.04*B317","v":4},418.68]
["halvarine",100,"g",{"$f":"3.6*B318","v":360},0,0,{"$f":"0.4*B318","v":40},1507.248]
["halvarine (dieet)",100,"g",{"$f":"3.68*B319","v":368},{"$f":"0.01*B319","v":1},{"$f":"0.01*B319","v":1},{"$f":"0.4*B319","v":40},1540.7423999999999]
["halvarineprodukt (-40%)",100,"g",{"$f":"2.59*B320","v":259},{"$f":"0.027*B320","v":2.7},{"$f":"0.022*B320","v":2.1999999999999997},{"$f":"0.267*B320","v":26.700000000000003},1084.3812]
["ham (rauw, gerookt)",100,"g",{"$f":"3.69*B321","v":369},{"$f":"0.18*B321","v":18},0,{"$f":"0.33*B321","v":33},1544.9292]
["ham, achter-",100,"g",{"$f":"1.3*B322","v":130},{"$f":"0.18*B322","v":18},{"$f":"0.01*B322","v":1},{"$f":"0.06*B322","v":6},544.28399999999999]
["ham, achter- (Linera)",1,"st",{"$f":"10*B323","v":10},{"$f":"1.6*B323","v":1.6},{"$f":"0.2*B323","v":0.2},{"$f":"0.4*B323","v":0.4},41.867999999999995]
["ham, achter- (Stegemann)",100,"g",{"$f":"0.96*B324","v":96},{"$f":"0.18*B324","v":18},{"$f":"0.016*B324","v":1.6},{"$f":"0.02*B324","v":2},401.93279999999999]
["ham, achter- 3% vet (Dulano)",100,"g",{"$f":"1.07*B325","v":107},{"$f":"0.19*B325","v":19},{"$f":"0.01*B325","v":1},{"$f":"0.03*B325","v":3},447.98759999999999]
["ham, achter- blokjes gekookt (Aldi)",100,"g",{"$f":"1.25*B326","v":125},{"$f":"0.18*B326","v":18},{"$f":"0.02*B326","v":2},{"$f":"0.05*B326","v":5},523.35]
["ham, achter- gegrild",100,"g",{"$f":"1.16*B327","v":115.99999999999999},{"$f":"0.192*B327","v":19.2},{"$f":"0.006*B327","v":0.6},{"$f":"0.041*B327","v":4.1000000000000005},485.66879999999992]
["ham, achter- gekookt (De Drie Eiken)",100,"g",{"$f":"1.09*B328","v":109.00000000000001},{"$f":"0.195*B328","v":19.5},{"$f":"0.019*B328","v":1.9},{"$f":"0.03*B328","v":3},456.36120000000005]
["ham, achter- mager (Super de Boer)",100,"g",{"$f":"0.96*B329","v":96},{"$f":"0.18*B329","v":18},{"$f":"0.016*B329","v":1.6},{"$f":"0.02*B329","v":2},401.93279999999999]
["hamburger",1,"st",{"$f":"216*B330","v":216},{"$f":"11*B330","v":11},{"$f":"7*B330","v":7},{"$f":"16*B330","v":16},904.34879999999998]
["hamburger (mcdonalds)",1,"st",{"$f":"251*B331","v":251},{"$f":"12.7*B331","v":12.7},{"$f":"31.7*B331","v":31.7},{"$f":"8.1*B331","v":8.1},1050.8868]
["hamburger m. broodje & ui",100,"g",{"$f":"3*B332","v":300},{"$f":"0.13*B332","v":13},{"$f":"0.26*B332","v":26},{"$f":"0.16*B332","v":16},1256.04]
["ham-kaassaus",100,"g",{"$f":"1.74*B333","v":174},{"$f":"0.102*B333","v":10.199999999999999},{"$f":"0.062*B333","v":6.2},{"$f":"0.12*B333","v":12},728.50319999999999]
["hamlappen",100,"g",{"$f":"1.82*B334","v":182},{"$f":"0.313*B334","v":31.3},0,{"$f":"0.063*B334","v":6.3},761.99759999999992]
["hangop",100,"g",{"$f":"0.63*B335","v":63},{"$f":"0.1*B335","v":10},{"$f":"0.035*B335","v":3.5000000000000004},{"$f":"0.01*B335","v":1},263.76839999999999]
["haring",100,"g",{"$f":"2.97*B336","v":297},{"$f":"0.18*B336","v":18},0,{"$f":"0.25*B336","v":25},1243.4795999999999]
["haring (gerookt)",100,"g",{"$f":"2.59*B337","v":259},{"$f":"0.222*B337","v":22.2},0,{"$f":"0.19*B337","v":19},1084.3812]
["haring (zoute)",100,"g",{"$f":"1.68*B338","v":168},{"$f":"0.192*B338","v":19.2},{"$f":"0.005*B338","v":0.5},{"$f":"0.099*B338","v":9.9},703.38239999999996]
["haring (zure)",100,"g",{"$f":"2.08*B339","v":208},{"$f":"0.16*B339","v":16},0,{"$f":"0.16*B339","v":16},870.85439999999994]
["haring in tomatensaus",100,"g",{"$f":"1.62*B340","v":162},{"$f":"0.15*B340","v":15},{"$f":"0.02*B340","v":2},{"$f":"0.105*B340","v":10.5},678.26159999999993]
["hartige taart",100,"g",{"$f":"1.72*B341","v":172},{"$f":"0.089*B341","v":8.9},{"$f":"0.137*B341","v":13.700000000000001},{"$f":"0.091*B341","v":9.1},720.12959999999998]
["hartige taart (bladerdeeg)",100,"g",{"$f":"2.73*B342","v":273},{"$f":"0.108*B342","v":10.8},{"$f":"0.099*B342","v":9.9},{"$f":"0.212*B342","v":21.2},1142.9964]
["hausmacher",100,"g",{"$f":"3.25*B343","v":325},{"$f":"0.16*B343","v":16},0,{"$f":"0.29*B343","v":28.999999999999996},1360.71]
["haverkoek",100,"g",{"$f":"3.44*B344","v":344},{"$f":"0.082*B344","v":8.2000000000000011},{"$f":"0.538*B344","v":53.800000000000004},{"$f":"0.107*B344","v":10.7},1440.2592]
["havermout",100,"g",{"$f":"3.63*B345","v":363},{"$f":"0.13*B345","v":13},{"$f":"0.62*B345","v":62},{"$f":"0.07*B345","v":7.0000000000000009},1519.8083999999999]
["havermoutpap",100,"g",{"$f":"0.74*B346","v":74},{"$f":"0.039*B346","v":3.9},{"$f":"0.075*B346","v":7.5},{"$f":"0.032*B346","v":3.2},309.82319999999999]
["hazelnootpasta",100,"g",{"$f":"5.38*B347","v":538},{"$f":"0.074*B347","v":7.3999999999999995},{"$f":"0.59*B347","v":59},{"$f":"0.303*B347","v":30.3},2252.4983999999999]
["hazelnoten",100,"g",{"$f":"6.44*B348","v":644},{"$f":"0.119*B348","v":11.899999999999999},{"$f":"0.105*B348","v":10.5},{"$f":"0.616*B348","v":61.6},2696.2991999999999]
["heilbot",100,"g",{"$f":"1.13*B349","v":112.99999999999999},{"$f":"0.17*B349","v":17},0,{"$f":"0.05*B349","v":5},473.1083999999999]
["heldere soep",100,"g",{"$f":"0.39*B350","v":39},{"$f":"0.04*B350","v":4},{"$f":"0.023*B350","v":2.2999999999999998},{"$f":"0.015*B350","v":1.5},163.2852]
["hoestbonbon",100,"g",{"$f":"3.96*B351","v":396},{"$f":"0.006*B351","v":0.6},{"$f":"0.984*B351","v":98.4},0,1657.9728]
["honing",1,"el",{"$f":"68*B352","v":68},{"$f":"1*B352","v":1},{"$f":"16*B352","v":16},0,284.70240000000001]
["hopje",100,"g",{"$f":"3.8*B353","v":380},0,{"$f":"0.95*B353","v":95},0,1590.9839999999999]
["hot ketchup",100,"g",{"$f":"1.04*B354","v":104},{"$f":"0.009*B354","v":0.89999999999999991},{"$f":"0.253*B354","v":25.3},0,435.42719999999997]
["hotdog",100,"g",{"$f":"2.95*B355","v":295},{"$f":"0.098*B355","v":9.8000000000000007},{"$f":"0.375*B355","v":37.5},{"$f":"0.118*B355","v":11.799999999999999},1235.106]
["hotdog relish",100,"g",{"$f":"1.04*B356","v":104},0,{"$f":"0.26*B356","v":26},0,435.42719999999997]
["hutspot",100,"g",{"$f":"0.62*B357","v":62},{"$f":"0.015*B357","v":1.5},{"$f":"0.082*B357","v":8.2000000000000011},{"$f":"0.026*B357","v":2.6},259.58159999999998]
["huttenkase",100,"g",{"$f":"0.93*B358","v":93},{"$f":"0.116*B358","v":11.600000000000001},{"$f":"0.019*B358","v":1.9},{"$f":"0.043*B358","v":4.3},389.37239999999997]
["huzarenslaatje",100,"g",{"$f":"1.05*B359","v":105},{"$f":"0.079*B359","v":7.9},{"$f":"0.09*B359","v":9},{"$f":"0.042*B359","v":4.2},439.61399999999998]
["ijs",100,"g",{"$f":"1.86*B360","v":186},{"$f":"0.03*B360","v":3},{"$f":"0.197*B360","v":19.7},{"$f":"0.106*B360","v":10.6},778.74479999999994]
["ijs (conotop)",100,"g",{"$f":"2.46*B361","v":246},{"$f":"0.06*B361","v":6},{"$f":"0.24*B361","v":24},{"$f":"0.14*B361","v":14.000000000000002},1029.9528]
["ijs (met chocolade)",100,"g",{"$f":"2.18*B362","v":218.00000000000003},{"$f":"0.032*B362","v":3.2},{"$f":"0.228*B362","v":22.8},{"$f":"0.127*B362","v":12.7},912.72240000000011]
["ijs (room)",100,"g",{"$f":"1.81*B363","v":181},{"$f":"0.03*B363","v":3},{"$f":"0.22*B363","v":22},{"$f":"0.091*B363","v":9.1},757.81079999999997]
["ijs (sorbet)",100,"g",{"$f":"1.06*B364","v":106},{"$f":"0.005*B364","v":0.5},{"$f":"0.26*B364","v":26},0,443.80079999999998]
["ijs (yoghurt)",100,"g",{"$f":"1.07*B365","v":107},{"$f":"0.04*B365","v":4},{"$f":"0.16*B365","v":16},{"$f":"0.03*B365","v":3},447.98759999999999]
["ijscoupe met likeur",100,"g",{"$f":"1.64*B366","v":164},{"$f":"0.023*B366","v":2.2999999999999998},{"$f":"0.212*B366","v":21.2},{"$f":"0.078*B366","v":7.8},{"$f":"D366*4.1868","v":686.63519999999994}]
["ijslolly - waterijs",100,"g",{"$f":"0.73*B367","v":73},0,{"$f":"0.182*B367","v":18.2},0,305.63639999999998]
["ijswafeltje (koekje)",100,"g",{"$f":"4.33*B368","v":433},{"$f":"0.088*B368","v":8.7999999999999989},{"$f":"0.767*B368","v":76.7},{"$f":"0.101*B368","v":10.100000000000001},1812.8843999999999]
["irish coffee",100,"g",{"$f":"1.08*B369","v":108},{"$f":"0.006*B369","v":0.6},{"$f":"0.052*B369","v":5.2},{"$f":"0.094*B369","v":9.4},452.17439999999999]
["isostar energiedrank",100,"g",{"$f":"0.28*B370","v":28.000000000000004},0,{"$f":"0.07*B370","v":7.0000000000000009},0,117.23040000000002]
["jachtschotel",100,"g",{"$f":"1.01*B371","v":101},{"$f":"0.05*B371","v":5},{"$f":"0.09*B371","v":9},{"$f":"0.05*B371","v":5},422.86680000000001]
["jam  (marmelade)",100,"g",{"$f":"2.4*B372","v":240},{"$f":"0.002*B372","v":0.2},{"$f":"0.6*B372","v":60},0,1004.832]
["jam (halva en light)",100,"g",{"$f":"1.12*B373","v":112.00000000000001},0,{"$f":"0.28*B373","v":28.000000000000004},0,468.92160000000007]
["japanse mix",100,"g",{"$f":"3.62*B374","v":362},{"$f":"0.08*B374","v":8},{"$f":"0.737*B374","v":73.7},{"$f":"0.039*B374","v":3.9},1515.6215999999999]
["kaas (edammer) ",100,"g",{"$f":"3.68*B375","v":368},{"$f":"0.25*B375","v":25},{"$f":"0.04*B375","v":4},{"$f":"0.28*B375","v":28.000000000000004},1540.7423999999999]
["kaas (gouda) ",100,"g",{"$f":"3.85*B376","v":385},{"$f":"0.26*B376","v":26},{"$f":"0.05*B376","v":5},{"$f":"0.29*B376","v":28.999999999999996},1611.9179999999999]
["kaas (light)",100,"g",{"$f":"1.54*B377","v":154},{"$f":"0.145*B377","v":14.499999999999998},{"$f":"0.05*B377","v":5},{"$f":"0.085*B377","v":8.5},644.7672]
["kaas (parmezaan)",100,"g",{"$f":"4.11*B378","v":411.00000000000006},{"$f":"0.4*B378","v":40},{"$f":"0.02*B378","v":2},{"$f":"0.27*B378","v":27},1720.7748000000001]
["kaas (trenta )",100,"g",{"$f":"3.7*B379","v":370},{"$f":"0.25*B379","v":25},{"$f":"0*B379","v":0},{"$f":"0.3*B379","v":30},1549.116]
["kaas (volvet)",100,"g",{"$f":"3.84*B380","v":384},{"$f":"0.249*B380","v":24.9},{"$f":"0.004*B380","v":0.4},{"$f":"0.315*B380","v":31.5},1607.7311999999999]
["kaas 20+",100,"g",{"$f":"2.69*B381","v":269},{"$f":"0.38*B381","v":38},0,{"$f":"0.13*B381","v":13},1126.2492]
["kaas 40+",100,"g",{"$f":"3.27*B382","v":327},{"$f":"0.255*B382","v":25.5},{"$f":"0.001*B382","v":0.1},{"$f":"0.25*B382","v":25},1369.0835999999999]
["kaas, gerapte, jong belegen (Edah)",100,"g",{"$f":"3.7*B383","v":370},{"$f":"0.26*B383","v":26},{"$f":"0*B383","v":0},{"$f":"0.31*B383","v":31},1549.116]
["kaas, geraspte, jong belegen (Frico)",100,"g",{"$f":"3.74*B384","v":374},{"$f":"0.23*B384","v":23},{"$f":"0.02*B384","v":2},{"$f":"0.3*B384","v":30},1565.8632]
["kaas, Gruyère",100,"g",{"$f":"4.35*B385","v":434.99999999999994},{"$f":"0.29*B385","v":28.999999999999996},{"$f":"0.01*B385","v":1},{"$f":"0.35*B385","v":35},1821.2579999999998]
["kaasprodukt (volvet)",100,"g",{"$f":"3.7*B386","v":370},{"$f":"0.25*B386","v":25},0,{"$f":"0.3*B386","v":30},1549.116]
["kaasprodukt 30+",100,"g",{"$f":"2.83*B387","v":283},{"$f":"0.317*B387","v":31.7},{"$f":"0.01*B387","v":1},{"$f":"0.17*B387","v":17},1184.8643999999999]
["kaassoesje",100,"g",{"$f":"3.34*B388","v":334},{"$f":"0.12*B388","v":12},{"$f":"0.09*B388","v":9},{"$f":"0.278*B388","v":27.800000000000004},1398.3912]
["kaaswafel",100,"g",{"$f":"5.65*B389","v":565},{"$f":"0.143*B389","v":14.299999999999999},{"$f":"0.374*B389","v":37.4},{"$f":"0.399*B389","v":39.900000000000006},2365.5419999999999]
["kabeljauw ",100,"g",{"$f":"0.76*B390","v":76},{"$f":"0.18*B390","v":18},0,{"$f":"0.005*B390","v":0.5},318.1968]
["kaki",100,"g",{"$f":"0.66*B391","v":66},{"$f":"0.005*B391","v":0.5},{"$f":"0.16*B391","v":16},0,276.3288]
["kalfsentrecote",100,"g",{"$f":"1.89*B392","v":189},{"$f":"0.256*B392","v":25.6},{"$f":"0.012*B392","v":1.2},{"$f":"0.091*B392","v":9.1},791.30520000000001]
["kalfsfricandeau (beleg)",100,"g",{"$f":"1.56*B393","v":156},{"$f":"0.319*B393","v":31.900000000000002},0,{"$f":"0.032*B393","v":3.2},653.14080000000001]
["kalfsgehakt",100,"g",{"$f":"1.85*B394","v":185},{"$f":"0.18*B394","v":18},{"$f":"0*B394","v":0},{"$f":"0.125*B394","v":12.5},774.55799999999999]
["kalfslapjes",100,"g",{"$f":"1.02*B395","v":102},{"$f":"0.21*B395","v":21},{"$f":"0*B395","v":0},{"$f":"0.02*B395","v":2},427.05359999999996]
["kalfslever",100,"g",{"$f":"1.85*B396","v":185},{"$f":"0.28*B396","v":28.000000000000004},{"$f":"0.02*B396","v":2},{"$f":"0.072*B396","v":7.1999999999999993},774.55799999999999]
["kalfstong",100,"g",{"$f":"1.32*B397","v":132},{"$f":"0.175*B397","v":17.5},{"$f":"0.01*B397","v":1},{"$f":"0.065*B397","v":6.5},552.6576]
["kalfszwezerik",100,"g",{"$f":"2.18*B398","v":218.00000000000003},{"$f":"0.05*B398","v":5},{"$f":"0.046*B398","v":4.5999999999999996},{"$f":"0.2*B398","v":20},912.72240000000011]
["kalkoen",100,"g",{"$f":"1.43*B399","v":143},{"$f":"0.2*B399","v":20},{"$f":"0*B399","v":0},{"$f":"0.07*B399","v":7.0000000000000009},598.7124]
["kalkoenfilet",100,"g",{"$f":"0.85*B400","v":85},{"$f":"0.19*B400","v":19},{"$f":"0*B400","v":0},{"$f":"0.01*B400","v":1},355.87799999999999]
["kaneel",100,"g",{"$f":"0.9*B401","v":90},{"$f":"0*B401","v":0},{"$f":"0*B401","v":0},{"$f":"0*B401","v":0},376.81200000000001]
["kano",100,"g",{"$f":"4.35*B402","v":434.99999999999994},{"$f":"0.055*B402","v":5.5},{"$f":"0.611*B402","v":61.1},{"$f":"0.188*B402","v":18.8},1821.2579999999998]
["kapucijners",100,"g",{"$f":"1.06*B403","v":106},{"$f":"0.08*B403","v":8},{"$f":"0.172*B403","v":17.2},{"$f":"0.006*B403","v":0.6},443.80079999999998]
["karbonade (haas)",100,"g",{"$f":"1.56*B404","v":156},{"$f":"0.26*B404","v":26},0,{"$f":"0.058*B404","v":5.8000000000000007},653.14080000000001]
["karbonade (hals)",100,"g",{"$f":"2.72*B405","v":272},{"$f":"0.276*B405","v":27.6},0,{"$f":"0.18*B405","v":18},1138.8096]
["karbonade (rib)",100,"g",{"$f":"2.11*B406","v":211},{"$f":"0.283*B406","v":28.299999999999997},{"$f":"0.005*B406","v":0.5},{"$f":"0.107*B406","v":10.7},883.41480000000001]
["karbonade (schouder)",100,"g",{"$f":"2.72*B407","v":272},{"$f":"0.276*B407","v":27.6},0,{"$f":"0.18*B407","v":18},1138.8096]
["karnemelk",25,"cl",{"$f":"2.6*B408","v":65},{"$f":"0.3*B408","v":7.5},{"$f":"0.35*B408","v":8.75},0,272.142]
["karper",100,"g",{"$f":"1.15*B409","v":114.99999999999999},{"$f":"0.18*B409","v":18},{"$f":"0*B409","v":0},{"$f":"0.048*B409","v":4.8},481.48199999999991]
["kastanjes",100,"g",{"$f":"1.65*B410","v":165},{"$f":"0.04*B410","v":4},{"$f":"0.35*B410","v":35},{"$f":"0.01*B410","v":1},690.822]
["katenspek",100,"g",{"$f":"4.03*B411","v":403},{"$f":"0.152*B411","v":15.2},{"$f":"0.004*B411","v":0.4},{"$f":"0.379*B411","v":37.9},1687.2803999999999]
["kauwgom",100,"g",{"$f":"2.8*B412","v":280},0,{"$f":"0.7*B412","v":70},0,1172.3039999999999]
["kaviaar",100,"g",{"$f":"2.44*B413","v":244},{"$f":"0.261*B413","v":26.1},{"$f":"0*B413","v":0},{"$f":"0.155*B413","v":15.5},1021.5792]
["kefir",100,"g",{"$f":"0.55*B414","v":55.000000000000007},{"$f":"0.031*B414","v":3.1},{"$f":"0.038*B414","v":3.8},{"$f":"0.03*B414","v":3},230.27400000000003]
["kellogg's all bran",100,"g",{"$f":"2.67*B415","v":267},{"$f":"0.14*B415","v":14.000000000000002},{"$f":"0.46*B415","v":46},{"$f":"0.03*B415","v":3},1117.8755999999998]
["kellogg's choco pops",100,"g",{"$f":"3.74*B416","v":374},{"$f":"0.05*B416","v":5},{"$f":"0.84*B416","v":84},{"$f":"0.02*B416","v":2},1565.8632]
["kellogg's cornflakes",100,"g",{"$f":"3.67*B417","v":367},{"$f":"0.08*B417","v":8},{"$f":"0.82*B417","v":82},{"$f":"0.008*B417","v":0.8},1536.5555999999999]
["kellogg's frosties",100,"g",{"$f":"3.77*B418","v":377},{"$f":"0.05*B418","v":5},{"$f":"0.88*B418","v":88},{"$f":"0.005*B418","v":0.5},1578.4235999999999]
["kellogg's fruit & fiber",100,"g",{"$f":"3.57*B419","v":357},{"$f":"0.09*B419","v":9},{"$f":"0.69*B419","v":69},{"$f":"0.05*B419","v":5},1494.6876]
["kellogg's muesli",100,"g",{"$f":"3.62*B420","v":362},{"$f":"0.1*B420","v":10},{"$f":"0.67*B420","v":67},{"$f":"0.06*B420","v":6},1515.6215999999999]
["kellogg's raisin bran",100,"g",{"$f":"3.18*B421","v":318},{"$f":"0.08*B421","v":8},{"$f":"0.67*B421","v":67},{"$f":"0.02*B421","v":2},1331.4023999999999]
["kellogg's rice crisp",100,"g",{"$f":"3.77*B422","v":377},{"$f":"0.06*B422","v":6},{"$f":"0.86*B422","v":86},{"$f":"0.01*B422","v":1},1578.4235999999999]
["kellogg's smacks",1,"rp",{"$f":"91*B423","v":91},{"$f":"2*B423","v":2},{"$f":"14*B423","v":14},{"$f":"3*B423","v":3},380.99879999999996]
["kellogg's special k",100,"g",{"$f":"3.69*B424","v":369},{"$f":"0.14*B424","v":14.000000000000002},{"$f":"0.76*B424","v":76},{"$f":"0.01*B424","v":1},1544.9292]
["kernhemmer",100,"g",{"$f":"4.13*B425","v":413},{"$f":"0.2*B425","v":20},0,{"$f":"0.37*B425","v":37},1729.1484]
["kerriesaus",100,"g",{"$f":"2.78*B426","v":278},{"$f":"0.005*B426","v":0.5},{"$f":"0.13*B426","v":13},{"$f":"0.25*B426","v":25},1163.9304]
["kersen",100,"g",{"$f":"0.64*B427","v":64},{"$f":"0.01*B427","v":1},{"$f":"0.15*B427","v":15},0,267.95519999999999]
["kersen op siroop",100,"g",{"$f":"0.76*B428","v":76},{"$f":"0.01*B428","v":1},{"$f":"0.18*B428","v":18},0,318.1968]
["kersenbonbon",100,"g",{"$f":"3.5*B429","v":350},{"$f":"0.03*B429","v":3},{"$f":"0.422*B429","v":42.199999999999996},{"$f":"0.189*B429","v":18.899999999999999},1465.3799999999999]
["kerstkrans",100,"g",{"$f":"4.61*B430","v":461.00000000000006},{"$f":"0.076*B430","v":7.6},{"$f":"0.43*B430","v":43},{"$f":"0.289*B430","v":28.9},{"$f":"D430*4.1868","v":1930.1148000000001}]
["kervel",100,"g",{"$f":"0.71*B431","v":71},{"$f":"0.04*B431","v":4},{"$f":"0.115*B431","v":11.5},{"$f":"0.01*B431","v":1},297.26279999999997]
["ketchup",1,"el",{"$f":"16*B432","v":16},{"$f":"0*B432","v":0},{"$f":"4*B432","v":4},0,66.988799999999998]
["ketjap",1,"el",{"$f":"20*B433","v":20},{"$f":"1*B433","v":1},{"$f":"4*B433","v":4},0,83.73599999999999]
["ketjap asin",100,"g",{"$f":"1.2*B434","v":120},{"$f":"0.12*B434","v":12},{"$f":"0.18*B434","v":18},0,502.416]
["ketjap manis",100,"g",{"$f":"1.36*B435","v":136},{"$f":"0.1*B435","v":10},{"$f":"0.24*B435","v":24},0,569.40480000000002]
["kidney beans",100,"g",{"$f":"0.95*B436","v":95},{"$f":"0.071*B436","v":7.1},{"$f":"0.152*B436","v":15.2},{"$f":"0.007*B436","v":0.70000000000000007},397.74599999999998]
["kievietsbonen",100,"g",{"$f":"2.65*B437","v":265},{"$f":"0.2*B437","v":20},{"$f":"0.43*B437","v":43},{"$f":"0.015*B437","v":1.5},1109.502]
["kikkerbil",100,"g",{"$f":"0.68*B438","v":68},{"$f":"0.164*B438","v":16.400000000000002},{"$f":"0*B438","v":0},{"$f":"0.003*B438","v":0.3},284.70240000000001]
["kikkererwten",100,"g",{"$f":"1.63*B439","v":163},{"$f":"0.08*B439","v":8},{"$f":"0.26*B439","v":26},{"$f":"0.03*B439","v":3},682.44839999999999]
["kinderbiscuit",100,"g",{"$f":"3.96*B440","v":396},{"$f":"0.09*B440","v":9},{"$f":"0.72*B440","v":72},{"$f":"0.08*B440","v":8},1657.9728]
["kipburger",100,"g",{"$f":"3.06*B441","v":306},{"$f":"0.145*B441","v":14.499999999999998},{"$f":"0.099*B441","v":9.9},{"$f":"0.232*B441","v":23.200000000000003},1281.1607999999999]
["kip-kap",100,"g",{"$f":"2.07*B442","v":206.99999999999997},{"$f":"0.18*B442","v":18},{"$f":"0*B442","v":0},{"$f":"0.15*B442","v":15},866.66759999999988]
["kip-kerriesalade",100,"g",{"$f":"2.8*B443","v":280},{"$f":"0.055*B443","v":5.5},{"$f":"0.087*B443","v":8.6999999999999993},{"$f":"0.248*B443","v":24.8},1172.3039999999999]
["kipnugget - kipkantje",100,"g",{"$f":"2.72*B444","v":272},{"$f":"0.175*B444","v":17.5},{"$f":"0.122*B444","v":12.2},{"$f":"0.171*B444","v":17.100000000000001},1138.8096]
["kippebouillion",100,"ml",{"$f":"0.1*B445","v":10},{"$f":"0.006*B445","v":0.6},{"$f":"0.02*B445","v":2},0,41.867999999999995]
["kippelever",100,"g",{"$f":"1.84*B446","v":184},{"$f":"0.28*B446","v":28.000000000000004},{"$f":"0.02*B446","v":2},{"$f":"0.072*B446","v":7.1999999999999993},770.37119999999993]
["kippenfilet",100,"g",{"$f":"1.11*B447","v":111.00000000000001},{"$f":"0.21*B447","v":21},{"$f":"0*B447","v":0},{"$f":"0.03*B447","v":3},464.73480000000006]
["kippenham",100,"g",{"$f":"0.88*B448","v":88},{"$f":"0.2*B448","v":20},{"$f":"0.02*B448","v":2},0,368.4384]
["kippepoot",100,"g",{"$f":"2.29*B449","v":229},{"$f":"0.264*B449","v":26.400000000000002},0,{"$f":"0.137*B449","v":13.700000000000001},958.77719999999999]
["kiprollade",100,"g",{"$f":"1.65*B450","v":165},{"$f":"0.24*B450","v":24},{"$f":"0.017*B450","v":1.7000000000000002},{"$f":"0.07*B450","v":7.0000000000000009},690.822]
["kiprollade (beleg)",100,"g",{"$f":"1.65*B451","v":165},{"$f":"0.24*B451","v":24},{"$f":"0.017*B451","v":1.7000000000000002},{"$f":"0.07*B451","v":7.0000000000000009},690.822]
["kipschnitzel (gepaneerd)",100,"g",{"$f":"2.17*B452","v":217},{"$f":"0.175*B452","v":17.5},{"$f":"0.083*B452","v":8.3000000000000007},{"$f":"0.127*B452","v":12.7},908.53559999999993]
["kiri creme",100,"g",{"$f":"3.41*B453","v":341},{"$f":"0.085*B453","v":8.5},{"$f":"0.025*B453","v":2.5},{"$f":"0.33*B453","v":33},1427.6987999999999]
["kit kat",100,"g",{"$f":"4.82*B454","v":482},{"$f":"0.056*B454","v":5.6000000000000005},{"$f":"0.675*B454","v":67.5},{"$f":"0.211*B454","v":21.099999999999998},2018.0375999999999]
["kiwi",1,"st",{"$f":"24*B455","v":24},{"$f":"0*B455","v":0},{"$f":"6*B455","v":6},0,100.4832]
["klapstuk",100,"g",{"$f":"2.65*B456","v":265},{"$f":"0.34*B456","v":34},0,{"$f":"0.144*B456","v":14.399999999999999},1109.502]
["knackebrod (lichtgewicht)",100,"g",{"$f":"3.74*B457","v":374},{"$f":"0.1*B457","v":10},{"$f":"0.79*B457","v":79},{"$f":"0.02*B457","v":2},1565.8632]
["knackebrod wasa",100,"g",{"$f":"3.5*B458","v":350},{"$f":"0.11*B458","v":11},{"$f":"0.72*B458","v":72},{"$f":"0.02*B458","v":2},1465.3799999999999]
["knakworst",100,"g",{"$f":"2.97*B459","v":297},{"$f":"0.109*B459","v":10.9},{"$f":"0.025*B459","v":2.5},{"$f":"0.271*B459","v":27.1},1243.4795999999999]
["knoflook",1,"tn",{"$f":"14*B460","v":14},{"$f":"0.3*B460","v":0.3},0,{"$f":"1.4*B460","v":1.4},58.615200000000002]
["knolselderij",100,"g",{"$f":"0.36*B461","v":36},{"$f":"0.02*B461","v":2},{"$f":"0.07*B461","v":7.0000000000000009},0,150.72479999999999]
["koffie verkeerd",100,"g",{"$f":"0.29*B462","v":28.999999999999996},{"$f":"0.023*B462","v":2.2999999999999998},{"$f":"0.028*B462","v":2.8000000000000003},{"$f":"0.01*B462","v":1},121.41719999999998]
["koffiebroodje",100,"g",{"$f":"3.29*B463","v":329},{"$f":"0.07*B463","v":7.0000000000000009},{"$f":"0.55*B463","v":55.000000000000007},{"$f":"0.09*B463","v":9},1377.4572000000001]
["koffiemelk (halfvol)",100,"g",{"$f":"1.04*B464","v":104},{"$f":"0.078*B464","v":7.8},{"$f":"0.093*B464","v":9.3000000000000007},{"$f":"0.04*B464","v":4},435.42719999999997]
["koffiemelk (mager)",100,"g",{"$f":"0.77*B465","v":77},{"$f":"0.077*B465","v":7.7},{"$f":"0.112*B465","v":11.200000000000001},{"$f":"0.002*B465","v":0.2},322.3836]
["koffiemelk (vol)",100,"g",{"$f":"1.52*B466","v":152},{"$f":"0.084*B466","v":8.4},{"$f":"0.107*B466","v":10.7},{"$f":"0.084*B466","v":8.4},636.39359999999999]
["koffiemelkpoeder",100,"g",{"$f":"5.5*B467","v":550},{"$f":"0.04*B467","v":4},{"$f":"0.55*B467","v":55.000000000000007},{"$f":"0.35*B467","v":35},2302.7399999999998]
["koffiemelkprodukt (halfvol)",100,"g",{"$f":"1.04*B468","v":104},{"$f":"0.072*B468","v":7.1999999999999993},{"$f":"0.1*B468","v":10},{"$f":"0.04*B468","v":4},435.42719999999997]
["koffiemelkprodukt (vol)",100,"g",{"$f":"1.36*B469","v":136},{"$f":"0.075*B469","v":7.5},{"$f":"0.095*B469","v":9.5},{"$f":"0.076*B469","v":7.6},569.40480000000002]
["koffieroom",100,"g",{"$f":"2.06*B470","v":206},{"$f":"0.027*B470","v":2.7},{"$f":"0.038*B470","v":3.8},{"$f":"0.2*B470","v":20},862.48079999999993]
["koffiewitmaker",100,"g",{"$f":"5.51*B471","v":551},{"$f":"0.04*B471","v":4},{"$f":"0.55*B471","v":55.000000000000007},{"$f":"0.35*B471","v":35},2306.9267999999997]
["kokosbrood",100,"g",{"$f":"4.22*B472","v":422},{"$f":"0.04*B472","v":4},{"$f":"0.34*B472","v":34},{"$f":"0.3*B472","v":30},1766.8296]
["kokosmakaron",100,"g",{"$f":"4.51*B473","v":451},{"$f":"0.04*B473","v":4},{"$f":"0.57*B473","v":56.999999999999993},{"$f":"0.23*B473","v":23},1888.2467999999999]
["kokosnoot   ",100,"g",{"$f":"3.89*B474","v":389},{"$f":"0.04*B474","v":4},{"$f":"0.1*B474","v":10},{"$f":"0.37*B474","v":37},1628.6651999999999]
["komkommer",100,"g",{"$f":"0.08*B475","v":8},{"$f":"0.01*B475","v":1},{"$f":"0.01*B475","v":1},0,33.494399999999999]
["komkommerspread",100,"g",{"$f":"1.57*B476","v":157},{"$f":"0.01*B476","v":1},{"$f":"0.135*B476","v":13.5},{"$f":"0.11*B476","v":11},657.32759999999996]
["konijn",100,"g",{"$f":"1.6*B477","v":160},{"$f":"0.21*B477","v":21},{"$f":"0.01*B477","v":1},{"$f":"0.08*B477","v":8},669.88799999999992]
["koolraap",100,"g",{"$f":"0.12*B478","v":12},{"$f":"0.01*B478","v":1},{"$f":"0.02*B478","v":2},0,50.241599999999998]
["koolrabi",100,"g",{"$f":"0.24*B479","v":24},{"$f":"0.02*B479","v":2},{"$f":"0.04*B479","v":4},0,100.4832]
["koolvis",100,"g",{"$f":"0.72*B480","v":72},{"$f":"0.18*B480","v":18},0,0,301.44959999999998]
["korstgebak",100,"g",{"$f":"6.11*B481","v":611},{"$f":"0.07*B481","v":7.0000000000000009},{"$f":"0.4*B481","v":40},{"$f":"0.47*B481","v":47},2558.1347999999998]
["kouseband",100,"g",{"$f":"0.4*B482","v":40},{"$f":"0.03*B482","v":3},{"$f":"0.07*B482","v":7.0000000000000009},0,167.47199999999998]
["krab",100,"g",{"$f":"0.82*B483","v":82},{"$f":"0.16*B483","v":16},0,{"$f":"0.02*B483","v":2},343.31759999999997]
["kreeft",100,"g",{"$f":"0.82*B484","v":82},{"$f":"0.16*B484","v":16},0,{"$f":"0.02*B484","v":2},343.31759999999997]
["krenten",100,"g",{"$f":"3.08*B485","v":308},{"$f":"0.02*B485","v":2},{"$f":"0.75*B485","v":75},0,1289.5344]
["krentenbicuits (vitalinea)",50,"g",{"$f":"3.7*B486","v":185},{"$f":"0.065*B486","v":3.25},{"$f":"0.7*B486","v":35},{"$f":"0.07*B486","v":3.5000000000000004},774.55799999999999]
["krentenbol",100,"g",{"$f":"2.67*B487","v":267},{"$f":"0.08*B487","v":8},{"$f":"0.517*B487","v":51.7},{"$f":"0.032*B487","v":3.2},1117.8755999999998]
["krentenbrood",100,"g",{"$f":"2.55*B488","v":254.99999999999997},{"$f":"0.07*B488","v":7.0000000000000009},{"$f":"0.5*B488","v":50},{"$f":"0.03*B488","v":3},1067.6339999999998]
["krentenbrood (volkoren)",100,"g",{"$f":"2.3*B489","v":229.99999999999997},{"$f":"0.071*B489","v":7.1},{"$f":"0.474*B489","v":47.4},{"$f":"0.014*B489","v":1.4000000000000001},962.96399999999983]
["krieken",100,"g",{"$f":"0.39*B490","v":39},{"$f":"0.002*B490","v":0.2},{"$f":"0.09*B490","v":9},{"$f":"0.002*B490","v":0.2},163.2852]
["krisprol",100,"g",{"$f":"4.04*B491","v":404},{"$f":"0.124*B491","v":12.4},{"$f":"0.75*B491","v":75},{"$f":"0.06*B491","v":6},1691.4672]
["kroepoek",100,"g",{"$f":"4.98*B492","v":498.00000000000006},{"$f":"0.04*B492","v":4},{"$f":"0.62*B492","v":62},{"$f":"0.26*B492","v":26},2085.0264000000002]
["kroket",100,"g",{"$f":"2.33*B493","v":233},{"$f":"0.107*B493","v":10.7},{"$f":"0.169*B493","v":16.900000000000002},{"$f":"0.136*B493","v":13.600000000000001},975.52440000000001]
["kruimelvlaai",100,"g",{"$f":"2.93*B494","v":293},{"$f":"0.059*B494","v":5.8999999999999995},{"$f":"0.404*B494","v":40.400000000000006},{"$f":"0.12*B494","v":12},{"$f":"D494*4.1868","v":1226.7323999999999}]
["kruisbessen",100,"g",{"$f":"0.4*B495","v":40},{"$f":"0.01*B495","v":1},{"$f":"0.09*B495","v":9},0,167.47199999999998]
["krulandijvie",100,"g",{"$f":"0.13*B496","v":13},{"$f":"0.018*B496","v":1.7999999999999998},{"$f":"0.009*B496","v":0.89999999999999991},{"$f":"0.002*B496","v":0.2},54.428399999999996]
["kumquat",100,"g",{"$f":"0.42*B497","v":42},{"$f":"0.011*B497","v":1.0999999999999999},{"$f":"0.074*B497","v":7.3999999999999995},{"$f":"0.009*B497","v":0.89999999999999991},175.84559999999999]
["kwark ( mager )",100,"g",{"$f":"0.64*B498","v":64},{"$f":"0.13*B498","v":13},{"$f":"0.03*B498","v":3},0,267.95519999999999]
["kwark (vol)",100,"g",{"$f":"1.59*B499","v":159},{"$f":"0.111*B499","v":11.1},{"$f":"0.032*B499","v":3.2},{"$f":"0.114*B499","v":11.4},665.70119999999997]
["kwark vruchten (mager)",100,"g",{"$f":"1.24*B500","v":124},{"$f":"0.07*B500","v":7.0000000000000009},{"$f":"0.15*B500","v":15},{"$f":"0.04*B500","v":4},519.16319999999996]
["kwarktaart",100,"g",{"$f":"2.28*B501","v":227.99999999999997},{"$f":"0.049*B501","v":4.9000000000000004},{"$f":"0.272*B501","v":27.200000000000003},{"$f":"0.111*B501","v":11.1},954.59039999999982]
["lamsbout",100,"g",211,19,0,15,883]
["lamsfilet",100,"g",{"$f":"1.43*B503","v":143},{"$f":"0.2*B503","v":20},{"$f":"0*B503","v":0},{"$f":"0.07*B503","v":7.0000000000000009},{"$f":"D503*4.1868","v":598.7124}]
["lamsgehakt","100","g",{"$f":"2.11*B504","v":211},{"$f":"0.19*B504","v":19},{"$f":"0*B504","v":0},{"$f":"0.15*B504","v":15},883]
["lamskarbonade",100,"g",{"$f":"3.5*B505","v":350},{"$f":"0.258*B505","v":25.8},0,{"$f":"0.274*B505","v":27.400000000000002},{"$f":"D505*4.1868","v":1465.3799999999999}]
["lamskotelet",100,"g",{"$f":"2.79*B506","v":279},{"$f":"0.18*B506","v":18},{"$f":"0*B506","v":0},{"$f":"0.23*B506","v":23},1168.1171999999999]
["lange vingers",100,"g",{"$f":"3.99*B507","v":399},{"$f":"0.07*B507","v":7.0000000000000009},{"$f":"0.77*B507","v":77},{"$f":"0.07*B507","v":7.0000000000000009},1670.5331999999999]
["langoest",100,"g",{"$f":"0.84*B508","v":84},{"$f":"0.172*B508","v":17.2},{"$f":"0.013*B508","v":1.3},{"$f":"0.011*B508","v":1.0999999999999999},351.69119999999998]
["langoestine",100,"g",{"$f":"0.82*B509","v":82},{"$f":"0.19*B509","v":19},{"$f":"0*B509","v":0},{"$f":"0.007*B509","v":0.70000000000000007},343.31759999999997]
["lasagna. m. vlees & saus",100,"g",{"$f":"1.58*B510","v":158},{"$f":"0.067*B510","v":6.7},{"$f":"0.092*B510","v":9.1999999999999993},{"$f":"0.105*B510","v":10.5},661.51440000000002]
["leidse kaas 20+",100,"g",{"$f":"2.69*B511","v":269},{"$f":"0.38*B511","v":38},0,{"$f":"0.13*B511","v":13},1126.2492]
["lekkerbekje",100,"g",{"$f":"2.19*B512","v":219},{"$f":"0.249*B512","v":24.9},{"$f":"0.021*B512","v":2.1},{"$f":"0.123*B512","v":12.3},916.90919999999994]
["lever",100,"g",{"$f":"1.33*B513","v":133},{"$f":"0.2*B513","v":20},{"$f":"0.02*B513","v":2},{"$f":"0.05*B513","v":5},556.84439999999995]
["leverpastei",100,"g",{"$f":"3.17*B514","v":317},{"$f":"0.14*B514","v":14.000000000000002},0,{"$f":"0.29*B514","v":28.999999999999996},1327.2156]
["leverworst",100,"g",{"$f":"4.21*B515","v":421},{"$f":"0.12*B515","v":12},{"$f":"0.01*B515","v":1},{"$f":"0.41*B515","v":41},1762.6427999999999]
["leverworst ( saksische )",100,"g",{"$f":"3.84*B516","v":384},{"$f":"0.13*B516","v":13},{"$f":"0.02*B516","v":2},{"$f":"0.36*B516","v":36},1607.7311999999999]
["limburgse kaas",100,"g",{"$f":"2.81*B517","v":281},{"$f":"0.21*B517","v":21},{"$f":"0.02*B517","v":2},{"$f":"0.21*B517","v":21},1176.4908]
["linzen ( gedroogd )",100,"g",{"$f":"0.32*B518","v":32},{"$f":"0.03*B518","v":3},{"$f":"0.05*B518","v":5},0,133.9776]
["linzensoep",100,"g",{"$f":"0.5*B519","v":50},{"$f":"0.016*B519","v":1.6},{"$f":"0.051*B519","v":5.0999999999999996},{"$f":"0.026*B519","v":2.6},209.34]
["lion",1,"st",{"$f":"193*B520","v":193},{"$f":"2*B520","v":2},{"$f":"26*B520","v":26},{"$f":"9*B520","v":9},808.05239999999992]
["loempia",100,"g",{"$f":"1.76*B521","v":176},{"$f":"0.07*B521","v":7.0000000000000009},{"$f":"0.186*B521","v":18.600000000000001},{"$f":"0.082*B521","v":8.2000000000000011},736.8768]
["lolly",100,"g",{"$f":"3.8*B522","v":380},0,{"$f":"0.95*B522","v":95},0,1590.9839999999999]
["lychee",100,"g",{"$f":"0.68*B523","v":68},{"$f":"0.01*B523","v":1},{"$f":"0.16*B523","v":16},0,284.70240000000001]
["m&m met chocolade",100,"g",{"$f":"4.83*B524","v":483},{"$f":"0.046*B524","v":4.5999999999999996},{"$f":"0.705*B524","v":70.5},{"$f":"0.203*B524","v":20.3},2022.2243999999998]
["m&m met pinda's",100,"g",{"$f":"5.14*B525","v":514},{"$f":"0.102*B525","v":10.199999999999999},{"$f":"0.573*B525","v":57.3},{"$f":"0.271*B525","v":27.1},2152.0151999999998]
["maaltijdsoep",100,"g",{"$f":"0.63*B526","v":63},{"$f":"0.03*B526","v":3},{"$f":"0.06*B526","v":6},{"$f":"0.03*B526","v":3},263.76839999999999]
["maaslander",100,"g",{"$f":"3.7*B527","v":370},{"$f":"0.25*B527","v":25},0,{"$f":"0.3*B527","v":30},1549.116]
["macaroni",100,"g",{"$f":"3.58*B528","v":358},{"$f":"0.13*B528","v":13},{"$f":"0.72*B528","v":72},{"$f":"0.02*B528","v":2},1498.8743999999999]
["macédoine de légumes",100,"g",{"$f":"0.3*B529","v":30},{"$f":"0.018*B529","v":1.7999999999999998},{"$f":"0.05*B529","v":5},{"$f":"0.003*B529","v":0.3},125.604]
["madeleine",100,"g",{"$f":"4.72*B530","v":472},{"$f":"0.055*B530","v":5.5},{"$f":"0.63*B530","v":63},{"$f":"0.22*B530","v":22},1976.1695999999999]
["magere smeltkaas - natuur (effi)",100,"g",{"$f":"1.99*B531","v":199},{"$f":"0.14*B531","v":14.000000000000002},{"$f":"0.065*B531","v":6.5},{"$f":"0.135*B531","v":13.5},833.17319999999995]
["mais",100,"g",{"$f":"1.14*B532","v":113.99999999999999},{"$f":"0.033*B532","v":3.3000000000000003},{"$f":"0.23*B532","v":23},{"$f":"0.01*B532","v":1},477.29519999999991]
["maisgriesmeel",100,"g",{"$f":"3.57*B533","v":357},{"$f":"0.088*B533","v":8.7999999999999989},{"$f":"0.78*B533","v":78},{"$f":"0.011*B533","v":1.0999999999999999},1494.6876]
["maiskorrels",100,"g",{"$f":"0.7*B534","v":70},{"$f":"0.027*B534","v":2.7},{"$f":"0.12*B534","v":12},{"$f":"0.013*B534","v":1.3},293.07599999999996]
["maizena",100,"g",{"$f":"3.37*B535","v":337},0,{"$f":"0.84*B535","v":84},{"$f":"0.001*B535","v":0.1},1410.9515999999999]
["makaron",100,"g",{"$f":"3.93*B536","v":393},{"$f":"0.04*B536","v":4},{"$f":"0.65*B536","v":65},{"$f":"0.13*B536","v":13},1645.4123999999999]
["makreel",100,"g",{"$f":"1.58*B537","v":158},{"$f":"0.17*B537","v":17},0,{"$f":"0.1*B537","v":10},661.51440000000002]
["mandarijn",1,"st",{"$f":"16*B538","v":16},0,{"$f":"4*B538","v":4},0,66.988799999999998]
["mandarijnen op siroop",100,"g",{"$f":"0.56*B539","v":56.000000000000007},0,{"$f":"0.14*B539","v":14.000000000000002},0,234.46080000000003]
["mango",1,"st",{"$f":"64*B540","v":64},{"$f":"1*B540","v":1},{"$f":"15*B540","v":15},0,267.95519999999999]
["mango chutney",100,"g",{"$f":"2.08*B541","v":208},0,{"$f":"0.52*B541","v":52},0,870.85439999999994]
["marcassin",100,"g",{"$f":"1.04*B542","v":104},{"$f":"0.21*B542","v":21},{"$f":"0.004*B542","v":0.4},{"$f":"0.02*B542","v":2},435.42719999999997]
["maredsous",100,"g",{"$f":"3.15*B543","v":315},{"$f":"0.23*B543","v":23},{"$f":"0.005*B543","v":0.5},{"$f":"0.245*B543","v":24.5},1318.8419999999999]
["margarine (60-70% vet)",100,"g",{"$f":"5.89*B544","v":589},{"$f":"0.002*B544","v":0.2},{"$f":"0.008*B544","v":0.8},{"$f":"0.65*B544","v":65},2466.0252]
["margarine (dieet)",100,"g",{"$f":"7.48*B545","v":748},{"$f":"0.002*B545","v":0.2},{"$f":"0.006*B545","v":0.6},{"$f":"0.828*B545","v":82.8},3131.7264]
["margarine (gezouten)",100,"g",{"$f":"7.47*B546","v":747},0,0,{"$f":"0.83*B546","v":83},3127.5396000000001]
["marmite (gistextract)",100,"g",{"$f":"1.66*B547","v":166},{"$f":"0.414*B547","v":41.4},0,{"$f":"0.001*B547","v":0.1},695.00879999999995]
["mars",1,"st",{"$f":"267*B548","v":267},{"$f":"3*B548","v":3},{"$f":"39*B548","v":39},{"$f":"11*B548","v":11},1117.8755999999998]
["marsepein",100,"g",{"$f":"3.6*B549","v":360},{"$f":"0.08*B549","v":8},{"$f":"0.64*B549","v":64},{"$f":"0.08*B549","v":8},1507.248]
["marsh mellows",100,"g",{"$f":"3.28*B550","v":328},{"$f":"0.02*B550","v":2},{"$f":"0.8*B550","v":80},0,1373.2703999999999]
["mascarpone",100,"g",{"$f":"4.57*B551","v":457},{"$f":"0.052*B551","v":5.2},{"$f":"0.043*B551","v":4.3},{"$f":"0.465*B551","v":46.5},1913.3676]
["matse",100,"g",{"$f":"3.25*B552","v":325},{"$f":"0.11*B552","v":11},{"$f":"0.68*B552","v":68},{"$f":"0.01*B552","v":1},1360.71]
["mayonaise ( effi dressing )",1,"kl",{"$f":"47*B553","v":47},{"$f":"0*B553","v":0},{"$f":"0.5*B553","v":0.5},{"$f":"5*B553","v":5},196.77959999999999]
["mayonaise 50% ",1,"el",{"$f":"98*B554","v":98},{"$f":"2*B554","v":2},0,{"$f":"10*B554","v":10},410.3064]
["mayonaise 80%   ",1,"el",{"$f":"144*B555","v":144},0,0,{"$f":"16*B555","v":16},602.89919999999995]
["McChicken (mcdonalds)",1,"st",{"$f":"425*B556","v":425},{"$f":"21.9*B556","v":21.9},{"$f":"4.6*B556","v":4.5999999999999996},{"$f":"18.6*B556","v":18.600000000000001},1779.3899999999999]
["mcdeluxe (mcdonalds)",1,"st",{"$f":"466*B557","v":466},{"$f":"28.4*B557","v":28.4},{"$f":"37.4*B557","v":37.4},{"$f":"22.6*B557","v":22.6},1951.0488]
["meergranenbrood",100,"g",{"$f":"2.12*B558","v":212},{"$f":"0.084*B558","v":8.4},{"$f":"0.405*B558","v":40.5},{"$f":"0.018*B558","v":1.7999999999999998},887.60159999999996]
["melk ( half volle )",10,"cl",{"$f":"5*B559","v":50},{"$f":"0.4*B559","v":4},{"$f":"0.5*B559","v":5},{"$f":"0.15*B559","v":1.5},209.34]
["melk ( magere )",10,"cl",{"$f":"3.3*B560","v":33},{"$f":"0.32*B560","v":3.2},{"$f":"0.49*B560","v":4.9000000000000004},{"$f":"0.008*B560","v":0.08},138.1644]
["melk (volle )",10,"cl",{"$f":"6.4*B561","v":64},{"$f":"0.32*B561","v":3.2},{"$f":"0.47*B561","v":4.6999999999999993},{"$f":"0.36*B561","v":3.5999999999999996},267.95519999999999]
["meloen (honing)",100,"g",{"$f":"0.28*B562","v":28.000000000000004},{"$f":"0.01*B562","v":1},{"$f":"0.06*B562","v":6},0,117.23040000000002]
["meloen (water)",100,"g",{"$f":"0.24*B563","v":24},{"$f":"0.01*B563","v":1},{"$f":"0.05*B563","v":5},0,100.4832]
["mergpijpje",100,"g",{"$f":"4.43*B564","v":443},{"$f":"0.066*B564","v":6.6000000000000005},{"$f":"0.495*B564","v":49.5},{"$f":"0.243*B564","v":24.3},1854.7523999999999]
["mie",100,"g",{"$f":"0.94*B565","v":94},{"$f":"0.031*B565","v":3.1},{"$f":"0.193*B565","v":19.3},{"$f":"0.005*B565","v":0.5},393.55919999999998]
["mierik",100,"g",{"$f":"0.63*B566","v":63},{"$f":"0.028*B566","v":2.8000000000000003},{"$f":"0.124*B566","v":12.4},{"$f":"0.003*B566","v":0.3},263.76839999999999]
["mihoen",100,"g",{"$f":"1.44*B567","v":144},{"$f":"0.03*B567","v":3},{"$f":"0.33*B567","v":33},0,602.89919999999995]
["minarine alpro",100,"g",{"$f":"3.62*B568","v":362},{"$f":"0.015*B568","v":1.5},{"$f":"0*B568","v":0},{"$f":"0.395*B568","v":39.5},1515.6215999999999]
["minestronesoep",100,"g",{"$f":"0.74*B569","v":74},{"$f":"0.05*B569","v":5},{"$f":"0.09*B569","v":9},{"$f":"0.02*B569","v":2},{"$f":"D569*4.1868","v":309.82319999999999}]
["mini pizza",100,"g",{"$f":"2.87*B570","v":287},{"$f":"0.12*B570","v":12},{"$f":"0.35*B570","v":35},{"$f":"0.11*B570","v":11},1201.6116]
["minute soup",1,"pkj",{"$f":"91*B571","v":91},{"$f":"2.8*B571","v":2.8},{"$f":"12.8*B571","v":12.8},{"$f":"3.2*B571","v":3.2},380.99879999999996]
["miso",100,"g",{"$f":"1.16*B572","v":115.99999999999999},{"$f":"0.117*B572","v":11.700000000000001},{"$f":"0.062*B572","v":6.2},{"$f":"0.05*B572","v":5},485.66879999999992]
["mispel",100,"g",{"$f":"0.48*B573","v":48},{"$f":"0.004*B573","v":0.4},{"$f":"0.106*B573","v":10.6},{"$f":"0.004*B573","v":0.4},200.96639999999999]
["mixed pickles",1,"el",{"$f":"4*B574","v":4},0,{"$f":"1*B574","v":1},0,16.747199999999999]
["mokkataart",100,"g",{"$f":"4.77*B575","v":476.99999999999994},{"$f":"0.05*B575","v":5},{"$f":"0.4*B575","v":40},{"$f":"0.33*B575","v":33},1997.1035999999997]
["monchou",100,"g",{"$f":"3.32*B576","v":332},{"$f":"0.085*B576","v":8.5},{"$f":"0.01*B576","v":1},{"$f":"0.327*B576","v":32.700000000000003},1390.0175999999999]
["moorkop             ",1,"st",{"$f":"201*B577","v":201},{"$f":"3*B577","v":3},{"$f":"18*B577","v":18},{"$f":"13*B577","v":13},841.54679999999996]
["mortadella",100,"g",{"$f":"3.45*B578","v":345},{"$f":"0.124*B578","v":12.4},{"$f":"0*B578","v":0},{"$f":"0.328*B578","v":32.800000000000004},1444.4459999999999]
["mosselen",100,"g",{"$f":"0.49*B579","v":49},{"$f":"0.1*B579","v":10},0,{"$f":"0.01*B579","v":1},205.1532]
["mosterd",100,"g",{"$f":"0.8*B580","v":80},{"$f":"0.05*B580","v":5},{"$f":"0.06*B580","v":6},{"$f":"0.04*B580","v":4},334.94399999999996]
["moussaka",100,"g",{"$f":"0.93*B581","v":93},{"$f":"0.045*B581","v":4.5},{"$f":"0.075*B581","v":7.5},{"$f":"0.05*B581","v":5},389.37239999999997]
["mozzarella",100,"g",{"$f":"2.99*B582","v":299},{"$f":"0.265*B582","v":26.5},{"$f":"0.01*B582","v":1},{"$f":"0.21*B582","v":21},1251.8532]
["muesli",100,"g",{"$f":"3.74*B583","v":374},{"$f":"0.065*B583","v":6.5},{"$f":"0.68*B583","v":68},{"$f":"0.085*B583","v":8.5},1565.8632]
["muisjes",100,"g",{"$f":"3.93*B584","v":393},{"$f":"0.001*B584","v":0.1},{"$f":"0.982*B584","v":98.2},0,1645.4123999999999]
["nasi goreng zonder ei",100,"g",{"$f":"1.26*B585","v":126},{"$f":"0.041*B585","v":4.1000000000000005},{"$f":"0.218*B585","v":21.8},{"$f":"0.025*B585","v":2.5},527.53679999999997]
["nasibal",100,"g",{"$f":"3.01*B586","v":301},{"$f":"0.06*B586","v":6},{"$f":"0.31*B586","v":31},{"$f":"0.17*B586","v":17},1260.2267999999999]
["nectarine",1,"st",{"$f":"50*B587","v":50},{"$f":"0.5*B587","v":0.5},{"$f":"12*B587","v":12},0,209.34]
["negerzoen",100,"g",{"$f":"3.65*B588","v":365},{"$f":"0.047*B588","v":4.7},{"$f":"0.386*B588","v":38.6},{"$f":"0.213*B588","v":21.3},1528.182]
["netmeloen",100,"g",{"$f":"0.24*B589","v":24},0,{"$f":"0.06*B589","v":6},0,100.4832]
["noedels (Griekse)",100,"g",{"$f":"3.55*B590","v":355},{"$f":"0.13*B590","v":13},{"$f":"0.73*B590","v":73},{"$f":"0.015*B590","v":1.5},1486.3139999999999]
["nogat ",100,"g",{"$f":"4.72*B591","v":472},{"$f":"0.06*B591","v":6},{"$f":"0.67*B591","v":67},{"$f":"0.2*B591","v":20},1976.1695999999999]
["nutella",100,"g",{"$f":"5.33*B592","v":533},{"$f":"0.065*B592","v":6.5},{"$f":"0.57*B592","v":56.999999999999993},{"$f":"0.31*B592","v":31},2231.5643999999998]
["oesters",100,"g",{"$f":"0.65*B593","v":65},{"$f":"0.09*B593","v":9},{"$f":"0.05*B593","v":5},{"$f":"0.01*B593","v":1},272.142]
["olie ",1,"el",{"$f":"108*B594","v":108},{"$f":"0*B594","v":0},{"$f":"0*B594","v":0},{"$f":"12*B594","v":12},452.17439999999999]
["olijven",100,"g",{"$f":"2.32*B595","v":231.99999999999997},{"$f":"0.06*B595","v":6},{"$f":"0.07*B595","v":7.0000000000000009},{"$f":"0.2*B595","v":20},971.33759999999984]
["ontbijtkoek",100,"g",{"$f":"2.88*B596","v":288},{"$f":"0.04*B596","v":4},{"$f":"0.68*B596","v":68},0,1205.7983999999999]
["ontbijtkoek met noten",100,"g",{"$f":"3.67*B597","v":367},{"$f":"0.087*B597","v":8.6999999999999993},{"$f":"0.555*B597","v":55.500000000000007},{"$f":"0.123*B597","v":12.3},1536.5555999999999]
["ontbijtspek",100,"g",{"$f":"7.85*B598","v":785},{"$f":"0.05*B598","v":5},0,{"$f":"0.85*B598","v":85},3286.6379999999999]
["ossehaas",100,"g",{"$f":"1.89*B599","v":189},{"$f":"0.256*B599","v":25.6},{"$f":"0.012*B599","v":1.2},{"$f":"0.091*B599","v":9.1},791.30520000000001]
["osseworst",100,"g",{"$f":"2.32*B600","v":231.99999999999997},{"$f":"0.25*B600","v":25},{"$f":"0.007*B600","v":0.70000000000000007},{"$f":"0.144*B600","v":14.399999999999999},971.33759999999984]
["ovenfrites",100,"g",{"$f":"2.86*B601","v":286},{"$f":"0.058*B601","v":5.8000000000000007},{"$f":"0.46*B601","v":46},{"$f":"0.088*B601","v":8.7999999999999989},1197.4248]
["paardenbiefstuk",100,"g",{"$f":"1.07*B602","v":107},{"$f":"0.2*B602","v":20},0,{"$f":"0.03*B602","v":3},447.98759999999999]
["paardenrookvlees",100,"g",{"$f":"0.88*B603","v":88},{"$f":"0.22*B603","v":22},{"$f":"0*B603","v":0},0,368.4384]
["paling",100,"g",{"$f":"2.09*B604","v":209},{"$f":"0.14*B604","v":14.000000000000002},{"$f":"0*B604","v":0},{"$f":"0.17*B604","v":17},875.0412]
["paling (gerookt)",100,"g",{"$f":"2.86*B605","v":286},{"$f":"0.179*B605","v":17.899999999999999},0,{"$f":"0.238*B605","v":23.799999999999997},1197.4248]
["paling (gestoofd)",100,"g",{"$f":"1.75*B606","v":175},{"$f":"0.16*B606","v":16},0,{"$f":"0.124*B606","v":12.4},732.68999999999994]
["palingworst",100,"g",{"$f":"4.24*B607","v":424},{"$f":"0.12*B607","v":12},{"$f":"0.04*B607","v":4},{"$f":"0.4*B607","v":40},1775.2031999999999]
["palmhart",100,"g",{"$f":"0.36*B608","v":36},{"$f":"0.021*B608","v":2.1},{"$f":"0.055*B608","v":5.5},{"$f":"0.006*B608","v":0.6},150.72479999999999]
["pandabrood",100,"g",{"$f":"2.7*B609","v":270},{"$f":"0.144*B609","v":14.399999999999999},{"$f":"0.364*B609","v":36.4},{"$f":"0.075*B609","v":7.5},1130.4359999999999]
["paneermeel",1,"el",{"$f":"37*B610","v":37},{"$f":"1*B610","v":1},{"$f":"6*B610","v":6},{"$f":"1*B610","v":1},154.91159999999999]
["pannenkoek",100,"g",{"$f":"1.94*B611","v":194},{"$f":"0.083*B611","v":8.3000000000000007},{"$f":"0.292*B611","v":29.2},{"$f":"0.049*B611","v":4.9000000000000004},812.23919999999998]
["pap. halfvolle melk",100,"g",{"$f":"0.69*B612","v":69},{"$f":"0.042*B612","v":4.2},{"$f":"0.098*B612","v":9.8000000000000007},{"$f":"0.015*B612","v":1.5},288.88920000000002]
["papaya",100,"g",{"$f":"0.36*B613","v":36},{"$f":"0.01*B613","v":1},{"$f":"0.08*B613","v":8},0,150.72479999999999]
["paprika (groen)",100,"g",{"$f":"0.28*B614","v":28.000000000000004},{"$f":"0.01*B614","v":1},{"$f":"0.06*B614","v":6},0,117.23040000000002]
["paprika (rood)",100,"g",{"$f":"0.48*B615","v":48},{"$f":"0.02*B615","v":2},{"$f":"0.1*B615","v":10},0,200.96639999999999]
["paranoten",100,"g",{"$f":"6.83*B616","v":683},{"$f":"0.15*B616","v":15},{"$f":"0.05*B616","v":5},{"$f":"0.67*B616","v":67},2859.5843999999997]
["parelhoen",100,"g",{"$f":"1.5*B617","v":150},{"$f":"0.231*B617","v":23.1},{"$f":"0*B617","v":0},{"$f":"0.064*B617","v":6.4},628.02]
["parmazaan",100,"g",{"$f":"3.75*B618","v":375},{"$f":"0.356*B618","v":35.6},{"$f":"0*B618","v":0},{"$f":"0.258*B618","v":25.8},1570.05]
["parmezaanse kaas",100,"g",{"$f":"4.11*B619","v":411.00000000000006},{"$f":"0.4*B619","v":40},{"$f":"0.02*B619","v":2},{"$f":"0.27*B619","v":27},1720.7748000000001]
["parovita",100,"g",{"$f":"4.37*B620","v":437},{"$f":"0.1*B620","v":10},{"$f":"0.7*B620","v":70},{"$f":"0.13*B620","v":13},1829.6315999999999]
["passendale",100,"g",{"$f":"3.57*B621","v":357},{"$f":"0.2*B621","v":20},{"$f":"0.04*B621","v":4},{"$f":"0.29*B621","v":28.999999999999996},1494.6876]
["passievrucht",100,"g",{"$f":"1.02*B622","v":102},{"$f":"0.02*B622","v":2},{"$f":"0.19*B622","v":19},{"$f":"0.02*B622","v":2},427.05359999999996]
["pasta",100,"g",{"$f":"3.47*B623","v":347},{"$f":"0.12*B623","v":12},{"$f":"0.713*B623","v":71.3},{"$f":"0.015*B623","v":1.5},1452.8196]
["pastei (herta-fijn)",100,"g",{"$f":"2.42*B624","v":242},{"$f":"0.155*B624","v":15.5},{"$f":"0*B624","v":0},{"$f":"0.2*B624","v":20},1013.2056]
["pasteibakje",100,"g",{"$f":"6.55*B625","v":655},{"$f":"0.07*B625","v":7.0000000000000009},{"$f":"0.42*B625","v":42},{"$f":"0.51*B625","v":51},2742.3539999999998]
["paté",100,"g",{"$f":"4.2*B626","v":420},{"$f":"0.11*B626","v":11},{"$f":"0.04*B626","v":4},{"$f":"0.4*B626","v":40},1758.4559999999999]
["patrijs",100,"g",{"$f":"1.15*B627","v":114.99999999999999},{"$f":"0.25*B627","v":25},{"$f":"0.005*B627","v":0.5},{"$f":"0.014*B627","v":1.4000000000000001},481.48199999999991]
["paturain",100,"g",{"$f":"3.64*B628","v":364},{"$f":"0.1*B628","v":10},0,{"$f":"0.36*B628","v":36},1523.9951999999998]
["peer",1,"st",{"$f":"52*B629","v":52},{"$f":"1*B629","v":1},{"$f":"12*B629","v":12},0,217.71359999999999]
["pekelvlees",100,"g",{"$f":"2.89*B630","v":289},{"$f":"0.16*B630","v":16},0,{"$f":"0.25*B630","v":25},1209.9851999999998]
["pennywafel",100,"g",{"$f":"4.82*B631","v":482},{"$f":"0.056*B631","v":5.6000000000000005},{"$f":"0.675*B631","v":67.5},{"$f":"0.211*B631","v":21.099999999999998},2018.0375999999999]
["pensen (witte)",100,"g",{"$f":"2.69*B632","v":269},{"$f":"0.11*B632","v":11},{"$f":"0*B632","v":0},{"$f":"0.25*B632","v":25},1126.2492]
["pensen (zwarte)",100,"g",{"$f":"3.71*B633","v":371},{"$f":"0.16*B633","v":16},{"$f":"0.025*B633","v":2.5},{"$f":"0.33*B633","v":33},{"$f":"D633*4.1868","v":1553.3027999999999}]
["peperkoek",100,"g",{"$f":"2.63*B634","v":263},{"$f":"0.034*B634","v":3.4000000000000004},{"$f":"0.604*B634","v":60.4},{"$f":"0.009*B634","v":0.89999999999999991},1101.1284000000001]
["pepermunt",100,"g",{"$f":"3.96*B635","v":396},0,{"$f":"0.99*B635","v":99},0,1657.9728]
["pepernoot",100,"g",{"$f":"4.89*B636","v":488.99999999999994},{"$f":"0.061*B636","v":6.1},{"$f":"0.683*B636","v":68.300000000000011},{"$f":"0.213*B636","v":21.3},2047.3451999999997]
["pere joseph",100,"g",{"$f":"3.21*B637","v":321},{"$f":"0.227*B637","v":22.7},{"$f":"0*B637","v":0},{"$f":"0.256*B637","v":25.6},1343.9628]
["peren op siroop",100,"g",{"$f":"0.6*B638","v":60},{"$f":"0.003*B638","v":0.3},{"$f":"0.147*B638","v":14.7},0,251.208]
["perenstroop",100,"g",{"$f":"2.26*B639","v":225.99999999999997},{"$f":"0.019*B639","v":1.9},{"$f":"0.546*B639","v":54.6},0,946.21679999999981]
["peresap",100,"g",{"$f":"0.35*B640","v":35},{"$f":"0.001*B640","v":0.1},{"$f":"0.087*B640","v":8.6999999999999993},0,146.53799999999998]
["perzik",1,"st",{"$f":"46*B641","v":46},{"$f":"0.8*B641","v":0.8},{"$f":"10.5*B641","v":10.5},{"$f":"0.1*B641","v":0.1},192.59279999999998]
["perziken op siroop",100,"g",{"$f":"0.7*B642","v":70},{"$f":"0.006*B642","v":0.6},{"$f":"0.17*B642","v":17},0,293.07599999999996]
["peterselie",100,"g",{"$f":"0.56*B643","v":56.000000000000007},{"$f":"0.04*B643","v":4},{"$f":"0.1*B643","v":10},0,234.46080000000003]
["petit beurre",100,"g",{"$f":"4.48*B644","v":448.00000000000006},{"$f":"0.07*B644","v":7.0000000000000009},{"$f":"0.78*B644","v":78},{"$f":"0.12*B644","v":12},1875.6864000000003]
["petit filous yoplait",100,"g",{"$f":"1.28*B645","v":128},{"$f":"0.076*B645","v":7.6},{"$f":"0.137*B645","v":13.700000000000001},{"$f":"0.048*B645","v":4.8},535.91039999999998]
["petit four",100,"g",{"$f":"4.77*B646","v":476.99999999999994},{"$f":"0.05*B646","v":5},{"$f":"0.4*B646","v":40},{"$f":"0.33*B646","v":33},1997.1035999999997]
["petit gervais ( calcium )",100,"g",{"$f":"1.42*B647","v":142},{"$f":"0.06*B647","v":6},{"$f":"0.16*B647","v":16},{"$f":"0.06*B647","v":6},594.52559999999994]
["petit gervais ( fruit )",100,"g",{"$f":"1.71*B648","v":171},{"$f":"0.065*B648","v":6.5},{"$f":"0.18*B648","v":18},{"$f":"0.081*B648","v":8.1},715.94279999999992]
["petit suisse creme",100,"g",{"$f":"1.46*B649","v":146},{"$f":"0.087*B649","v":8.6999999999999993},{"$f":"0.033*B649","v":3.3000000000000003},{"$f":"0.109*B649","v":10.9},611.27279999999996]
["piccalilly",1,"el",{"$f":"8*B650","v":8},{"$f":"0*B650","v":0},{"$f":"2*B650","v":2},0,33.494399999999999]
["pijnboompitten",100,"g",{"$f":"6.7*B651","v":670},{"$f":"0.125*B651","v":12.5},{"$f":"0.2*B651","v":20},{"$f":"0.6*B651","v":60},2805.1559999999999]
["pims cake",100,"g",{"$f":"3.12*B652","v":312},{"$f":"0.045*B652","v":4.5},{"$f":"0.52*B652","v":52},{"$f":"0.095*B652","v":9.5},1306.2816]
["pindakaas",100,"g",{"$f":"1.22*B653","v":122},{"$f":"0.05*B653","v":5},{"$f":"0.03*B653","v":3},{"$f":"0.1*B653","v":10},510.78960000000001]
["pindakaas",100,"g",{"$f":"6.47*B654","v":647},{"$f":"0.262*B654","v":26.200000000000003},{"$f":"0.162*B654","v":16.2},{"$f":"0.531*B654","v":53.1},2708.8595999999998]
["pindanoten  ",100,"g",{"$f":"6.17*B655","v":617},{"$f":"0.26*B655","v":26},{"$f":"0.18*B655","v":18},{"$f":"0.49*B655","v":49},2583.2556]
["pinda's (gezouten)",100,"g",{"$f":"6.25*B656","v":625},{"$f":"0.288*B656","v":28.799999999999997},{"$f":"0.086*B656","v":8.6},{"$f":"0.528*B656","v":52.800000000000004},2616.75]
["pinda's (ongezouten)",100,"g",{"$f":"6.29*B657","v":629},{"$f":"0.285*B657","v":28.499999999999996},{"$f":"0.126*B657","v":12.6},{"$f":"0.516*B657","v":51.6},2633.4971999999998]
["pistachenootjes (gepeld)",100,"g",{"$f":"5.91*B658","v":591},{"$f":"0.19*B658","v":19},{"$f":"0.05*B658","v":5},{"$f":"0.55*B658","v":55.000000000000007},2474.3987999999999]
["pistolet",1,"st",{"$f":"104*B659","v":104},{"$f":"3*B659","v":3},{"$f":"23*B659","v":23},0,435.42719999999997]
["pittabroodje",100,"g",{"$f":"2.57*B660","v":257},{"$f":"0.086*B660","v":8.6},{"$f":"0.53*B660","v":53},{"$f":"0.012*B660","v":1.2},1076.0075999999999]
["pizza",100,"g",{"$f":"2.24*B661","v":224.00000000000003},{"$f":"0.077*B661","v":7.7},{"$f":"0.235*B661","v":23.5},{"$f":"0.11*B661","v":11},937.84320000000014]
["poestasaus",100,"g",{"$f":"1*B662","v":100},{"$f":"0.02*B662","v":2},{"$f":"0.23*B662","v":23},0,418.68]
["pomodoro",100,"g",{"$f":"0.41*B663","v":41},{"$f":"0.02*B663","v":2},{"$f":"0.06*B663","v":6},{"$f":"0.01*B663","v":1},171.65879999999999]
["pompelmoes",1,"st",{"$f":"72*B664","v":72},{"$f":"1*B664","v":1},{"$f":"17*B664","v":17},0,301.44959999999998]
["pompoen  ",100,"g",{"$f":"0.36*B665","v":36},{"$f":"0.01*B665","v":1},{"$f":"0.08*B665","v":8},0,150.72479999999999]
["poon (gekookt)",100,"g",{"$f":"1.13*B666","v":112.99999999999999},{"$f":"0.17*B666","v":17},0,{"$f":"0.05*B666","v":5},473.1083999999999]
["popcorn",100,"g",{"$f":"3.76*B667","v":376},{"$f":"0.13*B667","v":13},{"$f":"0.72*B667","v":72},{"$f":"0.04*B667","v":4},1574.2367999999999]
["port salut",100,"g",{"$f":"3.14*B668","v":314},{"$f":"0.21*B668","v":21},{"$f":"0*B668","v":0},{"$f":"0.255*B668","v":25.5},1314.6551999999999]
["postelein (gekookt)",100,"g",{"$f":"0.16*B669","v":16},{"$f":"0.02*B669","v":2},{"$f":"0.02*B669","v":2},0,66.988799999999998]
["postelijn",100,"g",{"$f":"0.26*B670","v":26},{"$f":"0.015*B670","v":1.5},{"$f":"0.043*B670","v":4.3},{"$f":"0.003*B670","v":0.3},108.85679999999999]
["prei",100,"g",{"$f":"0.28*B671","v":28.000000000000004},{"$f":"0.02*B671","v":2},{"$f":"0.05*B671","v":5},0,117.23040000000002]
["prei- en hamsalade",100,"g",{"$f":"2.71*B672","v":271},{"$f":"0.023*B672","v":2.2999999999999998},{"$f":"0.085*B672","v":8.5},{"$f":"0.253*B672","v":25.3},1134.6227999999999]
["prince chocolade (lu)",1,"st",{"$f":"108*B673","v":108},{"$f":"1.4*B673","v":1.4},{"$f":"15.7*B673","v":15.7},{"$f":"4.4*B673","v":4.4000000000000004},452.17439999999999]
["prinsessenbonen ",100,"g",{"$f":"0.32*B674","v":32},{"$f":"0.03*B674","v":3},{"$f":"0.05*B674","v":5},0,133.9776]
["pro 80%",100,"g",{"$f":"3.59*B675","v":359},{"$f":"0.8*B675","v":80},{"$f":"0.075*B675","v":7.5},{"$f":"0.01*B675","v":1},1503.0611999999999]
["proteine blast",1,"st",{"$f":"136*B676","v":136},{"$f":"10.2*B676","v":10.199999999999999},{"$f":"17.7*B676","v":17.7},{"$f":"2.7*B676","v":2.7},569.40480000000002]
["pruim",1,"st",{"$f":"24*B677","v":24},0,{"$f":"6*B677","v":6},0,100.4832]
["pruimen (geweekt)",100,"g",{"$f":"1.22*B678","v":122},{"$f":"0.013*B678","v":1.3},{"$f":"0.293*B678","v":29.299999999999997},0,510.78960000000001]
["pruimen op siroop",100,"g",{"$f":"0.68*B679","v":68},0,{"$f":"0.17*B679","v":17},0,284.70240000000001]
["pruimengebakje (vitalinea)",1,"st",{"$f":"108*B680","v":108},{"$f":"1.1*B680","v":1.1000000000000001},{"$f":"20.7*B680","v":20.7},{"$f":"2.4*B680","v":2.4},452.17439999999999]
["quorn",100,"g",{"$f":"0.86*B681","v":86},{"$f":"0.125*B681","v":12.5},{"$f":"0.018*B681","v":1.7999999999999998},{"$f":"0.032*B681","v":3.2},360.06479999999999]
["raap",100,"g",{"$f":"0.16*B682","v":16},{"$f":"0.001*B682","v":0.1},{"$f":"0.04*B682","v":4},0,66.988799999999998]
["rabarber        ",1,"st",{"$f":"8*B683","v":8},0,{"$f":"2*B683","v":2},0,33.494399999999999]
["rabarbermoes",100,"g",{"$f":"0.72*B684","v":72},{"$f":"0.01*B684","v":1},{"$f":"0.17*B684","v":17},0,301.44959999999998]
["raclette fonduekaas",100,"g",{"$f":"3.56*B685","v":356},{"$f":"0.256*B685","v":25.6},{"$f":"0*B685","v":0},{"$f":"0.282*B685","v":28.199999999999996},1490.5008]
["radijsjes  ",100,"g",{"$f":"0.2*B686","v":20},{"$f":"0.01*B686","v":1},{"$f":"0.04*B686","v":4},0,83.73599999999999]
["rambol",100,"g",{"$f":"2.82*B687","v":282},{"$f":"0.13*B687","v":13},{"$f":"0.08*B687","v":8},{"$f":"0.22*B687","v":22},1180.6776]
["rauwe ham",100,"g",{"$f":"3.05*B688","v":305},{"$f":"0.2*B688","v":20},0,{"$f":"0.25*B688","v":25},1276.9739999999999]
["rauwkost (bladgroente)",100,"g",{"$f":"0.13*B689","v":13},{"$f":"0.012*B689","v":1.2},{"$f":"0.021*B689","v":2.1},0,54.428399999999996]
["rauwkost (vaste groente)",100,"g",{"$f":"0.13*B690","v":13},{"$f":"0.012*B690","v":1.2},{"$f":"0.021*B690","v":2.1},0,54.428399999999996]
["ravioli",100,"g",{"$f":"1.13*B691","v":112.99999999999999},{"$f":"0.05*B691","v":5},{"$f":"0.12*B691","v":12},{"$f":"0.05*B691","v":5},473.1083999999999]
["ree",100,"g",{"$f":"1.18*B692","v":118},{"$f":"0.214*B692","v":21.4},{"$f":"0*B692","v":0},{"$f":"0.036*B692","v":3.5999999999999996},494.04239999999999]
["reuzel",100,"g",{"$f":"9*B693","v":900},0,0,{"$f":"1*B693","v":100},3768.12]
["riblap",100,"g",{"$f":"2.65*B694","v":265},{"$f":"0.34*B694","v":34},0,{"$f":"0.144*B694","v":14.399999999999999},1109.502]
["rice crispies",100,"g",{"$f":"3.77*B695","v":377},{"$f":"0.06*B695","v":6},{"$f":"0.86*B695","v":86},{"$f":"0.01*B695","v":1},1578.4235999999999]
["ricotta",100,"g",{"$f":"1.96*B696","v":196},{"$f":"0.095*B696","v":9.5},{"$f":"0.035*B696","v":3.5000000000000004},{"$f":"0.16*B696","v":16},820.61279999999999]
["rijst ( basmati )",100,"g",{"$f":"3.47*B697","v":347},{"$f":"0.07*B697","v":7.0000000000000009},{"$f":"0.785*B697","v":78.5},{"$f":"0.005*B697","v":0.5},{"$f":"D697*4.1868","v":1452.8196}]
["rijst (zilvervlies )",100,"g",{"$f":"3.69*B698","v":369},{"$f":"0.089*B698","v":8.9},{"$f":"0.78*B698","v":78},{"$f":"0.024*B698","v":2.4},1544.9292]
["rijstevlaai",100,"g",{"$f":"2.55*B699","v":254.99999999999997},{"$f":"0.075*B699","v":7.5},{"$f":"0.317*B699","v":31.7},{"$f":"0.109*B699","v":10.9},1067.6339999999998]
["rijstpap ( danone )",100,"g",{"$f":"1.37*B700","v":137},{"$f":"0.032*B700","v":3.2},{"$f":"0.232*B700","v":23.200000000000003},{"$f":"0.035*B700","v":3.5000000000000004},573.59159999999997]
["rijsttaart",100,"g",{"$f":"2.49*B701","v":249.00000000000003},{"$f":"0.053*B701","v":5.3},{"$f":"0.38*B701","v":38},{"$f":"0.084*B701","v":8.4},1042.5132000000001]
["rijstwafel",1,"st",{"$f":"26*B702","v":26},{"$f":"0.5*B702","v":0.5},{"$f":"6*B702","v":6},0,108.85679999999999]
["rivella light",100,"ml",{"$f":"0.04*B703","v":4},{"$f":"0*B703","v":0},{"$f":"0.01*B703","v":1},0,16.747199999999999]
["rode bessen",100,"g",{"$f":"0.24*B704","v":24},{"$f":"0.01*B704","v":1},{"$f":"0.05*B704","v":5},0,100.4832]
["rode biet",100,"g",{"$f":"0.37*B705","v":37},{"$f":"0.015*B705","v":1.5},{"$f":"0.076*B705","v":7.6},{"$f":"0.001*B705","v":0.1},154.91159999999999]
["rode kool",100,"g",{"$f":"0.28*B706","v":28.000000000000004},{"$f":"0.02*B706","v":2},{"$f":"0.05*B706","v":5},0,117.23040000000002]
["rode vruchtengebakje (vitalinea)",1,"st",{"$f":"81*B707","v":81},{"$f":"1.1*B707","v":1.1000000000000001},{"$f":"14.8*B707","v":14.8},{"$f":"1.9*B707","v":1.9},339.13079999999997]
["rodekool met appeltjes",100,"g",{"$f":"0.5*B708","v":50},{"$f":"0.011*B708","v":1.0999999999999999},{"$f":"0.091*B708","v":9.1},{"$f":"0.01*B708","v":1},209.34]
["roggebrood (donker)",100,"g",{"$f":"1.89*B709","v":189},{"$f":"0.05*B709","v":5},{"$f":"0.4*B709","v":40},{"$f":"0.01*B709","v":1},791.30520000000001]
["roggebrood (licht)",100,"g",{"$f":"1.97*B710","v":197},{"$f":"0.07*B710","v":7.0000000000000009},{"$f":"0.4*B710","v":40},{"$f":"0.01*B710","v":1},824.79959999999994]
["rolmops",1,"st",{"$f":"125*B711","v":125},{"$f":"10*B711","v":10},{"$f":"1*B711","v":1},{"$f":"9*B711","v":9},523.35]
["rondo",100,"g",{"$f":"4.35*B712","v":434.99999999999994},{"$f":"0.055*B712","v":5.5},{"$f":"0.611*B712","v":61.1},{"$f":"0.188*B712","v":18.8},1821.2579999999998]
["rookvlees",100,"g",{"$f":"1.52*B713","v":152},{"$f":"0.229*B713","v":22.900000000000002},{"$f":"0.006*B713","v":0.6},{"$f":"0.065*B713","v":6.5},636.39359999999999]
["rookworst",100,"g",{"$f":"3.38*B714","v":338},{"$f":"0.13*B714","v":13},{"$f":"0.04*B714","v":4},{"$f":"0.3*B714","v":30},1415.1384]
["rookworst (light)",100,"g",{"$f":"2.48*B715","v":248},{"$f":"0.16*B715","v":16},{"$f":"0.01*B715","v":1},{"$f":"0.2*B715","v":20},1038.3263999999999]
["room, zure",100,"g",{"$f":"1.85*B716","v":185},{"$f":"0.028*B716","v":2.8000000000000003},{"$f":"0.035*B716","v":3.5000000000000004},{"$f":"0.18*B716","v":18},774.55799999999999]
["room, zure (Campina",100,"ml",{"$f":"2.1*B717","v":210},{"$f":"0.035*B717","v":3.5000000000000004},{"$f":"0.04*B717","v":4},{"$f":"0.2*B717","v":20},879.22799999999995]
["roomijs",100,"g",{"$f":"1.59*B718","v":159},{"$f":"0.04*B718","v":4},{"$f":"0.2*B718","v":20},{"$f":"0.07*B718","v":7.0000000000000009},665.70119999999997]
["roomijs caramel",100,"ml",{"$f":"1.21*B719","v":121},{"$f":"0.015*B719","v":1.5},{"$f":"0.12*B719","v":12},{"$f":"0.075*B719","v":7.5},506.6028]
["roomijs pecan caramel",100,"ml",{"$f":"1.04*B720","v":104},{"$f":"0.015*B720","v":1.5},{"$f":"0.11*B720","v":11},{"$f":"0.06*B720","v":6},435.42719999999997]
["roomijs stracciatella",100,"ml",{"$f":"1.17*B721","v":117},{"$f":"0.015*B721","v":1.5},{"$f":"0.12*B721","v":12},{"$f":"0.07*B721","v":7.0000000000000009},489.85559999999998]
["roomkaas. 60+",100,"g",{"$f":"4.22*B722","v":422},{"$f":"0.2*B722","v":20},0,{"$f":"0.38*B722","v":38},1766.8296]
["roomrijst (boss)",100,"g",{"$f":"1.2*B723","v":120},{"$f":"0.035*B723","v":3.5000000000000004},{"$f":"0.185*B723","v":18.5},{"$f":"0.035*B723","v":3.5000000000000004},502.416]
["roomsoes",100,"g",{"$f":"2.48*B724","v":248},{"$f":"0.042*B724","v":4.2},{"$f":"0.33*B724","v":33},{"$f":"0.11*B724","v":11},1038.3263999999999]
["roquefort",100,"g",{"$f":"3.59*B725","v":359},{"$f":"0.19*B725","v":19},{"$f":"0.01*B725","v":1},{"$f":"0.31*B725","v":31},1503.0611999999999]
["rosbief",100,"g",{"$f":"1.15*B726","v":114.99999999999999},{"$f":"0.22*B726","v":22},{"$f":"0*B726","v":0},{"$f":"0.03*B726","v":3},481.48199999999991]
["rosti",100,"g",{"$f":"1.44*B727","v":144},{"$f":"0.019*B727","v":1.9},{"$f":"0.228*B727","v":22.8},{"$f":"0.051*B727","v":5.0999999999999996},602.89919999999995]
["roti (alleen koek)",100,"g",{"$f":"2.44*B728","v":244},{"$f":"0.082*B728","v":8.2000000000000011},{"$f":"0.433*B728","v":43.3},{"$f":"0.043*B728","v":4.3},1021.5792]
["roti (kip)",100,"g",{"$f":"1.68*B729","v":168},{"$f":"0.121*B729","v":12.1},{"$f":"0.209*B729","v":20.9},{"$f":"0.04*B729","v":4},703.38239999999996]
["royal cheese (mcdonalds)",1,"st",{"$f":"517*B730","v":517},{"$f":"32.3*B730","v":32.299999999999997},{"$f":"37.2*B730","v":37.200000000000003},{"$f":"26.6*B730","v":26.6},2164.5756000000001]
["rozebottelsiroop",100,"g",{"$f":"2.28*B731","v":227.99999999999997},0,{"$f":"0.57*B731","v":56.999999999999993},0,954.59039999999982]
["rozijnen",100,"g",{"$f":"2.76*B732","v":276},{"$f":"0.02*B732","v":2},{"$f":"0.648*B732","v":64.8},{"$f":"0.01*B732","v":1},1155.5568000000001]
["rozijnenbrood",100,"g",{"$f":"2.55*B733","v":254.99999999999997},{"$f":"0.07*B733","v":7.0000000000000009},{"$f":"0.5*B733","v":50},{"$f":"0.03*B733","v":3},1067.6339999999998]
["rubens",100,"g",{"$f":"3.27*B734","v":327},{"$f":"0.241*B734","v":24.099999999999998},{"$f":"0*B734","v":0},{"$f":"0.256*B734","v":25.6},1369.0835999999999]
["rundbouillion",100,"ml",{"$f":"0.01*B735","v":1},{"$f":"0*B735","v":0},{"$f":"0.0026*B735","v":0.26},0,4.1867999999999999]
["rundergehakt",100,"g",{"$f":"1.97*B736","v":197},{"$f":"0.2*B736","v":20},0,{"$f":"0.13*B736","v":13},824.79959999999994]
["runderlappen (vet)",100,"g",{"$f":"2.78*B737","v":278},{"$f":"0.31*B737","v":31},{"$f":"0.007*B737","v":0.70000000000000007},{"$f":"0.169*B737","v":16.900000000000002},1163.9304]
["runderpoelet",100,"g",{"$f":"1.95*B738","v":195},{"$f":"0.308*B738","v":30.8},{"$f":"0.005*B738","v":0.5},{"$f":"0.078*B738","v":7.8},816.42599999999993]
["runderrollade",100,"g",{"$f":"1.67*B739","v":167},{"$f":"0.283*B739","v":28.299999999999997},{"$f":"0.008*B739","v":0.8},{"$f":"0.057*B739","v":5.7},699.19560000000001]
["rundertong",100,"g",{"$f":"2.1*B740","v":210},{"$f":"0.16*B740","v":16},{"$f":"0.005*B740","v":0.5},{"$f":"0.16*B740","v":16},879.22799999999995]
["saint paulin",100,"g",{"$f":"3.29*B741","v":329},{"$f":"0.25*B741","v":25},{"$f":"0.01*B741","v":1},{"$f":"0.25*B741","v":25},1377.4572000000001]
["salami",100,"g",{"$f":"4.14*B742","v":413.99999999999994},{"$f":"0.18*B742","v":18},0,{"$f":"0.38*B742","v":38},1733.3351999999998]
["salami (beleg)",100,"g",{"$f":"5.22*B743","v":522},{"$f":"0.18*B743","v":18},0,{"$f":"0.5*B743","v":50},2185.5095999999999]
["salami (zwan)",100,"g",{"$f":"4.87*B744","v":487},{"$f":"0.176*B744","v":17.599999999999998},{"$f":"0*B744","v":0},{"$f":"0.463*B744","v":46.300000000000004},2038.9715999999999]
["sambal oelek",100,"g",{"$f":"0.2*B745","v":20},{"$f":"0.03*B745","v":3},{"$f":"0.02*B745","v":2},0,83.73599999999999]
["sandwich",1,"st",{"$f":"159*B746","v":159},{"$f":"5*B746","v":5},{"$f":"28*B746","v":28},{"$f":"3*B746","v":3},665.70119999999997]
["sandwichspread",100,"g",{"$f":"2.28*B747","v":227.99999999999997},{"$f":"0.02*B747","v":2},{"$f":"0.145*B747","v":14.499999999999998},{"$f":"0.18*B747","v":18},954.59039999999982]
["santane cottage cheese",100,"g",{"$f":"1.05*B748","v":105},{"$f":"0.11*B748","v":11},{"$f":"0.04*B748","v":4},{"$f":"0.05*B748","v":5},439.61399999999998]
["santen. kokosmelk",100,"g",{"$f":"3.46*B749","v":346},{"$f":"0.04*B749","v":4},{"$f":"0.06*B749","v":6},{"$f":"0.34*B749","v":34},1448.6327999999999]
["sardines (blik)  ",100,"g",{"$f":"2.26*B750","v":225.99999999999997},{"$f":"0.24*B750","v":24},{"$f":"0.01*B750","v":1},{"$f":"0.14*B750","v":14.000000000000002},946.21679999999981]
["sate kip-met saus",100,"g",{"$f":"1.87*B751","v":187},{"$f":"0.16*B751","v":16},{"$f":"0.06*B751","v":6},{"$f":"0.11*B751","v":11},782.9316]
["sate varkens-met saus",100,"g",{"$f":"2.26*B752","v":225.99999999999997},{"$f":"0.151*B752","v":15.1},{"$f":"0.068*B752","v":6.8000000000000007},{"$f":"0.154*B752","v":15.4},946.21679999999981]
["satesaus",100,"g",{"$f":"3.1*B753","v":310},{"$f":"0.085*B753","v":8.5},{"$f":"0.185*B753","v":18.5},{"$f":"0.225*B753","v":22.5},1297.9079999999999]
["saucijs",100,"g",{"$f":"3.08*B754","v":308},{"$f":"0.222*B754","v":22.2},{"$f":"0.009*B754","v":0.89999999999999991},{"$f":"0.24*B754","v":24},1289.5344]
["saucijzebroodje",100,"g",{"$f":"4.46*B755","v":446},{"$f":"0.11*B755","v":11},{"$f":"0.33*B755","v":33},{"$f":"0.3*B755","v":30},1867.3127999999999]
["saucisson",100,"g",{"$f":"3.75*B756","v":375},{"$f":"0.15*B756","v":15},{"$f":"0.007*B756","v":0.70000000000000007},{"$f":"0.347*B756","v":34.699999999999996},1570.05]
["saus napoletana",100,"g",{"$f":"2.08*B757","v":208},0,{"$f":"0.52*B757","v":52},0,870.85439999999994]
["sausijsjes (varken)",100,"g",{"$f":"2.52*B758","v":252},{"$f":"0.18*B758","v":18},{"$f":"0*B758","v":0},{"$f":"0.2*B758","v":20},1055.0735999999999]
["scampi",100,"g",{"$f":"0.9*B759","v":90},{"$f":"0.18*B759","v":18},0,{"$f":"0.02*B759","v":2},376.81200000000001]
["schapekaas",100,"g",{"$f":"3.41*B760","v":341},{"$f":"0.139*B760","v":13.900000000000002},{"$f":"0.089*B760","v":8.9},{"$f":"0.278*B760","v":27.800000000000004},1427.6987999999999]
["schapekaas",100,"g",{"$f":"2.61*B761","v":261},{"$f":"0.14*B761","v":14.000000000000002},{"$f":"0.04*B761","v":4},{"$f":"0.21*B761","v":21},{"$f":"D761*4.1868","v":1092.7547999999999}]
["schapekaas. mager. turkse",100,"g",{"$f":"3.18*B762","v":318},{"$f":"0.184*B762","v":18.399999999999999},{"$f":"0.071*B762","v":7.1},{"$f":"0.241*B762","v":24.099999999999998},1331.4023999999999]
["schapentong",100,"g",{"$f":"1.87*B763","v":187},{"$f":"0.135*B763","v":13.5},{"$f":"0*B763","v":0},{"$f":"0.148*B763","v":14.799999999999999},782.9316]
["schapevlees",100,"g",{"$f":"2.93*B764","v":293},{"$f":"0.17*B764","v":17},0,{"$f":"0.25*B764","v":25},1226.7323999999999]
["schar. gebakken",100,"g",{"$f":"1.18*B765","v":118},{"$f":"0.215*B765","v":21.5},{"$f":"0.006*B765","v":0.6},{"$f":"0.033*B765","v":3.3000000000000003},494.04239999999999]
["schaschliksaus",100,"g",{"$f":"0.99*B766","v":99},{"$f":"0.007*B766","v":0.70000000000000007},{"$f":"0.24*B766","v":24},{"$f":"0.001*B766","v":0.1},414.4932]
["schelvis",100,"g",{"$f":"0.76*B767","v":76},{"$f":"0.18*B767","v":18},{"$f":"0*B767","v":0},{"$f":"0.005*B767","v":0.5},318.1968]
["schelvislever",100,"g",{"$f":"4.08*B768","v":408},{"$f":"0.07*B768","v":7.0000000000000009},0,{"$f":"0.423*B768","v":42.3},1708.2143999999998]
["schnitzel. met kaas",100,"g",{"$f":"3.24*B769","v":324},{"$f":"0.18*B769","v":18},{"$f":"0.18*B769","v":18},{"$f":"0.2*B769","v":20},1356.5231999999999]
["schol",100,"g",{"$f":"0.68*B770","v":68},{"$f":"0.17*B770","v":17},{"$f":"0*B770","v":0},{"$f":"0.001*B770","v":0.1},284.70240000000001]
["schorseneren",100,"g",{"$f":"0.68*B771","v":68},{"$f":"0.01*B771","v":1},{"$f":"0.16*B771","v":16},0,284.70240000000001]
["schouderham     ",100,"g",{"$f":"1.94*B772","v":194},{"$f":"0.16*B772","v":16},{"$f":"0.01*B772","v":1},{"$f":"0.14*B772","v":14.000000000000002},812.23919999999998]
["schuimpje",100,"g",{"$f":"3.8*B773","v":380},0,{"$f":"0.95*B773","v":95},0,1590.9839999999999]
["seitan",100,"g",{"$f":"0.9*B774","v":90},{"$f":"0.196*B774","v":19.600000000000001},{"$f":"0.03*B774","v":3},0,376.81200000000001]
["selderijsalade",100,"g",{"$f":"3.34*B775","v":334},{"$f":"0.01*B775","v":1},{"$f":"0.06*B775","v":6},{"$f":"0.34*B775","v":34},1398.3912]
["selderstengel",100,"g",{"$f":"0.21*B776","v":21},{"$f":"0.012*B776","v":1.2},{"$f":"0.036*B776","v":3.5999999999999996},{"$f":"0.002*B776","v":0.2},87.922799999999995]
["sesamzaad",100,"g",{"$f":"6.14*B777","v":614},{"$f":"0.26*B777","v":26},{"$f":"0.06*B777","v":6},{"$f":"0.54*B777","v":54},2570.6952000000001]
["shoarma m. broodje",100,"g",{"$f":"2.36*B778","v":236},{"$f":"0.108*B778","v":10.8},{"$f":"0.147*B778","v":14.7},{"$f":"0.149*B778","v":14.899999999999999},988.08479999999997]
["shoarmarol",100,"g",{"$f":"1.76*B779","v":176},{"$f":"0.07*B779","v":7.0000000000000009},{"$f":"0.186*B779","v":18.600000000000001},{"$f":"0.082*B779","v":8.2000000000000011},736.8768]
["shoarmavlees",100,"g",{"$f":"2.93*B780","v":293},{"$f":"0.17*B780","v":17},0,{"$f":"0.25*B780","v":25},1226.7323999999999]
["sinaasappel",1,"st",{"$f":"48*B781","v":48},{"$f":"1*B781","v":1},{"$f":"11*B781","v":11},0,200.96639999999999]
["sinaasappelsap",100,"ml",{"$f":"0.45*B782","v":45},{"$f":"0.007*B782","v":0.70000000000000007},{"$f":"0.101*B782","v":10.100000000000001},{"$f":"0.002*B782","v":0.2},188.40600000000001]
["sinaas-chocoladegebakje (vitalinea)",1,"st",{"$f":"116*B783","v":116},{"$f":"0.9*B783","v":0.9},{"$f":"21.3*B783","v":21.3},{"$f":"3*B783","v":3},485.66879999999998]
["sinaas-chocoladereep (vitalinea)",1,"rp",{"$f":"116*B784","v":116},{"$f":"1.1*B784","v":1.1000000000000001},{"$f":"21*B784","v":21},{"$f":"3*B784","v":3},485.66879999999998]
["sjalot",100,"g",{"$f":"0.75*B785","v":75},{"$f":"0.013*B785","v":1.3},{"$f":"0.17*B785","v":17},{"$f":"0.002*B785","v":0.2},314.01]
["sla",100,"g",{"$f":"0.1*B786","v":10},{"$f":"0.005*B786","v":0.5},{"$f":"0.02*B786","v":2},0,41.867999999999995]
["slagroom (geklopt)",100,"g",{"$f":"3.49*B787","v":349},{"$f":"0.02*B787","v":2},{"$f":"0.127*B787","v":12.7},{"$f":"0.323*B787","v":32.300000000000004},1461.1931999999999]
["slagroom (lichte) Finess",100,"g",{"$f":"2.1*B788","v":210},{"$f":"0.027*B788","v":2.7},{"$f":"0.048*B788","v":4.8},{"$f":"0.2*B788","v":20},879.22799999999995]
["slagroom (ongeklopt)",100,"g",{"$f":"3.44*B789","v":344},{"$f":"0.022*B789","v":2.1999999999999997},{"$f":"0.03*B789","v":3},{"$f":"0.359*B789","v":35.9},1440.2592]
["slagroomsoesje",100,"g",{"$f":"3.09*B790","v":309},{"$f":"0.044*B790","v":4.3999999999999995},{"$f":"0.135*B790","v":13.5},{"$f":"0.264*B790","v":26.400000000000002},1293.7212]
["slagroomtaart    ",100,"g",{"$f":"3.32*B791","v":332},{"$f":"0.055*B791","v":5.5},{"$f":"0.3*B791","v":30},{"$f":"0.2*B791","v":20},1390.0175999999999]
["slakken",100,"g",{"$f":"0.81*B792","v":81},{"$f":"0.16*B792","v":16},{"$f":"0.02*B792","v":2},{"$f":"0.01*B792","v":1},339.13079999999997]
["slasaus 25% ",100,"g",{"$f":"2.79*B793","v":279},{"$f":"0.007*B793","v":0.70000000000000007},{"$f":"0.11*B793","v":11},{"$f":"0.258*B793","v":25.8},1168.1171999999999]
["slasaus 50% ",100,"g",{"$f":"4.78*B794","v":478},{"$f":"0.01*B794","v":1},{"$f":"0.06*B794","v":6},{"$f":"0.5*B794","v":50},2001.2903999999999]
["slasaus. 05% olie of light",100,"g",{"$f":"0.93*B795","v":93},{"$f":"0.001*B795","v":0.1},{"$f":"0.12*B795","v":12},{"$f":"0.05*B795","v":5},389.37239999999997]
["slavink",100,"g",{"$f":"2.98*B796","v":298},{"$f":"0.211*B796","v":21.099999999999998},0,{"$f":"0.238*B796","v":23.799999999999997},1247.6664000000001]
["smarties",100,"g",{"$f":"4.83*B797","v":483},{"$f":"0.046*B797","v":4.5999999999999996},{"$f":"0.705*B797","v":70.5},{"$f":"0.203*B797","v":20.3},2022.2243999999998]
["smeerkaas (volvet)",100,"g",{"$f":"2.69*B798","v":269},{"$f":"0.19*B798","v":19},{"$f":"0.01*B798","v":1},{"$f":"0.21*B798","v":21},1126.2492]
["smeerkaas 20+",100,"g",{"$f":"1.85*B799","v":185},{"$f":"0.18*B799","v":18},{"$f":"0.08*B799","v":8},{"$f":"0.09*B799","v":9},774.55799999999999]
["smeerkaas 30+",100,"g",{"$f":"2.19*B800","v":219},{"$f":"0.2*B800","v":20},{"$f":"0.01*B800","v":1},{"$f":"0.15*B800","v":15},916.90919999999994]
["smeerkaas 40+",100,"g",{"$f":"2.51*B801","v":250.99999999999997},{"$f":"0.19*B801","v":19},{"$f":"0.01*B801","v":1},{"$f":"0.19*B801","v":19},1050.8867999999998]
["smeerkaas ham (santane)",100,"g",{"$f":"1.9*B802","v":190},{"$f":"0.145*B802","v":14.499999999999998},{"$f":"0.083*B802","v":8.3000000000000007},{"$f":"0.11*B802","v":11},795.49199999999996]
["smeerkaas natuur (santane)",100,"g",{"$f":"1.9*B803","v":190},{"$f":"0.145*B803","v":14.499999999999998},{"$f":"0.083*B803","v":8.3000000000000007},{"$f":"0.11*B803","v":11},795.49199999999996]
["snickers",1,"st",{"$f":"301*B804","v":301},{"$f":"6*B804","v":6},{"$f":"31*B804","v":31},{"$f":"17*B804","v":17},1260.2267999999999]
["snijbiet (gekookt)",100,"g",{"$f":"0.24*B805","v":24},{"$f":"0.03*B805","v":3},{"$f":"0.03*B805","v":3},0,100.4832]
["snijbonen",100,"g",{"$f":"0.16*B806","v":16},{"$f":"0.02*B806","v":2},{"$f":"0.02*B806","v":2},0,66.988799999999998]
["snoek",100,"g",{"$f":"0.82*B807","v":82},{"$f":"0.182*B807","v":18.2},{"$f":"0*B807","v":0},{"$f":"0.01*B807","v":1},343.31759999999997]
["soep (niet gebonden)",100,"g",{"$f":"0.29*B808","v":28.999999999999996},{"$f":"0.01*B808","v":1},{"$f":"0.04*B808","v":4},{"$f":"0.01*B808","v":1},121.41719999999998]
["soepgroenten",100,"g",{"$f":"0.32*B809","v":32},{"$f":"0.02*B809","v":2},{"$f":"0.06*B809","v":6},0,133.9776]
["soepstengel",100,"g",{"$f":"3.6*B810","v":360},{"$f":"0.14*B810","v":14.000000000000002},{"$f":"0.67*B810","v":67},{"$f":"0.04*B810","v":4},1507.248]
["sojabonen",100,"g",{"$f":"1.71*B811","v":171},{"$f":"0.152*B811","v":15.2},{"$f":"0.104*B811","v":10.4},{"$f":"0.076*B811","v":7.6},715.94279999999992]
["sojabonen",100,"g",{"$f":"1.71*B812","v":171},{"$f":"0.152*B812","v":15.2},{"$f":"0.104*B812","v":10.4},{"$f":"0.076*B812","v":7.6},715.94279999999992]
["sojabrokjes",100,"g",{"$f":"1.14*B813","v":113.99999999999999},{"$f":"0.172*B813","v":17.2},{"$f":"0.106*B813","v":10.6},{"$f":"0.003*B813","v":0.3},477.29519999999991]
["sojadessert choco ( alpro )",100,"g",{"$f":"0.81*B814","v":81},{"$f":"0.03*B814","v":3},{"$f":"0.131*B814","v":13.100000000000001},{"$f":"0.018*B814","v":1.7999999999999998},339.13079999999997]
["sojadessert vanille ( alpro )",100,"g",{"$f":"0.81*B815","v":81},{"$f":"0.03*B815","v":3},{"$f":"0.131*B815","v":13.100000000000001},{"$f":"0.018*B815","v":1.7999999999999998},339.13079999999997]
["sojamelk",100,"g",{"$f":"0.42*B816","v":42},{"$f":"0.036*B816","v":3.5999999999999996},{"$f":"0.01*B816","v":1},{"$f":"0.026*B816","v":2.6},175.84559999999999]
["sojasaus",100,"g",{"$f":"1.2*B817","v":120},{"$f":"0.12*B817","v":12},{"$f":"0.18*B817","v":18},0,502.416]
["sojascheuten",100,"g",{"$f":"0.31*B818","v":31},{"$f":"0.02*B818","v":2},{"$f":"0.046*B818","v":4.5999999999999996},{"$f":"0.005*B818","v":0.5},129.79079999999999]
["spaghetti",100,"g",{"$f":"3.46*B819","v":346},{"$f":"0.12*B819","v":12},{"$f":"0.71*B819","v":71},{"$f":"0.015*B819","v":1.5},1448.6327999999999]
["spaghetti (volkoren)",100,"g",{"$f":"3.32*B820","v":332},{"$f":"0.135*B820","v":13.5},{"$f":"0.64*B820","v":64},{"$f":"0.025*B820","v":2.5},1390.0175999999999]
["sparerib",100,"g",{"$f":"3.08*B821","v":308},{"$f":"0.222*B821","v":22.2},{"$f":"0.009*B821","v":0.89999999999999991},{"$f":"0.24*B821","v":24},1289.5344]
["speculaas",100,"g",{"$f":"4.93*B822","v":493},{"$f":"0.052*B822","v":5.2},{"$f":"0.73*B822","v":73},{"$f":"0.2*B822","v":20},2064.0924]
["spek ( gezouten )",100,"g",{"$f":"5.22*B823","v":522},{"$f":"0.106*B823","v":10.6},{"$f":"0*B823","v":0},{"$f":"0.533*B823","v":53.300000000000004},2185.5095999999999]
["spekkie",100,"g",{"$f":"3.52*B824","v":352},{"$f":"0.06*B824","v":6},{"$f":"0.82*B824","v":82},0,1473.7536]
["sperziebonen (gekookt)",100,"g",{"$f":"0.24*B825","v":24},{"$f":"0.023*B825","v":2.2999999999999998},{"$f":"0.038*B825","v":3.8},0,{"$f":"D825*4.1868","v":100.4832}]
["spinazie",100,"g",{"$f":"0.24*B826","v":24},{"$f":"0.03*B826","v":3},{"$f":"0.03*B826","v":3},0,100.4832]
["spinazie a la creme",100,"g",{"$f":"0.68*B827","v":68},{"$f":"0.03*B827","v":3},{"$f":"0.05*B827","v":5},{"$f":"0.04*B827","v":4},284.70240000000001]
["spirelli",100,"g",{"$f":"3.49*B828","v":349},{"$f":"0.12*B828","v":12},{"$f":"0.72*B828","v":72},{"$f":"0.014*B828","v":1.4000000000000001},1461.1931999999999]
["spitskool (rauw)",100,"g",{"$f":"0.37*B829","v":37},{"$f":"0.03*B829","v":3},{"$f":"0.04*B829","v":4},{"$f":"0.01*B829","v":1},154.91159999999999]
["sprits",100,"g",{"$f":"5.39*B830","v":539},{"$f":"0.055*B830","v":5.5},{"$f":"0.587*B830","v":58.699999999999996},{"$f":"0.314*B830","v":31.4},2256.6851999999999]
["sprot (gebakken)",100,"g",{"$f":"3.34*B831","v":334},{"$f":"0.216*B831","v":21.6},{"$f":"0.03*B831","v":3},{"$f":"0.262*B831","v":26.200000000000003},1398.3912]
["spruiten",100,"g",{"$f":"0.53*B832","v":53},{"$f":"0.04*B832","v":4},{"$f":"0.07*B832","v":7.0000000000000009},{"$f":"0.01*B832","v":1},221.90039999999999]
["stilton",100,"g",{"$f":"4.64*B833","v":463.99999999999994},{"$f":"0.26*B833","v":26},0,{"$f":"0.4*B833","v":40},1942.6751999999997]
["stokbrood",100,"g",{"$f":"2.59*B834","v":259},{"$f":"0.081*B834","v":8.1},{"$f":"0.52*B834","v":52},{"$f":"0.021*B834","v":2.1},1084.3812]
["strooiaroma",100,"g",{"$f":"0.01*B835","v":1},{"$f":"0.002*B835","v":0.2},{"$f":"0.002*B835","v":0.2},0,4.1867999999999999]
["stroop",100,"g",{"$f":"2.88*B836","v":288},0,{"$f":"0.72*B836","v":72},0,1205.7983999999999]
["stroopwafel  ",1,"st",{"$f":"136*B837","v":136},{"$f":"1*B837","v":1},{"$f":"15*B837","v":15},{"$f":"8*B837","v":8},569.40480000000002]
["struisvogelsteak",100,"g",{"$f":"1.08*B838","v":108},{"$f":"0.21*B838","v":21},{"$f":"0*B838","v":0},{"$f":"0.027*B838","v":2.7},452.17439999999999]
["studentenhaver",100,"g",{"$f":"4.68*B839","v":468},{"$f":"0.088*B839","v":8.7999999999999989},{"$f":"0.353*B839","v":35.299999999999997},{"$f":"0.324*B839","v":32.4},1959.4223999999999]
["sucadelappen",100,"g",{"$f":"2.48*B840","v":248},{"$f":"0.33*B840","v":33},0,{"$f":"0.13*B840","v":13},1038.3263999999999]
["suiker",100,"g",{"$f":"4*B841","v":400},0,{"$f":"1*B841","v":100},0,1674.72]
["suiker (theelepel)",100,"g",{"$f":"4*B842","v":400},0,{"$f":"1*B842","v":100},0,1674.72]
["suikerbrood",100,"g",{"$f":"2.94*B843","v":294},{"$f":"0.061*B843","v":6.1},{"$f":"0.64*B843","v":64},{"$f":"0.015*B843","v":1.5},1230.9192]
["suikerklontje",100,"g",{"$f":"4*B844","v":400},0,{"$f":"1*B844","v":100},0,1674.72]
["suikermeloen",100,"g",{"$f":"0.28*B845","v":28.000000000000004},{"$f":"0.009*B845","v":0.89999999999999991},{"$f":"0.063*B845","v":6.3},0,117.23040000000002]
["sultana",100,"g",{"$f":"3.78*B846","v":378},{"$f":"0.066*B846","v":6.6000000000000005},{"$f":"0.728*B846","v":72.8},{"$f":"0.068*B846","v":6.8000000000000007},1582.6104]
["taai-taai",100,"g",{"$f":"2.63*B847","v":263},{"$f":"0.034*B847","v":3.4000000000000004},{"$f":"0.604*B847","v":60.4},{"$f":"0.009*B847","v":0.89999999999999991},1101.1284000000001]
["taartbodem (groot 22 cm)",100,"g",{"$f":"3.51*B848","v":351},{"$f":"0.08*B848","v":8},{"$f":"0.73*B848","v":73},{"$f":"0.03*B848","v":3},1469.5668000000001]
["taartbodem (klein 7.5 cm)",100,"g",{"$f":"3.51*B849","v":351},{"$f":"0.08*B849","v":8},{"$f":"0.73*B849","v":73},{"$f":"0.03*B849","v":3},1469.5668000000001]
["taco shells \"old el paso\"",100,"g",{"$f":"4.78*B850","v":478},{"$f":"0.078*B850","v":7.8},{"$f":"0.608*B850","v":60.8},{"$f":"0.228*B850","v":22.8},2001.2903999999999]
["tagliatelle",100,"g",{"$f":"3.73*B851","v":373},{"$f":"0.141*B851","v":14.099999999999998},{"$f":"0.708*B851","v":70.8},{"$f":"0.037*B851","v":3.6999999999999997},1561.6764000000001]
["tahin",100,"g",{"$f":"5.53*B852","v":553},{"$f":"0.219*B852","v":21.9},{"$f":"0.001*B852","v":0.1},{"$f":"0.517*B852","v":51.7},2315.3004000000001]
["tahoe",100,"g",{"$f":"1.12*B853","v":112.00000000000001},{"$f":"0.116*B853","v":11.600000000000001},{"$f":"0.01*B853","v":1},{"$f":"0.069*B853","v":6.9},468.92160000000007]
["taksi",100,"g",{"$f":"0.51*B854","v":51},{"$f":"0.009*B854","v":0.89999999999999991},{"$f":"0.118*B854","v":11.799999999999999},{"$f":"0.001*B854","v":0.1},213.52679999999998]
["tamari",100,"g",{"$f":"1.02*B855","v":102},{"$f":"0.15*B855","v":15},{"$f":"0.1*B855","v":10},{"$f":"0.003*B855","v":0.3},427.05359999999996]
["tartaar",100,"g",{"$f":"1.89*B856","v":189},{"$f":"0.256*B856","v":25.6},{"$f":"0.012*B856","v":1.2},{"$f":"0.091*B856","v":9.1},791.30520000000001]
["tarwebrood",100,"g",{"$f":"2.5*B857","v":250},{"$f":"0.095*B857","v":9.5},{"$f":"0.451*B857","v":45.1},{"$f":"0.035*B857","v":3.5000000000000004},1046.7]
["tarwekiemen",100,"g",{"$f":"2.87*B858","v":287},{"$f":"0.27*B858","v":27},{"$f":"0.2*B858","v":20},{"$f":"0.11*B858","v":11},1201.6116]
["taugé",100,"g",{"$f":"0.41*B859","v":41},{"$f":"0.05*B859","v":5},{"$f":"0.03*B859","v":3},{"$f":"0.01*B859","v":1},171.65879999999999]
["tempe",100,"g",{"$f":"1.41*B860","v":141},{"$f":"0.108*B860","v":10.8},{"$f":"0.08*B860","v":8},{"$f":"0.073*B860","v":7.3},590.33879999999999]
["theeworst",100,"g",{"$f":"5.39*B861","v":539},{"$f":"0.1*B861","v":10},{"$f":"0.01*B861","v":1},{"$f":"0.55*B861","v":55.000000000000007},2256.6851999999999]
["tilsit (santane)",100,"g",{"$f":"2.81*B862","v":281},{"$f":"0.32*B862","v":32},{"$f":"0.001*B862","v":0.1},{"$f":"0.17*B862","v":17},1176.4908]
["tjaptjoi",100,"g",{"$f":"1.13*B863","v":112.99999999999999},{"$f":"0.086*B863","v":8.6},{"$f":"0.033*B863","v":3.3000000000000003},{"$f":"0.073*B863","v":7.3},473.1083999999999]
["toffee",100,"g",{"$f":"4.45*B864","v":445},{"$f":"0.02*B864","v":2},{"$f":"0.71*B864","v":71},{"$f":"0.17*B864","v":17},1863.126]
["tofu",100,"g",{"$f":"0.67*B865","v":67},{"$f":"0.08*B865","v":8},{"$f":"0.02*B865","v":2},{"$f":"0.03*B865","v":3},280.51560000000001]
["tomate-groentesap",100,"g",{"$f":"0.2*B866","v":20},{"$f":"0.01*B866","v":1},{"$f":"0.04*B866","v":4},0,83.73599999999999]
["tomaten",100,"g",{"$f":"0.16*B867","v":16},{"$f":"0.01*B867","v":1},{"$f":"0.03*B867","v":3},0,66.988799999999998]
["tomaten (gepelde)",100,"g",{"$f":"0.23*B868","v":23},{"$f":"0.013*B868","v":1.3},{"$f":"0.04*B868","v":4},{"$f":"0.002*B868","v":0.2},96.296399999999991]
["tomaten-(curry) ketchup",100,"g",{"$f":"0.92*B869","v":92},{"$f":"0.009*B869","v":0.89999999999999991},{"$f":"0.222*B869","v":22.2},0,385.18559999999997]
["tomatenpuree",100,"g",{"$f":"0.77*B870","v":77},{"$f":"0.046*B870","v":4.5999999999999996},{"$f":"0.136*B870","v":13.600000000000001},{"$f":"0.005*B870","v":0.5},322.3836]
["tomatesap",100,"g",{"$f":"0.18*B871","v":18},{"$f":"0.01*B871","v":1},{"$f":"0.035*B871","v":3.5000000000000004},0,75.362399999999994]
["tompouce",100,"g",{"$f":"2.86*B872","v":286},{"$f":"0.038*B872","v":3.8},{"$f":"0.365*B872","v":36.5},{"$f":"0.139*B872","v":13.900000000000002},1197.4248]
["tong ( varken )",100,"g",{"$f":"2.27*B873","v":227},{"$f":"0.151*B873","v":15.1},{"$f":"0.005*B873","v":0.5},{"$f":"0.183*B873","v":18.3},950.40359999999998]
["tong (gebakken)",100,"g",{"$f":"1.94*B874","v":194},{"$f":"0.22*B874","v":22},{"$f":"0.02*B874","v":2},{"$f":"0.109*B874","v":10.9},812.23919999999998]
["tong (gekookt)",100,"g",{"$f":"1.05*B875","v":105},{"$f":"0.23*B875","v":23},{"$f":"0.01*B875","v":1},{"$f":"0.01*B875","v":1},439.61399999999998]
["tong. kalfs-. runder-",100,"g",{"$f":"1.88*B876","v":188},{"$f":"0.173*B876","v":17.299999999999997},0,{"$f":"0.132*B876","v":13.200000000000001},787.11839999999995]
["tongfilets",100,"g",{"$f":"0.72*B877","v":72},{"$f":"0.18*B877","v":18},0,0,301.44959999999998]
["tonijn in olie",100,"g",{"$f":"2.28*B878","v":227.99999999999997},{"$f":"0.21*B878","v":21},0,{"$f":"0.16*B878","v":16},954.59039999999982]
["tonijn, eigen nat",100,"g",{"$f":"1.13*B879","v":112.99999999999999},{"$f":"0.27*B879","v":27},0,{"$f":"0.0053*B879","v":0.53},473.1083999999999]
["toostje",100,"g",{"$f":"3.59*B880","v":359},{"$f":"0.14*B880","v":14.000000000000002},{"$f":"0.67*B880","v":67},{"$f":"0.04*B880","v":4},1503.0611999999999]
["topping (opgeklopt)",100,"g",{"$f":"2.16*B881","v":216},{"$f":"0.04*B881","v":4},{"$f":"0.23*B881","v":23},{"$f":"0.12*B881","v":12},904.34879999999998]
["tosti  ",1,"st",{"$f":"232*B882","v":232},{"$f":"9*B882","v":9},{"$f":"22*B882","v":22},{"$f":"12*B882","v":12},971.33759999999995]
["tuinbonen (gekookt)",100,"g",{"$f":"0.36*B883","v":36},{"$f":"0.05*B883","v":5},{"$f":"0.04*B883","v":4},0,150.72479999999999]
["tuinkers",100,"g",{"$f":"0.4*B884","v":40},{"$f":"0.042*B884","v":4.2},{"$f":"0.041*B884","v":4.1000000000000005},{"$f":"0.007*B884","v":0.70000000000000007},167.47199999999998]
["tussendoorbiscuit (chocola)",100,"g",{"$f":"4.51*B885","v":451},{"$f":"0.115*B885","v":11.5},{"$f":"0.62*B885","v":62},{"$f":"0.175*B885","v":17.5},1888.2467999999999]
["tussendoorbiscuit (fruit)",100,"g",{"$f":"3.94*B886","v":394},{"$f":"0.085*B886","v":8.5},{"$f":"0.71*B886","v":71},{"$f":"0.085*B886","v":8.5},1649.5991999999999]
["tussendoorbiscuit (krenten)",100,"g",{"$f":"3.73*B887","v":373},{"$f":"0.09*B887","v":9},{"$f":"0.73*B887","v":73},{"$f":"0.05*B887","v":5},1561.6764000000001]
["tuttifrutti (geweekt)",100,"g",{"$f":"0.98*B888","v":98},{"$f":"0.01*B888","v":1},{"$f":"0.235*B888","v":23.5},0,410.3064]
["tv-worstjes (zwan)",100,"g",{"$f":"1.78*B889","v":178},{"$f":"0.09*B889","v":9},{"$f":"0.04*B889","v":4},{"$f":"0.14*B889","v":14.000000000000002},{"$f":"D889*4.1868","v":745.25040000000001}]
["tweedrank",100,"g",{"$f":"0.4*B890","v":40},{"$f":"0.002*B890","v":0.2},{"$f":"0.099*B890","v":9.9},0,167.47199999999998]
["twix",1,"st",{"$f":"277*B891","v":277},{"$f":"3*B891","v":3},{"$f":"37*B891","v":37},{"$f":"13*B891","v":13},1159.7436]
["ui",100,"g",{"$f":"0.44*B892","v":44},{"$f":"0.01*B892","v":1},{"$f":"0.1*B892","v":10},0,184.2192]
["uiensoep (franse)",100,"g",{"$f":"0.62*B893","v":62},{"$f":"0.03*B893","v":3},{"$f":"0.08*B893","v":8},{"$f":"0.02*B893","v":2},259.58159999999998]
["uitsmijter ham (2 eieren)",100,"g",{"$f":"2.49*B894","v":249.00000000000003},{"$f":"0.128*B894","v":12.8},{"$f":"0.163*B894","v":16.3},{"$f":"0.147*B894","v":14.7},1042.5132000000001]
["uitsmijter kaas (2 eieren)",100,"g",{"$f":"2.84*B895","v":284},{"$f":"0.136*B895","v":13.600000000000001},{"$f":"0.162*B895","v":16.2},{"$f":"0.183*B895","v":18.3},1189.0511999999999]
["umer",100,"g",{"$f":"0.65*B896","v":65},{"$f":"0.065*B896","v":6.5},{"$f":"0.03*B896","v":3},{"$f":"0.03*B896","v":3},272.142]
["vanilleijs",100,"g",{"$f":"1.87*B897","v":187},{"$f":"0.032*B897","v":3.2},{"$f":"0.255*B897","v":25.5},{"$f":"0.08*B897","v":8},782.9316]
["vanillepudding",100,"g",{"$f":"1.05*B898","v":105},{"$f":"0.045*B898","v":4.5},{"$f":"0.19*B898","v":19},{"$f":"0.013*B898","v":1.3},439.61399999999998]
["vanillevla (mager)",100,"g",{"$f":"0.67*B899","v":67},{"$f":"0.035*B899","v":3.5000000000000004},{"$f":"0.13*B899","v":13},{"$f":"0.001*B899","v":0.1},280.51560000000001]
["vanillevla (vol)",100,"g",{"$f":"0.75*B900","v":75},{"$f":"0.029*B900","v":2.9000000000000004},{"$f":"0.101*B900","v":10.100000000000001},{"$f":"0.026*B900","v":2.6},314.01]
["varkensfilet",100,"g",{"$f":"1.78*B901","v":178},{"$f":"0.313*B901","v":31.3},0,{"$f":"0.058*B901","v":5.8000000000000007},745.25040000000001]
["varkenshaas",100,"g",{"$f":"1.47*B902","v":147},{"$f":"0.276*B902","v":27.6},{"$f":"0.004*B902","v":0.4},{"$f":"0.039*B902","v":3.9},615.45960000000002]
["varkenskotelet",100,"g",{"$f":"3.36*B903","v":336},{"$f":"0.154*B903","v":15.4},0,{"$f":"0.305*B903","v":30.5},1406.7647999999999]
["varkenslap (mager)",100,"g",{"$f":"1.72*B904","v":172},{"$f":"0.302*B904","v":30.2},{"$f":"0.002*B904","v":0.2},{"$f":"0.056*B904","v":5.6000000000000005},720.12959999999998]
["varkenslap (vet)",100,"g",{"$f":"3.05*B905","v":305},{"$f":"0.22*B905","v":22},{"$f":"0.007*B905","v":0.70000000000000007},{"$f":"0.239*B905","v":23.9},1276.9739999999999]
["varkensoester",100,"g",{"$f":"1.47*B906","v":147},{"$f":"0.276*B906","v":27.6},{"$f":"0.004*B906","v":0.4},{"$f":"0.039*B906","v":3.9},615.45960000000002]
["varkensreuzel",100,"g",{"$f":"8.98*B907","v":898},{"$f":"0.001*B907","v":0.1},{"$f":"0*B907","v":0},{"$f":"0.997*B907","v":99.7},3759.7464]
["varkensschnitsel",100,"g",{"$f":"1.56*B908","v":156},{"$f":"0.21*B908","v":21},0,{"$f":"0.08*B908","v":8},653.14080000000001]
["varkensschouderlap",100,"g",{"$f":"2.72*B909","v":272},{"$f":"0.276*B909","v":27.6},0,{"$f":"0.18*B909","v":18},1138.8096]
["varkensvlees (mager)",100,"g",{"$f":"1.61*B910","v":161},{"$f":"0.2*B910","v":20},0,{"$f":"0.09*B910","v":9},674.07479999999998]
["vegetarische groenteschijf",100,"g",{"$f":"1.33*B911","v":133},{"$f":"0.035*B911","v":3.5000000000000004},{"$f":"0.128*B911","v":12.8},{"$f":"0.075*B911","v":7.5},556.84439999999995]
["vegetarische hamburger",100,"g",{"$f":"1.59*B912","v":159},{"$f":"0.175*B912","v":17.5},{"$f":"0.098*B912","v":9.8000000000000007},{"$f":"0.055*B912","v":5.5},665.70119999999997]
["vegetarische kebab",100,"g",{"$f":"1.5*B913","v":150},{"$f":"0.185*B913","v":18.5},{"$f":"0.077*B913","v":7.7},{"$f":"0.05*B913","v":5},628.02]
["vegetarische schnitzel",100,"g",{"$f":"2.72*B914","v":272},{"$f":"0.155*B914","v":15.5},{"$f":"0.144*B914","v":14.399999999999999},{"$f":"0.17*B914","v":17},1138.8096]
["veldsla",100,"g",{"$f":"0.13*B915","v":13},{"$f":"0.018*B915","v":1.7999999999999998},{"$f":"0.007*B915","v":0.70000000000000007},{"$f":"0.004*B915","v":0.4},54.428399999999996]
["venkel",100,"g",{"$f":"0.36*B916","v":36},{"$f":"0.02*B916","v":2},{"$f":"0.07*B916","v":7.0000000000000009},0,150.72479999999999]
["vetarme geraspte kaas",100,"g",{"$f":"2.8*B917","v":280},{"$f":"0.295*B917","v":29.5},{"$f":"0.001*B917","v":0.1},{"$f":"0.18*B917","v":18},1172.3039999999999]
["viennetta",100,"ml",{"$f":"1.55*B918","v":155},{"$f":"0.02*B918","v":2},{"$f":"0.12*B918","v":12},{"$f":"0.11*B918","v":11},648.95399999999995]
["vietnamese loempia",100,"g",{"$f":"2.04*B919","v":204},{"$f":"0.074*B919","v":7.3999999999999995},{"$f":"0.219*B919","v":21.9},{"$f":"0.096*B919","v":9.6},854.10719999999992]
["Vifit calcimel",100,"ml",{"$f":"0.65*B920","v":65},{"$f":"0.03*B920","v":3},{"$f":"0.11*B920","v":11},{"$f":"0.01*B920","v":1},272.142]
["vijgen (gedroogd)",100,"g",{"$f":"2.28*B921","v":227.99999999999997},{"$f":"0.04*B921","v":4},{"$f":"0.53*B921","v":53},0,954.59039999999982]
["vijgen (gedroogd)    ",100,"g",{"$f":"2.73*B922","v":273},{"$f":"0.04*B922","v":4},{"$f":"0.62*B922","v":62},{"$f":"0.01*B922","v":1},1142.9964]
["vijgen (vers)",100,"g",{"$f":"0.63*B923","v":63},{"$f":"0.009*B923","v":0.89999999999999991},{"$f":"0.13*B923","v":13},{"$f":"0.008*B923","v":0.8},263.76839999999999]
["vinaigrettesaus",100,"g",{"$f":"5.32*B924","v":532},{"$f":"0.002*B924","v":0.2},0,{"$f":"0.59*B924","v":59},2227.3775999999998]
["visburger",100,"g",{"$f":"2.38*B925","v":238},{"$f":"0.164*B925","v":16.400000000000002},{"$f":"0.139*B925","v":13.900000000000002},{"$f":"0.13*B925","v":13},996.45839999999998]
["vissalade",100,"g",{"$f":"2.76*B926","v":276},{"$f":"0.07*B926","v":7.0000000000000009},{"$f":"0.069*B926","v":6.9},{"$f":"0.245*B926","v":24.5},1155.5568000000001]
["visschnitzel",100,"g",{"$f":"2.38*B927","v":238},{"$f":"0.164*B927","v":16.400000000000002},{"$f":"0.139*B927","v":13.900000000000002},{"$f":"0.13*B927","v":13},996.45839999999998]
["vissticks",100,"g",{"$f":"1.67*B928","v":167},{"$f":"0.12*B928","v":12},{"$f":"0.14*B928","v":14.000000000000002},{"$f":"0.07*B928","v":7.0000000000000009},699.19560000000001]
["vitabis",100,"g",{"$f":"4.17*B929","v":417},{"$f":"0.086*B929","v":8.6},{"$f":"0.762*B929","v":76.2},{"$f":"0.086*B929","v":8.6},1745.8955999999998]
["vleessaus uit pakje",100,"g",{"$f":"0.76*B930","v":76},{"$f":"0.017*B930","v":1.7000000000000002},{"$f":"0.072*B930","v":7.1999999999999993},{"$f":"0.045*B930","v":4.5},318.1968]
["volkoren biscuit",100,"g",{"$f":"4.51*B931","v":451},{"$f":"0.09*B931","v":9},{"$f":"0.68*B931","v":68},{"$f":"0.16*B931","v":16},1888.2467999999999]
["volkorenbrood",100,"g",{"$f":"2.11*B932","v":211},{"$f":"0.084*B932","v":8.4},{"$f":"0.405*B932","v":40.5},{"$f":"0.018*B932","v":1.7999999999999998},883.41480000000001]
["vruchten op siroop",100,"g",{"$f":"0.76*B933","v":76},{"$f":"0.004*B933","v":0.4},{"$f":"0.187*B933","v":18.7},0,318.1968]
["vruchtenhagelslag",100,"g",{"$f":"3.93*B934","v":393},{"$f":"0.001*B934","v":0.1},{"$f":"0.982*B934","v":98.2},0,1645.4123999999999]
["vruchtenkoekje",100,"g",{"$f":"2.92*B935","v":292},0,{"$f":"0.73*B935","v":73},0,1222.5455999999999]
["vruchtenlimonade",100,"g",{"$f":"0.39*B936","v":39},0,{"$f":"0.098*B936","v":9.8000000000000007},0,163.2852]
["vruchtensaus",100,"g",{"$f":"1.6*B937","v":160},0,{"$f":"0.4*B937","v":40},0,669.88799999999992]
["vruchtentaart",100,"g",{"$f":"2.64*B938","v":264},{"$f":"0.037*B938","v":3.6999999999999997},{"$f":"0.363*B938","v":36.299999999999997},{"$f":"0.116*B938","v":11.600000000000001},1105.3152]
["vruchtenvlaai",100,"g",{"$f":"2.31*B939","v":231},{"$f":"0.036*B939","v":3.5999999999999996},{"$f":"0.374*B939","v":37.4},{"$f":"0.075*B939","v":7.5},967.1508]
["vruchtesap",100,"g",{"$f":"0.41*B940","v":41},0,{"$f":"0.101*B940","v":10.100000000000001},0,171.65879999999999]
["wafel (choco)",100,"g",{"$f":"4.72*B941","v":472},{"$f":"0.05*B941","v":5},{"$f":"0.59*B941","v":59},{"$f":"0.24*B941","v":24},1976.1695999999999]
["wafel (suiker)",100,"g",{"$f":"4.67*B942","v":467},{"$f":"0.05*B942","v":5},{"$f":"0.6*B942","v":60},{"$f":"0.23*B942","v":23},1955.2356]
["wafels     ",1,"st",{"$f":"177*B943","v":177},{"$f":"3*B943","v":3},{"$f":"21*B943","v":21},{"$f":"9*B943","v":9},741.06359999999995]
["walnoten",100,"g",{"$f":"6.59*B944","v":659},{"$f":"0.15*B944","v":15},{"$f":"0.08*B944","v":8},{"$f":"0.63*B944","v":63},2759.1012000000001]
["watergruwel",100,"g",{"$f":"0.6*B945","v":60},{"$f":"0.01*B945","v":1},{"$f":"0.14*B945","v":14.000000000000002},0,251.208]
["waterkers",100,"g",{"$f":"0.21*B946","v":21},{"$f":"0.016*B946","v":1.6},{"$f":"0.029*B946","v":2.9000000000000004},{"$f":"0.003*B946","v":0.3},87.922799999999995]
["watermeloen",100,"g",{"$f":"0.36*B947","v":36},{"$f":"0.01*B947","v":1},{"$f":"0.08*B947","v":8},0,150.72479999999999]
["weense worstjes (zwan)",100,"g",{"$f":"1.19*B948","v":119},{"$f":"0.1*B948","v":10},{"$f":"0.04*B948","v":4},{"$f":"0.07*B948","v":7.0000000000000009},498.22919999999999]
["whey proteine",100,"g",{"$f":"3.82*B949","v":382},{"$f":"0.815*B949","v":81.5},{"$f":"0.1174*B949","v":11.74},{"$f":"0.01*B949","v":1},1599.3576]
["wienerschnitzel",100,"g",{"$f":"1.88*B950","v":188},{"$f":"0.201*B950","v":20.100000000000001},{"$f":"0.063*B950","v":6.3},{"$f":"0.092*B950","v":9.1999999999999993},787.11839999999995]
["wijting",100,"g",{"$f":"0.77*B951","v":77},{"$f":"0.18*B951","v":18},{"$f":"0*B951","v":0},{"$f":"0.006*B951","v":0.6},322.3836]
["winegums",100,"g",{"$f":"2.04*B952","v":204},{"$f":"0.01*B952","v":1},{"$f":"0.5*B952","v":50},0,854.10719999999992]
["wit waterbrood",100,"g",{"$f":"2.59*B953","v":259},{"$f":"0.081*B953","v":8.1},{"$f":"0.52*B953","v":52},{"$f":"0.021*B953","v":2.1},{"$f":"D953*4.1868","v":1084.3812}]
["witloof",100,"g",{"$f":"0.12*B954","v":12},{"$f":"0.01*B954","v":1},{"$f":"0.02*B954","v":2},0,50.241599999999998]
["witte bonen",100,"g",{"$f":"3.34*B955","v":334},{"$f":"0.21*B955","v":21},{"$f":"0.58*B955","v":57.999999999999993},{"$f":"0.02*B955","v":2},1398.3912]
["witte bonen in tomatensaus",100,"g",{"$f":"0.75*B956","v":75},{"$f":"0.052*B956","v":5.2},{"$f":"0.127*B956","v":12.7},{"$f":"0.004*B956","v":0.4},314.01]
["witte kool",100,"g",{"$f":"0.24*B957","v":24},{"$f":"0.014*B957","v":1.4000000000000001},{"$f":"0.042*B957","v":4.2},{"$f":"0.002*B957","v":0.2},100.4832]
["wittebrood (melk)",100,"g",{"$f":"2.7*B958","v":270},{"$f":"0.097*B958","v":9.7000000000000011},{"$f":"0.513*B958","v":51.300000000000004},{"$f":"0.029*B958","v":2.9000000000000004},1130.4359999999999]
["wittekool (gekookt)",100,"g",{"$f":"0.11*B959","v":11},{"$f":"0.009*B959","v":0.89999999999999991},{"$f":"0.018*B959","v":1.7999999999999998},0,46.0548]
["wittekool (rauw)",100,"g",{"$f":"0.24*B960","v":24},{"$f":"0.02*B960","v":2},{"$f":"0.04*B960","v":4},0,100.4832]
["wokkels",100,"g",{"$f":"4.73*B961","v":473.00000000000006},{"$f":"0.03*B961","v":3},{"$f":"0.68*B961","v":68},{"$f":"0.21*B961","v":21},1980.3564000000001]
["worstebroodje",100,"g",{"$f":"3.95*B962","v":395},{"$f":"0.13*B962","v":13},{"$f":"0.25*B962","v":25},{"$f":"0.27*B962","v":27},1653.7859999999998]
["wortelen",100,"g",{"$f":"0.32*B963","v":32},{"$f":"0.01*B963","v":1},{"$f":"0.07*B963","v":7.0000000000000009},0,133.9776]
["yoghurt (danone)",100,"g",{"$f":"1.03*B964","v":103},{"$f":"0.036*B964","v":3.5999999999999996},{"$f":"0.16*B964","v":16},{"$f":"0.028*B964","v":2.8000000000000003},431.24039999999997]
["yoghurt (halfvol)",100,"g",{"$f":"0.5*B965","v":50},{"$f":"0.043*B965","v":4.3},{"$f":"0.047*B965","v":4.7},{"$f":"0.015*B965","v":1.5},209.34]
["yoghurt (light met fruit)",100,"g",{"$f":"0.43*B966","v":43},{"$f":"0.04*B966","v":4},{"$f":"0.06*B966","v":6},{"$f":"0.004*B966","v":0.4},180.0324]
["yoghurt (mager met fruit)",100,"g",{"$f":"0.65*B967","v":65},{"$f":"0.036*B967","v":3.5999999999999996},{"$f":"0.124*B967","v":12.4},{"$f":"0.001*B967","v":0.1},272.142]
["yoghurt (mager)",100,"g",{"$f":"0.42*B968","v":42},{"$f":"0.04*B968","v":4},{"$f":"0.05*B968","v":5},{"$f":"0.007*B968","v":0.70000000000000007},175.84559999999999]
["yoghurt (mager)",100,"g",{"$f":"0.33*B969","v":33},{"$f":"0.04*B969","v":4},{"$f":"0.04*B969","v":4},{"$f":"0.001*B969","v":0.1},138.1644]
["yoghurt (vol met fruit)",100,"g",{"$f":"0.93*B970","v":93},{"$f":"0.04*B970","v":4},{"$f":"0.142*B970","v":14.2},{"$f":"0.023*B970","v":2.2999999999999998},389.37239999999997]
["yoghurt (vol)",100,"g",{"$f":"0.56*B971","v":56.000000000000007},{"$f":"0.034*B971","v":3.4000000000000004},{"$f":"0.035*B971","v":3.5000000000000004},{"$f":"0.032*B971","v":3.2},234.46080000000003]
["yoghurt bio nature",100,"g",{"$f":"0.68*B972","v":68},{"$f":"0.038*B972","v":3.8},{"$f":"0.055*B972","v":5.5},{"$f":"0.034*B972","v":3.4000000000000004},284.70240000000001]
["yoghurtdrank",100,"g",{"$f":"0.66*B973","v":66},{"$f":"0.032*B973","v":3.2},{"$f":"0.133*B973","v":13.3},0,276.3288]
["yogonaise",100,"g",{"$f":"2.76*B974","v":276},{"$f":"0.008*B974","v":0.8},{"$f":"0.12*B974","v":12},{"$f":"0.25*B974","v":25},1155.5568000000001]
["zalm in blik (rode) ",100,"g",{"$f":"2.15*B975","v":215},{"$f":"0.19*B975","v":19},0,{"$f":"0.155*B975","v":15.5},900.16199999999992]
["zalm in blik (roze) ",100,"g",{"$f":"1.6*B976","v":160},{"$f":"0.23*B976","v":23},0,{"$f":"0.075*B976","v":7.5},669.88799999999992]
["zalmfilet",100,"g",{"$f":"2.06*B977","v":206},{"$f":"0.2*B977","v":20},0,{"$f":"0.14*B977","v":14.000000000000002},862.48079999999993]
["zemelen",100,"g",{"$f":"2.18*B978","v":218.00000000000003},{"$f":"0.14*B978","v":14.000000000000002},{"$f":"0.27*B978","v":27},{"$f":"0.06*B978","v":6},912.72240000000011]
["zemelkoek",1,"st",{"$f":"52*B979","v":52},{"$f":"1.4*B979","v":1.4},{"$f":"9.1*B979","v":9.1},{"$f":"1.12*B979","v":1.1200000000000001},217.71359999999999]
["zilveruien (zoetzuur)",100,"g",{"$f":"0.28*B980","v":28.000000000000004},0,{"$f":"0.07*B980","v":7.0000000000000009},0,117.23040000000002]
["zonnebloempitten",100,"g",{"$f":"6.32*B981","v":632},{"$f":"0.18*B981","v":18},{"$f":"0.13*B981","v":13},{"$f":"0.565*B981","v":56.499999999999993},2646.0576000000001]
["zout biscuitje",100,"g",{"$f":"5.02*B982","v":501.99999999999994},{"$f":"0.07*B982","v":7.0000000000000009},{"$f":"0.51*B982","v":51},{"$f":"0.3*B982","v":30},2101.7735999999995]
["zout koekje",100,"g",{"$f":"6.11*B983","v":611},{"$f":"0.07*B983","v":7.0000000000000009},{"$f":"0.4*B983","v":40},{"$f":"0.47*B983","v":47},2558.1347999999998]
["zout stokje",100,"g",{"$f":"3.7*B984","v":370},{"$f":"0.12*B984","v":12},{"$f":"0.67*B984","v":67},{"$f":"0.06*B984","v":6},1549.116]
["zoute stengel","100","g",{"$f":"5.07*B985","v":507},{"$f":"0.09*B985","v":9},{"$f":"0.4*B985","v":40},{"$f":"0.51*B985","v":51}]
["zure room",100,"g",{"$f":"2.03*B986","v":202.99999999999997},{"$f":"0.027*B986","v":2.7},{"$f":"0.032*B986","v":3.2},{"$f":"0.2*B986","v":20},{"$f":"D986*4.1868","v":849.92039999999986}]
["zuring",100,"g",{"$f":"0.25*B987","v":25},{"$f":"0.026*B987","v":2.6},{"$f":"0.026*B987","v":2.6},{"$f":"0.005*B987","v":0.5},104.67]
["zuurkool",100,"g",{"$f":"0.24*B988","v":24},{"$f":"0.02*B988","v":2},{"$f":"0.04*B988","v":4},0,100.4832]
["zuurkoolstamppot",100,"g",{"$f":"0.52*B989","v":52},{"$f":"0.019*B989","v":1.9},{"$f":"0.109*B989","v":10.9},{"$f":"0.001*B989","v":0.1},217.71359999999999]
["zuurtje",100,"g",{"$f":"3.8*B990","v":380},0,{"$f":"0.95*B990","v":95},0,1590.9839999999999]
["zwarte bessen",100,"g",{"$f":"0.4*B991","v":40},{"$f":"0.02*B991","v":2},{"$f":"0.08*B991","v":8},0,167.47199999999998]
["zwitserse strooikaas",100,"g",{"$f":"1.28*B992","v":128},{"$f":"0.32*B992","v":32},0,0,535.91039999999998]

{"sheet":"Recept","index":2,"n_rows":54,"n_cols":15,"rows_kept":54,"cut":false,"hidden":false,"merged":[[10,1,10,2],[9,1,9,7],[9,8,9,14],[10,8,10,9]]}
["Uw huidig gewicht :",82,"kg"]
["Uw lengte:",188,"cm"]
["Mate aktiviteit:",2]
["Uw BMI:",{"$f":"B1/(B2*B2)*10000","v":23.20054323223178},"pnt"]
["U heeft nodig: Kcal ",{"$f":"B6/4.1868","v":2526.8576750496063},"Kcal"]
["kJ ",{"$f":"B4*(B3/10+1)*380","v":10579.447713897691},"kJ",null,"Totaal:",null,null,4,"personen",null,"P.persoon:"]
["eiwit ",{"$f":"B6*0.25/17","v":155.58011343967192},"g",null,"Kcal","Eiwit","Koolh.","Vet","kJ",null,"Kcal","Eiwit","Koolh.","Vet","kJ"]
["koolh ",{"$f":"B6*0.55/17","v":342.27624956727823},"g",null,{"$f":"SUM(K12:K54)","v":0},{"$f":"SUM(L12:L54)","v":0},{"$f":"SUM(M12:M54)","v":0},{"$f":"SUM(N12:N54)","v":0},{"$f":"SUM(O12:O54)","v":0},null,{"$f":"E8/$H$6","v":0},{"$f":"F8/$H$6","v":0},0,0,0]
["vet ",{"$f":"B6*0.2/38","v":55.681303757356268},"g"]
[null,"Calorieëntabel",null,null,null,null,null,null,"Recept"]
["Ingredieënt","Eenheid",null,"Kcal","Eiwit","Koolh.","Vet","kJ","Eenheid",null,"Kcal","Eiwit","Koolh.","Vet","kJ"]
[null,100,{"$f":"IF($A$12=\"\",\"\",VLOOKUP($A$12,CalTab!$A$3:$G$980,3,TRUE))","v":""},{"$f":"IF($A$12=\"\",\"\",VLOOKUP($A$12,CalTab!$A$3:$H$980,4,TRUE))","v":""},{"$f":"IF($A$12=\"\",\"\",VLOOKUP($A$12,CalTab!$A$3:$H$980,5,TRUE))","v":""},{"$f":"IF($A$12=\"\",\"\",VLOOKUP($A$12,CalTab!$A$3:$H$980,6,TRUE))","v":""},{"$f":"IF($A$12=\"\",\"\",VLOOKUP($A$12,CalTab!$A$3:$H$980,7,TRUE))","v":""},{"$f":"IF($A$12=\"\",\"\",VLOOKUP($A$12,CalTab!$A$3:$H$980,8,TRUE))","v":""},null,{"$f":"IF($A$12=\"\",\"\",VLOOKUP($A$12,CalTab!$A$3:$G$980,3,TRUE))","v":""},{"$f":"IF($A$12=\"\",\"\",D12*$I$12/$B$12)","v":""},{"$f":"IF($A$12=\"\",\"\",E12*$I$12/$B$12)","v":""},"","",""]
[null,{"$f":"IF($A$13=\"\",\"\",VLOOKUP($A$13,CalTab!$A$3:$G$980,2,TRUE))","v":""},{"$f":"IF($A$13=\"\",\"\",VLOOKUP($A$13,CalTab!$A$3:$G$980,3,TRUE))","v":""},{"$f":"IF($A$13=\"\",\"\",VLOOKUP($A$13,CalTab!$A$3:$H$980,4,TRUE))","v":""},{"$f":"IF($A$13=\"\",\"\",VLOOKUP($A$13,CalTab!$A$3:$H$980,5,TRUE))","v":""},{"$f":"IF($A$13=\"\",\"\",VLOOKUP($A$13,CalTab!$A$3:$H$980,6,TRUE))","v":""},{"$f":"IF($A$13=\"\",\"\",VLOOKUP($A$13,CalTab!$A$3:$H$980,7,TRUE))","v":""},{"$f":"IF($A$13=\"\",\"\",VLOOKUP($A$13,CalTab!$A$3:$H$980,8,TRUE))","v":""},null,{"$f":"IF($A$13=\"\",\"\",VLOOKUP($A$13,CalTab!$A$3:$G$980,3,TRUE))","v":""},{"$f":"IF($A$13=\"\",\"\",D13*$I$13/$B$13)","v":""},{"$f":"IF($A$13=\"\",\"\",VLOOKUP($A$13,CalTab!$A$3:$G$980,5,TRUE))","v":""},{"$f":"IF($A$13=\"\",\"\",VLOOKUP($A$13,CalTab!$A$3:$G$980,6,TRUE))","v":""},{"$f":"IF($A$13=\"\",\"\",VLOOKUP($A$13,CalTab!$A$3:$G$980,7,TRUE))","v":""},{"$f":"IF($A$13=\"\",\"\",H13*$I$13/$B$13)","v":""}]
[null,{"$f":"IF($A$14=\"\",\"\",VLOOKUP($A$14,CalTab!$A$3:$G$980,2,TRUE))","v":""},{"$f":"IF($A$14=\"\",\"\",VLOOKUP($A$14,CalTab!$A$3:$G$980,3,TRUE))","v":""},{"$f":"IF($A$14=\"\",\"\",VLOOKUP($A$14,CalTab!$A$3:$H$980,4,TRUE))","v":""},{"$f":"IF($A$14=\"\",\"\",VLOOKUP($A$14,CalTab!$A$3:$H$980,5,TRUE))","v":""},{"$f":"IF($A$14=\"\",\"\",VLOOKUP($A$14,CalTab!$A$3:$H$980,6,TRUE))","v":""},{"$f":"IF($A$14=\"\",\"\",VLOOKUP($A$14,CalTab!$A$3:$H$980,7,TRUE))","v":""},{"$f":"IF($A$14=\"\",\"\",VLOOKUP($A$14,CalTab!$A$3:$H$980,8,TRUE))","v":""},null,{"$f":"IF($A$14=\"\",\"\",VLOOKUP($A$14,CalTab!$A$3:$G$980,3,TRUE))","v":""},{"$f":"IF($A$14=\"\",\"\",D14*$I$14/$B$14)","v":""},{"$f":"IF($A$14=\"\",\"\",VLOOKUP($A$14,CalTab!$A$3:$G$980,5,TRUE))","v":""},{"$f":"IF($A$14=\"\",\"\",VLOOKUP($A$14,CalTab!$A$3:$G$980,6,TRUE))","v":""},{"$f":"IF($A$14=\"\",\"\",VLOOKUP($A$14,CalTab!$A$3:$G$980,7,TRUE))","v":""},{"$f":"IF($A$14=\"\",\"\",H14*$I$14/$B$14)","v":""}]
[null,{"$f":"IF($A$15=\"\",\"\",VLOOKUP($A$15,CalTab!$A$3:$G$980,2,TRUE))","v":""},{"$f":"IF($A$15=\"\",\"\",VLOOKUP($A$15,CalTab!$A$3:$G$980,3,TRUE))","v":""},{"$f":"IF($A$15=\"\",\"\",VLOOKUP($A$15,CalTab!$A$3:$H$980,4,TRUE))","v":""},{"$f":"IF($A$15=\"\",\"\",VLOOKUP($A$15,CalTab!$A$3:$H$980,5,TRUE))","v":""},{"$f":"IF($A$15=\"\",\"\",VLOOKUP($A$15,CalTab!$A$3:$H$980,6,TRUE))","v":""},{"$f":"IF($A$15=\"\",\"\",VLOOKUP($A$15,CalTab!$A$3:$H$980,7,TRUE))","v":""},{"$f":"IF($A$15=\"\",\"\",VLOOKUP($A$15,CalTab!$A$3:$H$980,8,TRUE))","v":""},null,{"$f":"IF($A$15=\"\",\"\",VLOOKUP($A$15,CalTab!$A$3:$G$980,3,TRUE))","v":""},{"$f":"IF($A$15=\"\",\"\",D15*$I$15/$B$15)","v":""},{"$f":"IF($A$15=\"\",\"\",VLOOKUP($A$15,CalTab!$A$3:$G$980,5,TRUE))","v":""},{"$f":"IF($A$15=\"\",\"\",VLOOKUP($A$15,CalTab!$A$3:$G$980,6,TRUE))","v":""},{"$f":"IF($A$15=\"\",\"\",VLOOKUP($A$15,CalTab!$A$3:$G$980,7,TRUE))","v":""},{"$f":"IF($A$15=\"\",\"\",H15*$I$15/$B$15)","v":""}]
[null,{"$f":"IF($A$16=\"\",\"\",VLOOKUP($A$16,CalTab!$A$3:$G$980,2,TRUE))","v":""},{"$f":"IF($A$16=\"\",\"\",VLOOKUP($A$16,CalTab!$A$3:$G$980,3,TRUE))","v":""},{"$f":"IF($A$16=\"\",\"\",VLOOKUP($A$16,CalTab!$A$3:$H$980,4,TRUE))","v":""},{"$f":"IF($A$16=\"\",\"\",VLOOKUP($A$16,CalTab!$A$3:$H$980,5,TRUE))","v":""},{"$f":"IF($A$16=\"\",\"\",VLOOKUP($A$16,CalTab!$A$3:$H$980,6,TRUE))","v":""},{"$f":"IF($A$16=\"\",\"\",VLOOKUP($A$16,CalTab!$A$3:$H$980,7,TRUE))","v":""},{"$f":"IF($A$16=\"\",\"\",VLOOKUP($A$16,CalTab!$A$3:$H$980,8,TRUE))","v":""},null,{"$f":"IF($A$16=\"\",\"\",VLOOKUP($A$16,CalTab!$A$3:$G$980,3,TRUE))","v":""},{"$f":"IF($A$16=\"\",\"\",D16*$I$16/$B$16)","v":""},{"$f":"IF($A$16=\"\",\"\",VLOOKUP($A$16,CalTab!$A$3:$G$980,5,TRUE))","v":""},{"$f":"IF($A$16=\"\",\"\",VLOOKUP($A$16,CalTab!$A$3:$G$980,6,TRUE))","v":""},{"$f":"IF($A$16=\"\",\"\",VLOOKUP($A$16,CalTab!$A$3:$G$980,7,TRUE))","v":""},{"$f":"IF($A$16=\"\",\"\",H16*$I$16/$B$16)","v":""}]
[null,{"$f":"IF($A$17=\"\",\"\",VLOOKUP($A$17,CalTab!$A$3:$G$980,2,TRUE))","v":""},{"$f":"IF($A$17=\"\",\"\",VLOOKUP($A$17,CalTab!$A$3:$G$980,3,TRUE))","v":""},{"$f":"IF($A$17=\"\",\"\",VLOOKUP($A$17,CalTab!$A$3:$H$980,4,TRUE))","v":""},{"$f":"IF($A$17=\"\",\"\",VLOOKUP($A$17,CalTab!$A$3:$H$980,5,TRUE))","v":""},{"$f":"IF($A$17=\"\",\"\",VLOOKUP($A$17,CalTab!$A$3:$H$980,6,TRUE))","v":""},{"$f":"IF($A$17=\"\",\"\",VLOOKUP($A$17,CalTab!$A$3:$H$980,7,TRUE))","v":""},{"$f":"IF($A$17=\"\",\"\",VLOOKUP($A$17,CalTab!$A$3:$H$980,8,TRUE))","v":""},null,{"$f":"IF($A$17=\"\",\"\",VLOOKUP($A$17,CalTab!$A$3:$G$980,3,TRUE))","v":""},{"$f":"IF($A$17=\"\",\"\",D17*$I$17/$B$17)","v":""},{"$f":"IF($A$17=\"\",\"\",VLOOKUP($A$17,CalTab!$A$3:$G$980,5,TRUE))","v":""},{"$f":"IF($A$17=\"\",\"\",VLOOKUP($A$17,CalTab!$A$3:$G$980,6,TRUE))","v":""},{"$f":"IF($A$17=\"\",\"\",VLOOKUP($A$17,CalTab!$A$3:$G$980,7,TRUE))","v":""},{"$f":"IF($A$17=\"\",\"\",H17*$I$17/$B$17)","v":""}]
[null,{"$f":"IF($A$18=\"\",\"\",VLOOKUP($A$18,CalTab!$A$3:$G$980,2,TRUE))","v":""},{"$f":"IF($A$18=\"\",\"\",VLOOKUP($A$18,CalTab!$A$3:$G$980,3,TRUE))","v":""},{"$f":"IF($A$18=\"\",\"\",VLOOKUP($A$18,CalTab!$A$3:$H$980,4,TRUE))","v":""},{"$f":"IF($A$18=\"\",\"\",VLOOKUP($A$18,CalTab!$A$3:$H$980,5,TRUE))","v":""},{"$f":"IF($A$18=\"\",\"\",VLOOKUP($A$18,CalTab!$A$3:$H$980,6,TRUE))","v":""},{"$f":"IF($A$18=\"\",\"\",VLOOKUP($A$18,CalTab!$A$3:$H$980,7,TRUE))","v":""},{"$f":"IF($A$18=\"\",\"\",VLOOKUP($A$18,CalTab!$A$3:$H$980,8,TRUE))","v":""},null,{"$f":"IF($A$18=\"\",\"\",VLOOKUP($A$18,CalTab!$A$3:$G$980,3,TRUE))","v":""},{"$f":"IF($A$18=\"\",\"\",D18*$I$18/$B$18)","v":""},{"$f":"IF($A$18=\"\",\"\",VLOOKUP($A$18,CalTab!$A$3:$G$980,5,TRUE))","v":""},{"$f":"IF($A$18=\"\",\"\",VLOOKUP($A$18,CalTab!$A$3:$G$980,6,TRUE))","v":""},{"$f":"IF($A$18=\"\",\"\",VLOOKUP($A$18,CalTab!$A$3:$G$980,7,TRUE))","v":""},{"$f":"IF($A$18=\"\",\"\",H18*$I$18/$B$18)","v":""}]
[null,{"$f":"IF($A$19=\"\",\"\",VLOOKUP($A$19,CalTab!$A$3:$G$980,2,TRUE))","v":""},{"$f":"IF($A$19=\"\",\"\",VLOOKUP($A$19,CalTab!$A$3:$G$980,3,TRUE))","v":""},{"$f":"IF($A$19=\"\",\"\",VLOOKUP($A$19,CalTab!$A$3:$H$980,4,TRUE))","v":""},{"$f":"IF($A$19=\"\",\"\",VLOOKUP($A$19,CalTab!$A$3:$H$980,5,TRUE))","v":""},{"$f":"IF($A$19=\"\",\"\",VLOOKUP($A$19,CalTab!$A$3:$H$980,6,TRUE))","v":""},{"$f":"IF($A$19=\"\",\"\",VLOOKUP($A$19,CalTab!$A$3:$H$980,7,TRUE))","v":""},{"$f":"IF($A$19=\"\",\"\",VLOOKUP($A$19,CalTab!$A$3:$H$980,8,TRUE))","v":""},null,{"$f":"IF($A$19=\"\",\"\",VLOOKUP($A$19,CalTab!$A$3:$G$980,3,TRUE))","v":""},{"$f":"IF($A$19=\"\",\"\",D19*$I$19/$B$19)","v":""},{"$f":"IF($A$19=\"\",\"\",VLOOKUP($A$19,CalTab!$A$3:$G$980,5,TRUE))","v":""},{"$f":"IF($A$19=\"\",\"\",VLOOKUP($A$19,CalTab!$A$3:$G$980,6,TRUE))","v":""},{"$f":"IF($A$19=\"\",\"\",VLOOKUP($A$19,CalTab!$A$3:$G$980,7,TRUE))","v":""},{"$f":"IF($A$19=\"\",\"\",H19*$I$19/$B$19)","v":""}]
[null,{"$f":"IF($A$20=\"\",\"\",VLOOKUP($A$20,CalTab!$A$3:$G$980,2,TRUE))","v":""},{"$f":"IF($A$20=\"\",\"\",VLOOKUP($A$20,CalTab!$A$3:$G$980,3,TRUE))","v":""},{"$f":"IF($A$20=\"\",\"\",VLOOKUP($A$20,CalTab!$A$3:$H$980,4,TRUE))","v":""},{"$f":"IF($A$20=\"\",\"\",VLOOKUP($A$20,CalTab!$A$3:$H$980,5,TRUE))","v":""},{"$f":"IF($A$20=\"\",\"\",VLOOKUP($A$20,CalTab!$A$3:$H$980,6,TRUE))","v":""},{"$f":"IF($A$20=\"\",\"\",VLOOKUP($A$20,CalTab!$A$3:$H$980,7,TRUE))","v":""},{"$f":"IF($A$20=\"\",\"\",VLOOKUP($A$20,CalTab!$A$3:$H$980,8,TRUE))","v":""},null,{"$f":"IF($A$20=\"\",\"\",VLOOKUP($A$20,CalTab!$A$3:$G$980,3,TRUE))","v":""},{"$f":"IF($A$20=\"\",\"\",D20*$I$20/$B$20)","v":""},{"$f":"IF($A$20=\"\",\"\",VLOOKUP($A$20,CalTab!$A$3:$G$980,5,TRUE))","v":""},{"$f":"IF($A$20=\"\",\"\",VLOOKUP($A$20,CalTab!$A$3:$G$980,6,TRUE))","v":""},{"$f":"IF($A$20=\"\",\"\",VLOOKUP($A$20,CalTab!$A$3:$G$980,7,TRUE))","v":""},{"$f":"IF($A$20=\"\",\"\",H20*$I$20/$B$20)","v":""}]
[null,{"$f":"IF($A$21=\"\",\"\",VLOOKUP($A$21,CalTab!$A$3:$G$980,2,TRUE))","v":""},{"$f":"IF($A$21=\"\",\"\",VLOOKUP($A$21,CalTab!$A$3:$G$980,3,TRUE))","v":""},{"$f":"IF($A$21=\"\",\"\",VLOOKUP($A$21,CalTab!$A$3:$H$980,4,TRUE))","v":""},{"$f":"IF($A$21=\"\",\"\",VLOOKUP($A$21,CalTab!$A$3:$H$980,5,TRUE))","v":""},{"$f":"IF($A$21=\"\",\"\",VLOOKUP($A$21,CalTab!$A$3:$H$980,6,TRUE))","v":""},{"$f":"IF($A$21=\"\",\"\",VLOOKUP($A$21,CalTab!$A$3:$H$980,7,TRUE))","v":""},{"$f":"IF($A$21=\"\",\"\",VLOOKUP($A$21,CalTab!$A$3:$H$980,8,TRUE))","v":""},null,{"$f":"IF($A$21=\"\",\"\",VLOOKUP($A$21,CalTab!$A$3:$G$980,3,TRUE))","v":""},{"$f":"IF($A$21=\"\",\"\",D21*$I$21/$B$21)","v":""},{"$f":"IF($A$21=\"\",\"\",VLOOKUP($A$21,CalTab!$A$3:$G$980,5,TRUE))","v":""},{"$f":"IF($A$21=\"\",\"\",VLOOKUP($A$21,CalTab!$A$3:$G$980,6,TRUE))","v":""},{"$f":"IF($A$21=\"\",\"\",VLOOKUP($A$21,CalTab!$A$3:$G$980,7,TRUE))","v":""},{"$f":"IF($A$21=\"\",\"\",H21*$I$21/$B$21)","v":""}]
[null,{"$f":"IF($A$22=\"\",\"\",VLOOKUP($A$22,CalTab!$A$3:$G$980,2,TRUE))","v":""},{"$f":"IF($A$22=\"\",\"\",VLOOKUP($A$22,CalTab!$A$3:$G$980,3,TRUE))","v":""},{"$f":"IF($A$22=\"\",\"\",VLOOKUP($A$22,CalTab!$A$3:$H$980,4,TRUE))","v":""},{"$f":"IF($A$22=\"\",\"\",VLOOKUP($A$22,CalTab!$A$3:$H$980,5,TRUE))","v":""},{"$f":"IF($A$22=\"\",\"\",VLOOKUP($A$22,CalTab!$A$3:$H$980,6,TRUE))","v":""},{"$f":"IF($A$22=\"\",\"\",VLOOKUP($A$22,CalTab!$A$3:$H$980,7,TRUE))","v":""},{"$f":"IF($A$22=\"\",\"\",VLOOKUP($A$22,CalTab!$A$3:$H$980,8,TRUE))","v":""},null,{"$f":"IF($A$22=\"\",\"\",VLOOKUP($A$22,CalTab!$A$3:$G$980,3,TRUE))","v":""},{"$f":"IF($A$22=\"\",\"\",D22*$I$22/$B$22)","v":""},{"$f":"IF($A$22=\"\",\"\",VLOOKUP($A$22,CalTab!$A$3:$G$980,5,TRUE))","v":""},{"$f":"IF($A$22=\"\",\"\",VLOOKUP($A$22,CalTab!$A$3:$G$980,6,TRUE))","v":""},{"$f":"IF($A$22=\"\",\"\",VLOOKUP($A$22,CalTab!$A$3:$G$980,7,TRUE))","v":""},{"$f":"IF($A$22=\"\",\"\",H22*$I$22/$B$22)","v":""}]
[null,{"$f":"IF($A$23=\"\",\"\",VLOOKUP($A$23,CalTab!$A$3:$G$980,2,TRUE))","v":""},{"$f":"IF($A$23=\"\",\"\",VLOOKUP($A$23,CalTab!$A$3:$G$980,3,TRUE))","v":""},{"$f":"IF($A$23=\"\",\"\",VLOOKUP($A$23,CalTab!$A$3:$H$980,4,TRUE))","v":""},{"$f":"IF($A$23=\"\",\"\",VLOOKUP($A$23,CalTab!$A$3:$H$980,5,TRUE))","v":""},{"$f":"IF($A$23=\"\",\"\",VLOOKUP($A$23,CalTab!$A$3:$H$980,6,TRUE))","v":""},{"$f":"IF($A$23=\"\",\"\",VLOOKUP($A$23,CalTab!$A$3:$H$980,7,TRUE))","v":""},{"$f":"IF($A$23=\"\",\"\",VLOOKUP($A$23,CalTab!$A$3:$H$980,8,TRUE))","v":""},null,{"$f":"IF($A$23=\"\",\"\",VLOOKUP($A$23,CalTab!$A$3:$G$980,3,TRUE))","v":""},{"$f":"IF($A$23=\"\",\"\",D23*$I$23/$B$23)","v":""},{"$f":"IF($A$23=\"\",\"\",VLOOKUP($A$23,CalTab!$A$3:$G$980,5,TRUE))","v":""},{"$f":"IF($A$23=\"\",\"\",VLOOKUP($A$23,CalTab!$A$3:$G$980,6,TRUE))","v":""},{"$f":"IF($A$23=\"\",\"\",VLOOKUP($A$23,CalTab!$A$3:$G$980,7,TRUE))","v":""},{"$f":"IF($A$23=\"\",\"\",H23*$I$23/$B$23)","v":""}]
[null,{"$f":"IF($A$24=\"\",\"\",VLOOKUP($A$24,CalTab!$A$3:$G$980,2,TRUE))","v":""},{"$f":"IF($A$24=\"\",\"\",VLOOKUP($A$24,CalTab!$A$3:$G$980,3,TRUE))","v":""},{"$f":"IF($A$24=\"\",\"\",VLOOKUP($A$24,CalTab!$A$3:$H$980,4,TRUE))","v":""},{"$f":"IF($A$24=\"\",\"\",VLOOKUP($A$24,CalTab!$A$3:$H$980,5,TRUE))","v":""},{"$f":"IF($A$24=\"\",\"\",VLOOKUP($A$24,CalTab!$A$3:$H$980,6,TRUE))","v":""},{"$f":"IF($A$24=\"\",\"\",VLOOKUP($A$24,CalTab!$A$3:$H$980,7,TRUE))","v":""},{"$f":"IF($A$24=\"\",\"\",VLOOKUP($A$24,CalTab!$A$3:$H$980,8,TRUE))","v":""},null,{"$f":"IF($A$24=\"\",\"\",VLOOKUP($A$24,CalTab!$A$3:$G$980,3,TRUE))","v":""},{"$f":"IF($A$24=\"\",\"\",D24*$I$24/$B$24)","v":""},{"$f":"IF($A$24=\"\",\"\",VLOOKUP($A$24,CalTab!$A$3:$G$980,5,TRUE))","v":""},{"$f":"IF($A$24=\"\",\"\",VLOOKUP($A$24,CalTab!$A$3:$G$980,6,TRUE))","v":""},{"$f":"IF($A$24=\"\",\"\",VLOOKUP($A$24,CalTab!$A$3:$G$980,7,TRUE))","v":""},{"$f":"IF($A$24=\"\",\"\",H24*$I$24/$B$24)","v":""}]
[null,{"$f":"IF($A$25=\"\",\"\",VLOOKUP($A$25,CalTab!$A$3:$G$980,2,TRUE))","v":""},{"$f":"IF($A$25=\"\",\"\",VLOOKUP($A$25,CalTab!$A$3:$G$980,3,TRUE))","v":""},{"$f":"IF($A$25=\"\",\"\",VLOOKUP($A$25,CalTab!$A$3:$H$980,4,TRUE))","v":""},{"$f":"IF($A$25=\"\",\"\",VLOOKUP($A$25,CalTab!$A$3:$H$980,5,TRUE))","v":""},{"$f":"IF($A$25=\"\",\"\",VLOOKUP($A$25,CalTab!$A$3:$H$980,6,TRUE))","v":""},{"$f":"IF($A$25=\"\",\"\",VLOOKUP($A$25,CalTab!$A$3:$H$980,7,TRUE))","v":""},{"$f":"IF($A$25=\"\",\"\",VLOOKUP($A$25,CalTab!$A$3:$H$980,8,TRUE))","v":""},null,{"$f":"IF($A$25=\"\",\"\",VLOOKUP($A$25,CalTab!$A$3:$G$980,3,TRUE))","v":""},{"$f":"IF($A$25=\"\",\"\",D25*$I$25/$B$25)","v":""},{"$f":"IF($A$25=\"\",\"\",VLOOKUP($A$25,CalTab!$A$3:$G$980,5,TRUE))","v":""},{"$f":"IF($A$25=\"\",\"\",VLOOKUP($A$25,CalTab!$A$3:$G$980,6,TRUE))","v":""},{"$f":"IF($A$25=\"\",\"\",VLOOKUP($A$25,CalTab!$A$3:$G$980,7,TRUE))","v":""},{"$f":"IF($A$25=\"\",\"\",H25*$I$25/$B$25)","v":""}]
[null,{"$f":"IF($A$26=\"\",\"\",VLOOKUP($A$26,CalTab!$A$3:$G$980,2,TRUE))","v":""},{"$f":"IF($A$26=\"\",\"\",VLOOKUP($A$26,CalTab!$A$3:$G$980,3,TRUE))","v":""},{"$f":"IF($A$26=\"\",\"\",VLOOKUP($A$26,CalTab!$A$3:$H$980,4,TRUE))","v":""},{"$f":"IF($A$26=\"\",\"\",VLOOKUP($A$26,CalTab!$A$3:$H$980,5,TRUE))","v":""},{"$f":"IF($A$26=\"\",\"\",VLOOKUP($A$26,CalTab!$A$3:$H$980,6,TRUE))","v":""},{"$f":"IF($A$26=\"\",\"\",VLOOKUP($A$26,CalTab!$A$3:$H$980,7,TRUE))","v":""},{"$f":"IF($A$26=\"\",\"\",VLOOKUP($A$26,CalTab!$A$3:$H$980,8,TRUE))","v":""},null,{"$f":"IF($A$26=\"\",\"\",VLOOKUP($A$26,CalTab!$A$3:$G$980,3,TRUE))","v":""},{"$f":"IF($A$26=\"\",\"\",D26*$I$26/$B$26)","v":""},{"$f":"IF($A$26=\"\",\"\",VLOOKUP($A$26,CalTab!$A$3:$G$980,5,TRUE))","v":""},{"$f":"IF($A$26=\"\",\"\",VLOOKUP($A$26,CalTab!$A$3:$G$980,6,TRUE))","v":""},{"$f":"IF($A$26=\"\",\"\",VLOOKUP($A$26,CalTab!$A$3:$G$980,7,TRUE))","v":""},{"$f":"IF($A$26=\"\",\"\",H26*$I$26/$B$26)","v":""}]
[null,{"$f":"IF($A$27=\"\",\"\",VLOOKUP($A$27,CalTab!$A$3:$G$980,2,TRUE))","v":""},{"$f":"IF($A$27=\"\",\"\",VLOOKUP($A$27,CalTab!$A$3:$G$980,3,TRUE))","v":""},{"$f":"IF($A$27=\"\",\"\",VLOOKUP($A$27,CalTab!$A$3:$H$980,4,TRUE))","v":""},{"$f":"IF($A$27=\"\",\"\",VLOOKUP($A$27,CalTab!$A$3:$H$980,5,TRUE))","v":""},{"$f":"IF($A$27=\"\",\"\",VLOOKUP($A$27,CalTab!$A$3:$H$980,6,TRUE))","v":""},{"$f":"IF($A$27=\"\",\"\",VLOOKUP($A$27,CalTab!$A$3:$H$980,7,TRUE))","v":""},{"$f":"IF($A$27=\"\",\"\",VLOOKUP($A$27,CalTab!$A$3:$H$980,8,TRUE))","v":""},null,{"$f":"IF($A$27=\"\",\"\",VLOOKUP($A$27,CalTab!$A$3:$G$980,3,TRUE))","v":""},{"$f":"IF($A$27=\"\",\"\",D27*$I$27/$B$27)","v":""},{"$f":"IF($A$27=\"\",\"\",VLOOKUP($A$27,CalTab!$A$3:$G$980,5,TRUE))","v":""},{"$f":"IF($A$27=\"\",\"\",VLOOKUP($A$27,CalTab!$A$3:$G$980,6,TRUE))","v":""},{"$f":"IF($A$27=\"\",\"\",VLOOKUP($A$27,CalTab!$A$3:$G$980,7,TRUE))","v":""},{"$f":"IF($A$27=\"\",\"\",H27*$I$27/$B$27)","v":""}]
[null,{"$f":"IF($A$28=\"\",\"\",VLOOKUP($A$28,CalTab!$A$3:$G$980,2,TRUE))","v":""},{"$f":"IF($A$28=\"\",\"\",VLOOKUP($A$28,CalTab!$A$3:$G$980,3,TRUE))","v":""},{"$f":"IF($A$28=\"\",\"\",VLOOKUP($A$28,CalTab!$A$3:$H$980,4,TRUE))","v":""},{"$f":"IF($A$28=\"\",\"\",VLOOKUP($A$28,CalTab!$A$3:$H$980,5,TRUE))","v":""},{"$f":"IF($A$28=\"\",\"\",VLOOKUP($A$28,CalTab!$A$3:$H$980,6,TRUE))","v":""},{"$f":"IF($A$28=\"\",\"\",VLOOKUP($A$28,CalTab!$A$3:$H$980,7,TRUE))","v":""},{"$f":"IF($A$28=\"\",\"\",VLOOKUP($A$28,CalTab!$A$3:$H$980,8,TRUE))","v":""},null,{"$f":"IF($A$28=\"\",\"\",VLOOKUP($A$28,CalTab!$A$3:$G$980,3,TRUE))","v":""},{"$f":"IF($A$28=\"\",\"\",D28*$I$28/$B$28)","v":""},{"$f":"IF($A$28=\"\",\"\",VLOOKUP($A$28,CalTab!$A$3:$G$980,5,TRUE))","v":""},{"$f":"IF($A$28=\"\",\"\",VLOOKUP($A$28,CalTab!$A$3:$G$980,6,TRUE))","v":""},{"$f":"IF($A$28=\"\",\"\",VLOOKUP($A$28,CalTab!$A$3:$G$980,7,TRUE))","v":""},{"$f":"IF($A$28=\"\",\"\",H28*$I$28/$B$28)","v":""}]
[null,{"$f":"IF($A$29=\"\",\"\",VLOOKUP($A$29,CalTab!$A$3:$G$980,2,TRUE))","v":""},{"$f":"IF($A$29=\"\",\"\",VLOOKUP($A$29,CalTab!$A$3:$G$980,3,TRUE))","v":""},{"$f":"IF($A$29=\"\",\"\",VLOOKUP($A$29,CalTab!$A$3:$H$980,4,TRUE))","v":""},{"$f":"IF($A$29=\"\",\"\",VLOOKUP($A$29,CalTab!$A$3:$H$980,5,TRUE))","v":""},{"$f":"IF($A$29=\"\",\"\",VLOOKUP($A$29,CalTab!$A$3:$H$980,6,TRUE))","v":""},{"$f":"IF($A$29=\"\",\"\",VLOOKUP($A$29,CalTab!$A$3:$H$980,7,TRUE))","v":""},{"$f":"IF($A$29=\"\",\"\",VLOOKUP($A$29,CalTab!$A$3:$H$980,8,TRUE))","v":""},null,{"$f":"IF($A$29=\"\",\"\",VLOOKUP($A$29,CalTab!$A$3:$G$980,3,TRUE))","v":""},{"$f":"IF($A$29=\"\",\"\",D29*$I$29/$B$29)","v":""},{"$f":"IF($A$29=\"\",\"\",VLOOKUP($A$29,CalTab!$A$3:$G$980,5,TRUE))","v":""},{"$f":"IF($A$29=\"\",\"\",VLOOKUP($A$29,CalTab!$A$3:$G$980,6,TRUE))","v":""},{"$f":"IF($A$29=\"\",\"\",VLOOKUP($A$29,CalTab!$A$3:$G$980,7,TRUE))","v":""},{"$f":"IF($A$29=\"\",\"\",H29*$I$29/$B$29)","v":""}]
[null,{"$f":"IF($A$30=\"\",\"\",VLOOKUP($A$30,CalTab!$A$3:$G$980,2,TRUE))","v":""},{"$f":"IF($A$30=\"\",\"\",VLOOKUP($A$30,CalTab!$A$3:$G$980,3,TRUE))","v":""},{"$f":"IF($A$30=\"\",\"\",VLOOKUP($A$30,CalTab!$A$3:$H$980,4,TRUE))","v":""},{"$f":"IF($A$30=\"\",\"\",VLOOKUP($A$30,CalTab!$A$3:$H$980,5,TRUE))","v":""},{"$f":"IF($A$30=\"\",\"\",VLOOKUP($A$30,CalTab!$A$3:$H$980,6,TRUE))","v":""},{"$f":"IF($A$30=\"\",\"\",VLOOKUP($A$30,CalTab!$A$3:$H$980,7,TRUE))","v":""},{"$f":"IF($A$30=\"\",\"\",VLOOKUP($A$30,CalTab!$A$3:$H$980,8,TRUE))","v":""},null,{"$f":"IF($A$30=\"\",\"\",VLOOKUP($A$30,CalTab!$A$3:$G$980,3,TRUE))","v":""},{"$f":"IF($A$30=\"\",\"\",D30*$I$30/$B$30)","v":""},{"$f":"IF($A$30=\"\",\"\",VLOOKUP($A$30,CalTab!$A$3:$G$980,5,TRUE))","v":""},{"$f":"IF($A$30=\"\",\"\",VLOOKUP($A$30,CalTab!$A$3:$G$980,6,TRUE))","v":""},{"$f":"IF($A$30=\"\",\"\",VLOOKUP($A$30,CalTab!$A$3:$G$980,7,TRUE))","v":""},{"$f":"IF($A$30=\"\",\"\",H30*$I$30/$B$30)","v":""}]
[null,{"$f":"IF($A$31=\"\",\"\",VLOOKUP($A$31,CalTab!$A$3:$G$980,2,TRUE))","v":""},{"$f":"IF($A$31=\"\",\"\",VLOOKUP($A$31,CalTab!$A$3:$G$980,3,TRUE))","v":""},{"$f":"IF($A$31=\"\",\"\",VLOOKUP($A$31,CalTab!$A$3:$H$980,4,TRUE))","v":""},{"$f":"IF($A$31=\"\",\"\",VLOOKUP($A$31,CalTab!$A$3:$H$980,5,TRUE))","v":""},{"$f":"IF($A$31=\"\",\"\",VLOOKUP($A$31,CalTab!$A$3:$H$980,6,TRUE))","v":""},{"$f":"IF($A$31=\"\",\"\",VLOOKUP($A$31,CalTab!$A$3:$H$980,7,TRUE))","v":""},{"$f":"IF($A$31=\"\",\"\",VLOOKUP($A$31,CalTab!$A$3:$H$980,8,TRUE))","v":""},null,{"$f":"IF($A$31=\"\",\"\",VLOOKUP($A$31,CalTab!$A$3:$G$980,3,TRUE))","v":""},{"$f":"IF($A$31=\"\",\"\",D31*$I$31/$B$31)","v":""},{"$f":"IF($A$31=\"\",\"\",VLOOKUP($A$31,CalTab!$A$3:$G$980,5,TRUE))","v":""},{"$f":"IF($A$31=\"\",\"\",VLOOKUP($A$31,CalTab!$A$3:$G$980,6,TRUE))","v":""},{"$f":"IF($A$31=\"\",\"\",VLOOKUP($A$31,CalTab!$A$3:$G$980,7,TRUE))","v":""},{"$f":"IF($A$31=\"\",\"\",H31*$I$31/$B$31)","v":""}]
[null,{"$f":"IF($A$32=\"\",\"\",VLOOKUP($A$32,CalTab!$A$3:$G$980,2,TRUE))","v":""},{"$f":"IF($A$32=\"\",\"\",VLOOKUP($A$32,CalTab!$A$3:$G$980,3,TRUE))","v":""},{"$f":"IF($A$32=\"\",\"\",VLOOKUP($A$32,CalTab!$A$3:$H$980,4,TRUE))","v":""},{"$f":"IF($A$32=\"\",\"\",VLOOKUP($A$32,CalTab!$A$3:$H$980,5,TRUE))","v":""},{"$f":"IF($A$32=\"\",\"\",VLOOKUP($A$32,CalTab!$A$3:$H$980,6,TRUE))","v":""},{"$f":"IF($A$32=\"\",\"\",VLOOKUP($A$32,CalTab!$A$3:$H$980,7,TRUE))","v":""},{"$f":"IF($A$32=\"\",\"\",VLOOKUP($A$32,CalTab!$A$3:$H$980,8,TRUE))","v":""},null,{"$f":"IF($A$32=\"\",\"\",VLOOKUP($A$32,CalTab!$A$3:$G$980,3,TRUE))","v":""},{"$f":"IF($A$32=\"\",\"\",D32*$I$32/$B$32)","v":""},{"$f":"IF($A$32=\"\",\"\",VLOOKUP($A$32,CalTab!$A$3:$G$980,5,TRUE))","v":""},{"$f":"IF($A$32=\"\",\"\",VLOOKUP($A$32,CalTab!$A$3:$G$980,6,TRUE))","v":""},{"$f":"IF($A$32=\"\",\"\",VLOOKUP($A$32,CalTab!$A$3:$G$980,7,TRUE))","v":""},{"$f":"IF($A$32=\"\",\"\",H32*$I$32/$B$32)","v":""}]
[null,{"$f":"IF($A$33=\"\",\"\",VLOOKUP($A$33,CalTab!$A$3:$G$980,2,TRUE))","v":""},{"$f":"IF($A$33=\"\",\"\",VLOOKUP($A$33,CalTab!$A$3:$G$980,3,TRUE))","v":""},{"$f":"IF($A$33=\"\",\"\",VLOOKUP($A$33,CalTab!$A$3:$H$980,4,TRUE))","v":""},{"$f":"IF($A$33=\"\",\"\",VLOOKUP($A$33,CalTab!$A$3:$H$980,5,TRUE))","v":""},{"$f":"IF($A$33=\"\",\"\",VLOOKUP($A$33,CalTab!$A$3:$H$980,6,TRUE))","v":""},{"$f":"IF($A$33=\"\",\"\",VLOOKUP($A$33,CalTab!$A$3:$H$980,7,TRUE))","v":""},{"$f":"IF($A$33=\"\",\"\",VLOOKUP($A$33,CalTab!$A$3:$H$980,8,TRUE))","v":""},null,{"$f":"IF($A$33=\"\",\"\",VLOOKUP($A$33,CalTab!$A$3:$G$980,3,TRUE))","v":""},{"$f":"IF($A$33=\"\",\"\",D33*$I$33/$B$33)","v":""},{"$f":"IF($A$33=\"\",\"\",VLOOKUP($A$33,CalTab!$A$3:$G$980,5,TRUE))","v":""},{"$f":"IF($A$33=\"\",\"\",VLOOKUP($A$33,CalTab!$A$3:$G$980,6,TRUE))","v":""},{"$f":"IF($A$33=\"\",\"\",VLOOKUP($A$33,CalTab!$A$3:$G$980,7,TRUE))","v":""},{"$f":"IF($A$33=\"\",\"\",H33*$I$33/$B$33)","v":""}]
[null,{"$f":"IF($A$34=\"\",\"\",VLOOKUP($A$34,CalTab!$A$3:$G$980,2,TRUE))","v":""},{"$f":"IF($A$34=\"\",\"\",VLOOKUP($A$34,CalTab!$A$3:$G$980,3,TRUE))","v":""},{"$f":"IF($A$34=\"\",\"\",VLOOKUP($A$34,CalTab!$A$3:$H$980,4,TRUE))","v":""},{"$f":"IF($A$34=\"\",\"\",VLOOKUP($A$34,CalTab!$A$3:$H$980,5,TRUE))","v":""},{"$f":"IF($A$34=\"\",\"\",VLOOKUP($A$34,CalTab!$A$3:$H$980,6,TRUE))","v":""},{"$f":"IF($A$34=\"\",\"\",VLOOKUP($A$34,CalTab!$A$3:$H$980,7,TRUE))","v":""},{"$f":"IF($A$34=\"\",\"\",VLOOKUP($A$34,CalTab!$A$3:$H$980,8,TRUE))","v":""},null,{"$f":"IF($A$34=\"\",\"\",VLOOKUP($A$34,CalTab!$A$3:$G$980,3,TRUE))","v":""},{"$f":"IF($A$34=\"\",\"\",D34*$I$34/$B$34)","v":""},{"$f":"IF($A$34=\"\",\"\",VLOOKUP($A$34,CalTab!$A$3:$G$980,5,TRUE))","v":""},{"$f":"IF($A$34=\"\",\"\",VLOOKUP($A$34,CalTab!$A$3:$G$980,6,TRUE))","v":""},{"$f":"IF($A$34=\"\",\"\",VLOOKUP($A$34,CalTab!$A$3:$G$980,7,TRUE))","v":""},{"$f":"IF($A$34=\"\",\"\",H34*$I$34/$B$34)","v":""}]
[null,{"$f":"IF($A$35=\"\",\"\",VLOOKUP($A$35,CalTab!$A$3:$G$980,2,TRUE))","v":""},{"$f":"IF($A$35=\"\",\"\",VLOOKUP($A$35,CalTab!$A$3:$G$980,3,TRUE))","v":""},{"$f":"IF($A$35=\"\",\"\",VLOOKUP($A$35,CalTab!$A$3:$H$980,4,TRUE))","v":""},{"$f":"IF($A$35=\"\",\"\",VLOOKUP($A$35,CalTab!$A$3:$H$980,5,TRUE))","v":""},{"$f":"IF($A$35=\"\",\"\",VLOOKUP($A$35,CalTab!$A$3:$H$980,6,TRUE))","v":""},{"$f":"IF($A$35=\"\",\"\",VLOOKUP($A$35,CalTab!$A$3:$H$980,7,TRUE))","v":""},{"$f":"IF($A$35=\"\",\"\",VLOOKUP($A$35,CalTab!$A$3:$H$980,8,TRUE))","v":""},null,{"$f":"IF($A$35=\"\",\"\",VLOOKUP($A$35,CalTab!$A$3:$G$980,3,TRUE))","v":""},{"$f":"IF($A$35=\"\",\"\",D35*$I$35/$B$35)","v":""},{"$f":"IF($A$35=\"\",\"\",VLOOKUP($A$35,CalTab!$A$3:$G$980,5,TRUE))","v":""},{"$f":"IF($A$35=\"\",\"\",VLOOKUP($A$35,CalTab!$A$3:$G$980,6,TRUE))","v":""},{"$f":"IF($A$35=\"\",\"\",VLOOKUP($A$35,CalTab!$A$3:$G$980,7,TRUE))","v":""},{"$f":"IF($A$35=\"\",\"\",H35*$I$35/$B$35)","v":""}]
[null,{"$f":"IF($A$36=\"\",\"\",VLOOKUP($A$36,CalTab!$A$3:$G$980,2,TRUE))","v":""},{"$f":"IF($A$36=\"\",\"\",VLOOKUP($A$36,CalTab!$A$3:$G$980,3,TRUE))","v":""},{"$f":"IF($A$36=\"\",\"\",VLOOKUP($A$36,CalTab!$A$3:$H$980,4,TRUE))","v":""},{"$f":"IF($A$36=\"\",\"\",VLOOKUP($A$36,CalTab!$A$3:$H$980,5,TRUE))","v":""},{"$f":"IF($A$36=\"\",\"\",VLOOKUP($A$36,CalTab!$A$3:$H$980,6,TRUE))","v":""},{"$f":"IF($A$36=\"\",\"\",VLOOKUP($A$36,CalTab!$A$3:$H$980,7,TRUE))","v":""},{"$f":"IF($A$36=\"\",\"\",VLOOKUP($A$36,CalTab!$A$3:$H$980,8,TRUE))","v":""},null,{"$f":"IF($A$36=\"\",\"\",VLOOKUP($A$36,CalTab!$A$3:$G$980,3,TRUE))","v":""},{"$f":"IF($A$36=\"\",\"\",D36*$I$36/$B$36)","v":""},{"$f":"IF($A$36=\"\",\"\",VLOOKUP($A$36,CalTab!$A$3:$G$980,5,TRUE))","v":""},{"$f":"IF($A$36=\"\",\"\",VLOOKUP($A$36,CalTab!$A$3:$G$980,6,TRUE))","v":""},{"$f":"IF($A$36=\"\",\"\",VLOOKUP($A$36,CalTab!$A$3:$G$980,7,TRUE))","v":""},{"$f":"IF($A$36=\"\",\"\",H36*$I$36/$B$36)","v":""}]
[null,{"$f":"IF($A$37=\"\",\"\",VLOOKUP($A$37,CalTab!$A$3:$G$980,2,TRUE))","v":""},{"$f":"IF($A$37=\"\",\"\",VLOOKUP($A$37,CalTab!$A$3:$G$980,3,TRUE))","v":""},{"$f":"IF($A$37=\"\",\"\",VLOOKUP($A$37,CalTab!$A$3:$H$980,4,TRUE))","v":""},{"$f":"IF($A$37=\"\",\"\",VLOOKUP($A$37,CalTab!$A$3:$H$980,5,TRUE))","v":""},{"$f":"IF($A$37=\"\",\"\",VLOOKUP($A$37,CalTab!$A$3:$H$980,6,TRUE))","v":""},{"$f":"IF($A$37=\"\",\"\",VLOOKUP($A$37,CalTab!$A$3:$H$980,7,TRUE))","v":""},{"$f":"IF($A$37=\"\",\"\",VLOOKUP($A$37,CalTab!$A$3:$H$980,8,TRUE))","v":""},null,{"$f":"IF($A$37=\"\",\"\",VLOOKUP($A$37,CalTab!$A$3:$G$980,3,TRUE))","v":""},{"$f":"IF($A$37=\"\",\"\",D37*$I$37/$B$37)","v":""},{"$f":"IF($A$37=\"\",\"\",VLOOKUP($A$37,CalTab!$A$3:$G$980,5,TRUE))","v":""},{"$f":"IF($A$37=\"\",\"\",VLOOKUP($A$37,CalTab!$A$3:$G$980,6,TRUE))","v":""},{"$f":"IF($A$37=\"\",\"\",VLOOKUP($A$37,CalTab!$A$3:$G$980,7,TRUE))","v":""},{"$f":"IF($A$37=\"\",\"\",H37*$I$37/$B$37)","v":""}]
[null,{"$f":"IF($A$38=\"\",\"\",VLOOKUP($A$38,CalTab!$A$3:$G$980,2,TRUE))","v":""},{"$f":"IF($A$38=\"\",\"\",VLOOKUP($A$38,CalTab!$A$3:$G$980,3,TRUE))","v":""},{"$f":"IF($A$38=\"\",\"\",VLOOKUP($A$38,CalTab!$A$3:$H$980,4,TRUE))","v":""},{"$f":"IF($A$38=\"\",\"\",VLOOKUP($A$38,CalTab!$A$3:$H$980,5,TRUE))","v":""},{"$f":"IF($A$38=\"\",\"\",VLOOKUP($A$38,CalTab!$A$3:$H$980,6,TRUE))","v":""},{"$f":"IF($A$38=\"\",\"\",VLOOKUP($A$38,CalTab!$A$3:$H$980,7,TRUE))","v":""},{"$f":"IF($A$38=\"\",\"\",VLOOKUP($A$38,CalTab!$A$3:$H$980,8,TRUE))","v":""},null,{"$f":"IF($A$38=\"\",\"\",VLOOKUP($A$38,CalTab!$A$3:$G$980,3,TRUE))","v":""},{"$f":"IF($A$38=\"\",\"\",D38*$I$38/$B$38)","v":""},{"$f":"IF($A$38=\"\",\"\",VLOOKUP($A$38,CalTab!$A$3:$G$980,5,TRUE))","v":""},{"$f":"IF($A$38=\"\",\"\",VLOOKUP($A$38,CalTab!$A$3:$G$980,6,TRUE))","v":""},{"$f":"IF($A$38=\"\",\"\",VLOOKUP($A$38,CalTab!$A$3:$G$980,7,TRUE))","v":""},{"$f":"IF($A$38=\"\",\"\",H38*$I$38/$B$38)","v":""}]
[null,{"$f":"IF($A$39=\"\",\"\",VLOOKUP($A$39,CalTab!$A$3:$G$980,2,TRUE))","v":""},{"$f":"IF($A$39=\"\",\"\",VLOOKUP($A$39,CalTab!$A$3:$G$980,3,TRUE))","v":""},{"$f":"IF($A$39=\"\",\"\",VLOOKUP($A$39,CalTab!$A$3:$H$980,4,TRUE))","v":""},{"$f":"IF($A$39=\"\",\"\",VLOOKUP($A$39,CalTab!$A$3:$H$980,5,TRUE))","v":""},{"$f":"IF($A$39=\"\",\"\",VLOOKUP($A$39,CalTab!$A$3:$H$980,6,TRUE))","v":""},{"$f":"IF($A$39=\"\",\"\",VLOOKUP($A$39,CalTab!$A$3:$H$980,7,TRUE))","v":""},{"$f":"IF($A$39=\"\",\"\",VLOOKUP($A$39,CalTab!$A$3:$H$980,8,TRUE))","v":""},null,{"$f":"IF($A$39=\"\",\"\",VLOOKUP($A$39,CalTab!$A$3:$G$980,3,TRUE))","v":""},{"$f":"IF($A$39=\"\",\"\",D39*$I$39/$B$39)","v":""},{"$f":"IF($A$39=\"\",\"\",VLOOKUP($A$39,CalTab!$A$3:$G$980,5,TRUE))","v":""},{"$f":"IF($A$39=\"\",\"\",VLOOKUP($A$39,CalTab!$A$3:$G$980,6,TRUE))","v":""},{"$f":"IF($A$39=\"\",\"\",VLOOKUP($A$39,CalTab!$A$3:$G$980,7,TRUE))","v":""},{"$f":"IF($A$39=\"\",\"\",H39*$I$39/$B$39)","v":""}]
[null,{"$f":"IF($A$40=\"\",\"\",VLOOKUP($A$40,CalTab!$A$3:$G$980,2,TRUE))","v":""},{"$f":"IF($A$40=\"\",\"\",VLOOKUP($A$40,CalTab!$A$3:$G$980,3,TRUE))","v":""},{"$f":"IF($A$40=\"\",\"\",VLOOKUP($A$40,CalTab!$A$3:$H$980,4,TRUE))","v":""},{"$f":"IF($A$40=\"\",\"\",VLOOKUP($A$40,CalTab!$A$3:$H$980,5,TRUE))","v":""},{"$f":"IF($A$40=\"\",\"\",VLOOKUP($A$40,CalTab!$A$3:$H$980,6,TRUE))","v":""},{"$f":"IF($A$40=\"\",\"\",VLOOKUP($A$40,CalTab!$A$3:$H$980,7,TRUE))","v":""},{"$f":"IF($A$40=\"\",\"\",VLOOKUP($A$40,CalTab!$A$3:$H$980,8,TRUE))","v":""},null,{"$f":"IF($A$40=\"\",\"\",VLOOKUP($A$40,CalTab!$A$3:$G$980,3,TRUE))","v":""},{"$f":"IF($A$40=\"\",\"\",D40*$I$40/$B$40)","v":""},{"$f":"IF($A$40=\"\",\"\",VLOOKUP($A$40,CalTab!$A$3:$G$980,5,TRUE))","v":""},{"$f":"IF($A$40=\"\",\"\",VLOOKUP($A$40,CalTab!$A$3:$G$980,6,TRUE))","v":""},{"$f":"IF($A$40=\"\",\"\",VLOOKUP($A$40,CalTab!$A$3:$G$980,7,TRUE))","v":""},{"$f":"IF($A$40=\"\",\"\",H40*$I$40/$B$40)","v":""}]
[null,{"$f":"IF($A$41=\"\",\"\",VLOOKUP($A$41,CalTab!$A$3:$G$980,2,TRUE))","v":""},{"$f":"IF($A$41=\"\",\"\",VLOOKUP($A$41,CalTab!$A$3:$G$980,3,TRUE))","v":""},{"$f":"IF($A$41=\"\",\"\",VLOOKUP($A$41,CalTab!$A$3:$H$980,4,TRUE))","v":""},{"$f":"IF($A$41=\"\",\"\",VLOOKUP($A$41,CalTab!$A$3:$H$980,5,TRUE))","v":""},{"$f":"IF($A$41=\"\",\"\",VLOOKUP($A$41,CalTab!$A$3:$H$980,6,TRUE))","v":""},{"$f":"IF($A$41=\"\",\"\",VLOOKUP($A$41,CalTab!$A$3:$H$980,7,TRUE))","v":""},{"$f":"IF($A$41=\"\",\"\",VLOOKUP($A$41,CalTab!$A$3:$H$980,8,TRUE))","v":""},null,{"$f":"IF($A$41=\"\",\"\",VLOOKUP($A$41,CalTab!$A$3:$G$980,3,TRUE))","v":""},{"$f":"IF($A$41=\"\",\"\",D41*$I$341/$B$41)","v":""},{"$f":"IF($A$41=\"\",\"\",VLOOKUP($A$41,CalTab!$A$3:$G$980,5,TRUE))","v":""},{"$f":"IF($A$41=\"\",\"\",VLOOKUP($A$41,CalTab!$A$3:$G$980,6,TRUE))","v":""},{"$f":"IF($A$41=\"\",\"\",VLOOKUP($A$41,CalTab!$A$3:$G$980,7,TRUE))","v":""},{"$f":"IF($A$41=\"\",\"\",H41*$I$41/$B$41)","v":""}]
[null,{"$f":"IF($A$42=\"\",\"\",VLOOKUP($A$42,CalTab!$A$3:$G$980,2,TRUE))","v":""},{"$f":"IF($A$42=\"\",\"\",VLOOKUP($A$42,CalTab!$A$3:$G$980,3,TRUE))","v":""},{"$f":"IF($A$42=\"\",\"\",VLOOKUP($A$42,CalTab!$A$3:$H$980,3,TRUE))","v":""},{"$f":"IF($A$42=\"\",\"\",VLOOKUP($A$42,CalTab!$A$3:$H$980,5,TRUE))","v":""},{"$f":"IF($A$42=\"\",\"\",VLOOKUP($A$42,CalTab!$A$3:$H$980,6,TRUE))","v":""},{"$f":"IF($A$42=\"\",\"\",VLOOKUP($A$42,CalTab!$A$3:$H$980,7,TRUE))","v":""},{"$f":"IF($A$42=\"\",\"\",VLOOKUP($A$42,CalTab!$A$3:$H$980,8,TRUE))","v":""},null,{"$f":"IF($A$42=\"\",\"\",VLOOKUP($A$42,CalTab!$A$3:$G$980,3,TRUE))","v":""},{"$f":"IF($A$42=\"\",\"\",D42*$I$42/$B$42)","v":""},{"$f":"IF($A$42=\"\",\"\",VLOOKUP($A$42,CalTab!$A$3:$G$980,5,TRUE))","v":""},{"$f":"IF($A$42=\"\",\"\",VLOOKUP($A$42,CalTab!$A$3:$G$980,6,TRUE))","v":""},{"$f":"IF($A$42=\"\",\"\",VLOOKUP($A$42,CalTab!$A$3:$G$980,7,TRUE))","v":""},{"$f":"IF($A$42=\"\",\"\",H42*$I$42/$B$42)","v":""}]
[null,{"$f":"IF($A$43=\"\",\"\",VLOOKUP($A$43,CalTab!$A$3:$G$980,2,TRUE))","v":""},{"$f":"IF($A$43=\"\",\"\",VLOOKUP($A$43,CalTab!$A$3:$G$980,3,TRUE))","v":""},{"$f":"IF($A$43=\"\",\"\",VLOOKUP($A$43,CalTab!$A$3:$H$980,3,TRUE))","v":""},{"$f":"IF($A$43=\"\",\"\",VLOOKUP($A$43,CalTab!$A$3:$H$980,5,TRUE))","v":""},{"$f":"IF($A$43=\"\",\"\",VLOOKUP($A$43,CalTab!$A$3:$H$980,6,TRUE))","v":""},{"$f":"IF($A$43=\"\",\"\",VLOOKUP($A$43,CalTab!$A$3:$H$980,7,TRUE))","v":""},{"$f":"IF($A$43=\"\",\"\",VLOOKUP($A$43,CalTab!$A$3:$H$980,8,TRUE))","v":""},null,{"$f":"IF($A$43=\"\",\"\",VLOOKUP($A$43,CalTab!$A$3:$G$980,3,TRUE))","v":""},{"$f":"IF($A$43=\"\",\"\",D43*$I$43/$B$43)","v":""},{"$f":"IF($A$43=\"\",\"\",VLOOKUP($A$43,CalTab!$A$3:$G$980,5,TRUE))","v":""},{"$f":"IF($A$43=\"\",\"\",VLOOKUP($A$43,CalTab!$A$3:$G$980,6,TRUE))","v":""},{"$f":"IF($A$43=\"\",\"\",VLOOKUP($A$43,CalTab!$A$3:$G$980,7,TRUE))","v":""},{"$f":"IF($A$43=\"\",\"\",H43*$I$43/$B$43)","v":""}]
[null,{"$f":"IF($A$44=\"\",\"\",VLOOKUP($A$44,CalTab!$A$3:$G$980,2,TRUE))","v":""},{"$f":"IF($A$44=\"\",\"\",VLOOKUP($A$44,CalTab!$A$3:$G$980,3,TRUE))","v":""},{"$f":"IF($A$44=\"\",\"\",VLOOKUP($A$44,CalTab!$A$3:$H$980,3,TRUE))","v":""},{"$f":"IF($A$44=\"\",\"\",VLOOKUP($A$44,CalTab!$A$3:$H$980,5,TRUE))","v":""},{"$f":"IF($A$44=\"\",\"\",VLOOKUP($A$44,CalTab!$A$3:$H$980,6,TRUE))","v":""},{"$f":"IF($A$44=\"\",\"\",VLOOKUP($A$44,CalTab!$A$3:$H$980,7,TRUE))","v":""},{"$f":"IF($A$44=\"\",\"\",VLOOKUP($A$44,CalTab!$A$3:$H$980,8,TRUE))","v":""},null,{"$f":"IF($A$44=\"\",\"\",VLOOKUP($A$44,CalTab!$A$3:$G$980,3,TRUE))","v":""},{"$f":"IF($A$44=\"\",\"\",D44*$I$44/$B$44)","v":""},{"$f":"IF($A$44=\"\",\"\",VLOOKUP($A$44,CalTab!$A$3:$G$980,5,TRUE))","v":""},{"$f":"IF($A$44=\"\",\"\",VLOOKUP($A$44,CalTab!$A$3:$G$980,6,TRUE))","v":""},{"$f":"IF($A$44=\"\",\"\",VLOOKUP($A$44,CalTab!$A$3:$G$980,7,TRUE))","v":""},{"$f":"IF($A$44=\"\",\"\",H44*$I$44/$B$44)","v":""}]
[null,{"$f":"IF($A$45=\"\",\"\",VLOOKUP($A$45,CalTab!$A$3:$G$980,2,TRUE))","v":""},{"$f":"IF($A$45=\"\",\"\",VLOOKUP($A$45,CalTab!$A$3:$G$980,3,TRUE))","v":""},{"$f":"IF($A$45=\"\",\"\",VLOOKUP($A$45,CalTab!$A$3:$H$980,3,TRUE))","v":""},{"$f":"IF($A$45=\"\",\"\",VLOOKUP($A$45,CalTab!$A$3:$H$980,5,TRUE))","v":""},{"$f":"IF($A$45=\"\",\"\",VLOOKUP($A$45,CalTab!$A$3:$H$980,6,TRUE))","v":""},{"$f":"IF($A$45=\"\",\"\",VLOOKUP($A$45,CalTab!$A$3:$H$980,7,TRUE))","v":""},{"$f":"IF($A$45=\"\",\"\",VLOOKUP($A$45,CalTab!$A$3:$H$980,8,TRUE))","v":""},null,{"$f":"IF($A$45=\"\",\"\",VLOOKUP($A$45,CalTab!$A$3:$G$980,3,TRUE))","v":""},{"$f":"IF($A$45=\"\",\"\",D45*$I$45/$B$45)","v":""},{"$f":"IF($A$45=\"\",\"\",VLOOKUP($A$45,CalTab!$A$3:$G$980,5,TRUE))","v":""},{"$f":"IF($A$45=\"\",\"\",VLOOKUP($A$45,CalTab!$A$3:$G$980,6,TRUE))","v":""},{"$f":"IF($A$45=\"\",\"\",VLOOKUP($A$45,CalTab!$A$3:$G$980,7,TRUE))","v":""},{"$f":"IF($A$45=\"\",\"\",H45*$I$45/$B$45)","v":""}]
[null,{"$f":"IF($A$46=\"\",\"\",VLOOKUP($A$46,CalTab!$A$3:$G$980,2,TRUE))","v":""},{"$f":"IF($A$46=\"\",\"\",VLOOKUP($A$46,CalTab!$A$3:$G$980,3,TRUE))","v":""},{"$f":"IF($A$46=\"\",\"\",VLOOKUP($A$46,CalTab!$A$3:$H$980,3,TRUE))","v":""},{"$f":"IF($A$46=\"\",\"\",VLOOKUP($A$46,CalTab!$A$3:$H$980,5,TRUE))","v":""},{"$f":"IF($A$46=\"\",\"\",VLOOKUP($A$46,CalTab!$A$3:$H$980,6,TRUE))","v":""},{"$f":"IF($A$46=\"\",\"\",VLOOKUP($A$46,CalTab!$A$3:$H$980,7,TRUE))","v":""},{"$f":"IF($A$46=\"\",\"\",VLOOKUP($A$46,CalTab!$A$3:$H$980,8,TRUE))","v":""},null,{"$f":"IF($A$46=\"\",\"\",VLOOKUP($A$46,CalTab!$A$3:$G$980,3,TRUE))","v":""},{"$f":"IF($A$46=\"\",\"\",D46*$I$46/$B$46)","v":""},{"$f":"IF($A$46=\"\",\"\",VLOOKUP($A$46,CalTab!$A$3:$G$980,5,TRUE))","v":""},{"$f":"IF($A$46=\"\",\"\",VLOOKUP($A$46,CalTab!$A$3:$G$980,6,TRUE))","v":""},{"$f":"IF($A$46=\"\",\"\",VLOOKUP($A$46,CalTab!$A$3:$G$980,7,TRUE))","v":""},{"$f":"IF($A$46=\"\",\"\",H46*$I$46/$B$46)","v":""}]
[null,{"$f":"IF($A$47=\"\",\"\",VLOOKUP($A$47,CalTab!$A$3:$G$980,2,TRUE))","v":""},{"$f":"IF($A$47=\"\",\"\",VLOOKUP($A$47,CalTab!$A$3:$G$980,3,TRUE))","v":""},{"$f":"IF($A$47=\"\",\"\",VLOOKUP($A$47,CalTab!$A$3:$H$980,3,TRUE))","v":""},{"$f":"IF($A$47=\"\",\"\",VLOOKUP($A$47,CalTab!$A$3:$H$980,5,TRUE))","v":""},{"$f":"IF($A$47=\"\",\"\",VLOOKUP($A$47,CalTab!$A$3:$H$980,6,TRUE))","v":""},{"$f":"IF($A$47=\"\",\"\",VLOOKUP($A$47,CalTab!$A$3:$H$980,7,TRUE))","v":""},{"$f":"IF($A$47=\"\",\"\",VLOOKUP($A$47,CalTab!$A$3:$H$980,8,TRUE))","v":""},null,{"$f":"IF($A$47=\"\",\"\",VLOOKUP($A$47,CalTab!$A$3:$G$980,3,TRUE))","v":""},{"$f":"IF($A$47=\"\",\"\",D47*$I$47/$B$47)","v":""},{"$f":"IF($A$47=\"\",\"\",VLOOKUP($A$47,CalTab!$A$3:$G$980,5,TRUE))","v":""},{"$f":"IF($A$47=\"\",\"\",VLOOKUP($A$47,CalTab!$A$3:$G$980,6,TRUE))","v":""},{"$f":"IF($A$47=\"\",\"\",VLOOKUP($A$47,CalTab!$A$3:$G$980,7,TRUE))","v":""},{"$f":"IF($A$47=\"\",\"\",H47*$I$47/$B$47)","v":""}]
[null,{"$f":"IF($A$48=\"\",\"\",VLOOKUP($A$48,CalTab!$A$3:$G$980,2,TRUE))","v":""},{"$f":"IF($A$48=\"\",\"\",VLOOKUP($A$48,CalTab!$A$3:$G$980,3,TRUE))","v":""},{"$f":"IF($A$48=\"\",\"\",VLOOKUP($A$48,CalTab!$A$3:$H$980,3,TRUE))","v":""},{"$f":"IF($A$48=\"\",\"\",VLOOKUP($A$48,CalTab!$A$3:$H$980,5,TRUE))","v":""},{"$f":"IF($A$48=\"\",\"\",VLOOKUP($A$48,CalTab!$A$3:$H$980,6,TRUE))","v":""},{"$f":"IF($A$48=\"\",\"\",VLOOKUP($A$48,CalTab!$A$3:$H$980,7,TRUE))","v":""},{"$f":"IF($A$48=\"\",\"\",VLOOKUP($A$48,CalTab!$A$3:$H$980,8,TRUE))","v":""},null,{"$f":"IF($A$48=\"\",\"\",VLOOKUP($A$48,CalTab!$A$3:$G$980,3,TRUE))","v":""},{"$f":"IF($A$48=\"\",\"\",D48*$I$48/$B$48)","v":""},{"$f":"IF($A$48=\"\",\"\",VLOOKUP($A$48,CalTab!$A$3:$G$980,5,TRUE))","v":""},{"$f":"IF($A$48=\"\",\"\",VLOOKUP($A$48,CalTab!$A$3:$G$980,6,TRUE))","v":""},{"$f":"IF($A$48=\"\",\"\",VLOOKUP($A$48,CalTab!$A$3:$G$980,7,TRUE))","v":""},{"$f":"IF($A$48=\"\",\"\",H48*$I$48/$B$48)","v":""}]
[null,{"$f":"IF($A$49=\"\",\"\",VLOOKUP($A$49,CalTab!$A$3:$G$980,2,TRUE))","v":""},{"$f":"IF($A$49=\"\",\"\",VLOOKUP($A$49,CalTab!$A$3:$G$980,3,TRUE))","v":""},{"$f":"IF($A$49=\"\",\"\",VLOOKUP($A$49,CalTab!$A$3:$H$980,3,TRUE))","v":""},{"$f":"IF($A$49=\"\",\"\",VLOOKUP($A$49,CalTab!$A$3:$H$980,5,TRUE))","v":""},{"$f":"IF($A$49=\"\",\"\",VLOOKUP($A$49,CalTab!$A$3:$H$980,6,TRUE))","v":""},{"$f":"IF($A$49=\"\",\"\",VLOOKUP($A$49,CalTab!$A$3:$H$980,7,TRUE))","v":""},{"$f":"IF($A$49=\"\",\"\",VLOOKUP($A$49,CalTab!$A$3:$H$980,8,TRUE))","v":""},null,{"$f":"IF($A$49=\"\",\"\",VLOOKUP($A$49,CalTab!$A$3:$G$980,3,TRUE))","v":""},{"$f":"IF($A$49=\"\",\"\",D49*$I$49/$B$49)","v":""},{"$f":"IF($A$49=\"\",\"\",VLOOKUP($A$49,CalTab!$A$3:$G$980,5,TRUE))","v":""},{"$f":"IF($A$49=\"\",\"\",VLOOKUP($A$49,CalTab!$A$3:$G$980,6,TRUE))","v":""},{"$f":"IF($A$49=\"\",\"\",VLOOKUP($A$49,CalTab!$A$3:$G$980,7,TRUE))","v":""},{"$f":"IF($A$49=\"\",\"\",H49*$I$49/$B$49)","v":""}]
[null,{"$f":"IF($A$50=\"\",\"\",VLOOKUP($A$50,CalTab!$A$3:$G$980,2,TRUE))","v":""},{"$f":"IF($A$50=\"\",\"\",VLOOKUP($A$50,CalTab!$A$3:$G$980,3,TRUE))","v":""},{"$f":"IF($A$50=\"\",\"\",VLOOKUP($A$50,CalTab!$A$3:$H$980,3,TRUE))","v":""},{"$f":"IF($A$50=\"\",\"\",VLOOKUP($A$50,CalTab!$A$3:$H$980,5,TRUE))","v":""},{"$f":"IF($A$50=\"\",\"\",VLOOKUP($A$50,CalTab!$A$3:$H$980,6,TRUE))","v":""},{"$f":"IF($A$50=\"\",\"\",VLOOKUP($A$50,CalTab!$A$3:$H$980,7,TRUE))","v":""},{"$f":"IF($A$50=\"\",\"\",VLOOKUP($A$50,CalTab!$A$3:$H$980,8,TRUE))","v":""},null,{"$f":"IF($A$50=\"\",\"\",VLOOKUP($A$50,CalTab!$A$3:$G$980,3,TRUE))","v":""},{"$f":"IF($A$50=\"\",\"\",D50*$I$50/$B$50)","v":""},{"$f":"IF($A$50=\"\",\"\",VLOOKUP($A$50,CalTab!$A$3:$G$980,5,TRUE))","v":""},{"$f":"IF($A$50=\"\",\"\",VLOOKUP($A$50,CalTab!$A$3:$G$980,6,TRUE))","v":""},{"$f":"IF($A$50=\"\",\"\",VLOOKUP($A$50,CalTab!$A$3:$G$980,7,TRUE))","v":""},{"$f":"IF($A$50=\"\",\"\",H50*$I$50/$B$50)","v":""}]
[null,{"$f":"IF($A$51=\"\",\"\",VLOOKUP($A$51,CalTab!$A$3:$G$980,2,TRUE))","v":""},{"$f":"IF($A$51=\"\",\"\",VLOOKUP($A$51,CalTab!$A$3:$G$980,3,TRUE))","v":""},{"$f":"IF($A$51=\"\",\"\",VLOOKUP($A$51,CalTab!$A$3:$H$980,3,TRUE))","v":""},{"$f":"IF($A$51=\"\",\"\",VLOOKUP($A$51,CalTab!$A$3:$H$980,5,TRUE))","v":""},{"$f":"IF($A$51=\"\",\"\",VLOOKUP($A$51,CalTab!$A$3:$H$980,6,TRUE))","v":""},{"$f":"IF($A$51=\"\",\"\",VLOOKUP($A$51,CalTab!$A$3:$H$980,7,TRUE))","v":""},{"$f":"IF($A$51=\"\",\"\",VLOOKUP($A$51,CalTab!$A$3:$H$980,8,TRUE))","v":""},null,{"$f":"IF($A$51=\"\",\"\",VLOOKUP($A$51,CalTab!$A$3:$G$980,3,TRUE))","v":""},{"$f":"IF($A$51=\"\",\"\",D51*$I$51/$B$51)","v":""},{"$f":"IF($A$51=\"\",\"\",VLOOKUP($A$51,CalTab!$A$3:$G$980,5,TRUE))","v":""},{"$f":"IF($A$51=\"\",\"\",VLOOKUP($A$51,CalTab!$A$3:$G$980,6,TRUE))","v":""},{"$f":"IF($A$51=\"\",\"\",VLOOKUP($A$51,CalTab!$A$3:$G$980,7,TRUE))","v":""},{"$f":"IF($A$51=\"\",\"\",H51*$I$51/$B$51)","v":""}]
[null,{"$f":"IF($A$52=\"\",\"\",VLOOKUP($A$52,CalTab!$A$3:$G$980,2,TRUE))","v":""},{"$f":"IF($A$52=\"\",\"\",VLOOKUP($A$52,CalTab!$A$3:$G$980,3,TRUE))","v":""},{"$f":"IF($A$52=\"\",\"\",VLOOKUP($A$52,CalTab!$A$3:$H$980,3,TRUE))","v":""},{"$f":"IF($A$52=\"\",\"\",VLOOKUP($A$52,CalTab!$A$3:$H$980,5,TRUE))","v":""},{"$f":"IF($A$52=\"\",\"\",VLOOKUP($A$52,CalTab!$A$3:$H$980,6,TRUE))","v":""},{"$f":"IF($A$52=\"\",\"\",VLOOKUP($A$52,CalTab!$A$3:$H$980,7,TRUE))","v":""},{"$f":"IF($A$52=\"\",\"\",VLOOKUP($A$52,CalTab!$A$3:$H$980,8,TRUE))","v":""},null,{"$f":"IF($A$52=\"\",\"\",VLOOKUP($A$52,CalTab!$A$3:$G$980,3,TRUE))","v":""},{"$f":"IF($A$52=\"\",\"\",D52*$I$52/$B$52)","v":""},{"$f":"IF($A$52=\"\",\"\",VLOOKUP($A$52,CalTab!$A$3:$G$980,5,TRUE))","v":""},{"$f":"IF($A$52=\"\",\"\",VLOOKUP($A$52,CalTab!$A$3:$G$980,6,TRUE))","v":""},{"$f":"IF($A$52=\"\",\"\",VLOOKUP($A$52,CalTab!$A$3:$G$980,7,TRUE))","v":""},{"$f":"IF($A$52=\"\",\"\",H52*$I$52/$B$52)","v":""}]
[null,{"$f":"IF($A$53=\"\",\"\",VLOOKUP($A$53,CalTab!$A$3:$G$980,2,TRUE))","v":""},{"$f":"IF($A$53=\"\",\"\",VLOOKUP($A$53,CalTab!$A$3:$G$980,3,TRUE))","v":""},{"$f":"IF($A$53=\"\",\"\",VLOOKUP($A$53,CalTab!$A$3:$H$980,3,TRUE))","v":""},{"$f":"IF($A$53=\"\",\"\",VLOOKUP($A$53,CalTab!$A$3:$H$980,5,TRUE))","v":""},{"$f":"IF($A$53=\"\",\"\",VLOOKUP($A$53,CalTab!$A$3:$H$980,6,TRUE))","v":""},{"$f":"IF($A$53=\"\",\"\",VLOOKUP($A$53,CalTab!$A$3:$H$980,7,TRUE))","v":""},{"$f":"IF($A$53=\"\",\"\",VLOOKUP($A$53,CalTab!$A$3:$H$980,8,TRUE))","v":""},null,{"$f":"IF($A$53=\"\",\"\",VLOOKUP($A$53,CalTab!$A$3:$G$980,3,TRUE))","v":""},{"$f":"IF($A$53=\"\",\"\",D53*$I$53/$B$53)","v":""},{"$f":"IF($A$53=\"\",\"\",VLOOKUP($A$53,CalTab!$A$3:$G$980,5,TRUE))","v":""},{"$f":"IF($A$53=\"\",\"\",VLOOKUP($A$53,CalTab!$A$3:$G$980,6,TRUE))","v":""},{"$f":"IF($A$53=\"\",\"\",VLOOKUP($A$53,CalTab!$A$3:$G$980,7,TRUE))","v":""},{"$f":"IF($A$53=\"\",\"\",H53*$I$53/$B$53)","v":""}]
[null,{"$f":"IF($A$54=\"\",\"\",VLOOKUP($A$54,CalTab!$A$3:$G$980,2,TRUE))","v":""},{"$f":"IF($A$54=\"\",\"\",VLOOKUP($A$54,CalTab!$A$3:$G$980,3,TRUE))","v":""},{"$f":"IF($A$54=\"\",\"\",VLOOKUP($A$54,CalTab!$A$3:$H$980,3,TRUE))","v":""},{"$f":"IF($A$54=\"\",\"\",VLOOKUP($A$54,CalTab!$A$3:$H$980,5,TRUE))","v":""},{"$f":"IF($A$54=\"\",\"\",VLOOKUP($A$54,CalTab!$A$3:$H$980,6,TRUE))","v":""},{"$f":"IF($A$54=\"\",\"\",VLOOKUP($A$54,CalTab!$A$3:$H$980,7,TRUE))","v":""},{"$f":"IF($A$54=\"\",\"\",VLOOKUP($A$54,CalTab!$A$3:$H$980,8,TRUE))","v":""},null,{"$f":"IF($A$54=\"\",\"\",VLOOKUP($A$54,CalTab!$A$3:$G$980,3,TRUE))","v":""},{"$f":"IF($A$54=\"\",\"\",D54*$I$54/$B$54)","v":""},{"$f":"IF($A$54=\"\",\"\",VLOOKUP($A$54,CalTab!$A$3:$G$980,5,TRUE))","v":""},{"$f":"IF($A$54=\"\",\"\",VLOOKUP($A$54,CalTab!$A$3:$G$980,6,TRUE))","v":""},{"$f":"IF($A$54=\"\",\"\",VLOOKUP($A$54,CalTab!$A$3:$G$980,7,TRUE))","v":""},{"$f":"IF($A$54=\"\",\"\",H54*$I$54/$B$54)","v":""}]